This page was generated on 2020-04-15 03:20:16 -0400 (Wed, 15 Apr 2020).
| tokay2 |
Windows Server 2012 R2 Standard / x64 | | | | |
|
| affxparser 1.59.0 | Kasper Daniel Hansen | OK | OK | WARNINGS | OK |
| affy 1.65.1 | Rafael A. Irizarry | OK | ERROR | skipped | skipped |
| affyio 1.57.0 | Ben Bolstad | OK | OK | WARNINGS | OK |
| annotate 1.65.1 | Bioconductor Package Maintainer | OK | OK | OK | OK |
| AnnotationDbi 1.49.1 | Bioconductor Package Maintainer | OK | OK | OK | OK |
| AnnotationFilter 1.11.0 | Bioconductor Package Maintainer | OK | OK | OK | OK |
| AnnotationForge 1.29.3 | Bioconductor Package Maintainer | OK | OK | OK | OK |
| AnnotationHub 2.19.9 | Bioconductor Package Maintainer | OK | OK | WARNINGS | OK |
| apeglm 1.9.1 | Anqi Zhu | OK | OK | OK | OK |
| basilisk 0.99.61 | Aaron Lun | OK | OK | ERROR | OK |
| basilisk.utils 0.99.10 | Aaron Lun | OK | OK | OK | OK |
| beachmat 2.3.2 | Aaron Lun | OK | OK | OK | OK |
| Biobase 2.47.3 | Bioconductor Package Maintainer | OK | OK | OK | OK |
| BiocFileCache 1.11.5 | Lori Shepherd | OK | OK | OK | OK |
| BiocGenerics 0.33.3 | Bioconductor Package Maintainer | OK | OK | ERROR | OK |
| BiocNeighbors 1.5.4 | Aaron Lun | OK | OK | OK | OK |
| BiocParallel 1.21.2 | Bioconductor Package Maintainer | OK | OK | WARNINGS | OK |
| BiocStyle 2.15.6 | Bioconductor Package Maintainer | OK | OK | OK | OK |
| BiocVersion 3.11.1 | Bioconductor Package Maintainer | OK | OK | OK | OK |
| biomaRt 2.43.5 | Mike Smith | OK | OK | OK | OK |
| Biostrings 2.55.7 | H. Pagès | OK | OK | WARNINGS | OK |
| biovizBase 1.35.1 | Michael Lawrence | OK | ERROR | skipped | skipped |
| BSgenome 1.55.4 | H. Pagès | OK | ERROR | skipped | skipped |
| csaw 1.21.4 | Aaron Lun | OK | OK | OK | OK |
| cytolib 1.99.27 | Mike Jiang | ERROR | ERROR | skipped | skipped |
| DelayedArray 0.13.12 | Hervé Pagès | OK | OK | WARNINGS | OK |
| DelayedMatrixStats 1.9.1 | Peter Hickey | OK | ERROR | skipped | skipped |
DESeq 1.39.3 | Simon Anders | OK | ERROR | skipped | skipped |
| DESeq2 1.27.31 | Michael Love | OK | OK | OK | OK |
| DEXSeq 1.33.1 | Alejandro Reyes | OK | OK | OK | OK |
| DynDoc 1.65.0 | Bioconductor Package Maintainer | OK | OK | OK | OK |
| edgeR 3.29.1 | Yunshun Chen , Aaron Lun , Mark Robinson , Gordon Smyth | OK | ERROR | skipped | skipped |
| ensembldb 2.11.3 | Johannes Rainer | OK | OK | OK | OK |
| ExperimentHub 1.13.5 | Bioconductor Package Maintainer | OK | OK | OK | OK |
| fishpond 1.3.15 | Michael Love | OK | OK | OK | OK |
| flowCore 1.99.20 | Mike Jiang | ERROR | ERROR | skipped | skipped |
| gdsfmt 1.23.11 | Xiuwen Zheng | OK | OK | OK | OK |
| genefilter 1.69.0 | Bioconductor Package Maintainer | OK | OK | WARNINGS | OK |
| geneplotter 1.65.0 | Bioconductor Package Maintainer | OK | ERROR | skipped | skipped |
| GenomeInfoDb 1.23.17 | Bioconductor Package Maintainer | OK | OK | WARNINGS | OK |
| GenomicAlignments 1.23.2 | Bioconductor Package Maintainer | OK | OK | WARNINGS | OK |
| GenomicFeatures 1.39.7 | Bioconductor Package Maintainer | OK | ERROR | skipped | skipped |
| GenomicRanges 1.39.3 | Bioconductor Package Maintainer | OK | OK | WARNINGS | OK |
| ggbio 1.35.2 | Michael Lawrence | OK | ERROR | skipped | skipped |
| graph 1.65.3 | Bioconductor Package Maintainer | OK | ERROR | skipped | skipped |
| Gviz 1.31.12 | Robert Ivanek | OK | OK | OK | OK |
| HDF5Array 1.15.18 | Hervé Pagès | OK | OK | WARNINGS | OK |
| illuminaio 0.29.0 | Kasper Daniel Hansen | OK | ERROR | skipped | skipped |
| impute 1.61.0 | Balasubramanian Narasimhan | OK | OK | OK | OK |
| interactiveDisplayBase 1.25.0 | Shawn Balcome | OK | OK | WARNINGS | OK |
| IRanges 2.21.8 | Bioconductor Package Maintainer | OK | OK | WARNINGS | OK |
| KEGGgraph 1.47.0 | Jitao David Zhang | OK | OK | OK | OK |
| limma 3.43.8 | Gordon Smyth | OK | ERROR | skipped | skipped |
| microRNA 1.45.0 | "James F. Reid" | OK | OK | OK | OK |
| MSnbase 2.13.6 | Laurent Gatto | OK | ERROR | skipped | skipped |
| multtest 2.43.1 | Katherine S. Pollard | OK | OK | WARNINGS | OK |
| mzID 1.25.0 | Laurent Gatto | OK | OK | WARNINGS | OK |
| mzR 2.21.1 | Steffen Neumann | OK | OK | WARNINGS | OK |
nem 2.61.1 | Holger Froehlich | OK | OK | ERROR | OK |
| OrganismDbi 1.29.1 | Bioconductor Package Maintainer | OK | OK | WARNINGS | OK |
| pcaMethods 1.79.1 | Henning Redestig | OK | ERROR | skipped | skipped |
| preprocessCore 1.49.2 | Ben Bolstad | OK | OK | OK | OK |
| ProtGenerics 1.19.3 | Laurent Gatto | OK | OK | WARNINGS | OK |
| qvalue 2.19.0 | John D. Storey , Andrew J. Bass | OK | ERROR | skipped | skipped |
| RBGL 1.63.1 | Bioconductor Package Maintainer | OK | ERROR | skipped | skipped |
| rBiopaxParser 2.27.1 | Frank Kramer | OK | OK | OK | OK |
| Rgraphviz 2.31.0 | Kasper Daniel Hansen | OK | ERROR | skipped | skipped |
| rhdf5 2.31.10 | Mike Smith | OK | OK | OK | OK |
| Rhdf5lib 1.9.2 | Mike Smith | OK | OK | OK | OK |
| Rhtslib 1.19.1 | Bioconductor Package Maintainer | OK | OK | WARNINGS | OK |
| ROC 1.63.0 | Vince Carey | OK | OK | OK | OK |
| RProtoBufLib 1.99.7 | Mike Jiang | OK | OK | OK | OK |
| Rsamtools 2.3.7 | Bioconductor Package Maintainer | OK | OK | WARNINGS | OK |
| Rsubread 2.1.2 | Wei Shi , Yang Liao and Gordon K Smyth | OK | ERROR | skipped | skipped |
| rtracklayer 1.47.0 | Michael Lawrence | OK | OK | WARNINGS | OK |
| S4Vectors 0.25.15 | Bioconductor Package Maintainer | OK | OK | WARNINGS | OK |
| ShortRead 1.45.4 | Bioconductor Package Maintainer | OK | ERROR | skipped | skipped |
| SingleCellExperiment 1.9.3 | Davide Risso | OK | ERROR | skipped | skipped |
| snpStats 1.37.0 | David Clayton | OK | ERROR | skipped | skipped |
| SPIA 2.39.0 | Adi Laurentiu Tarca | OK | OK | OK | OK |
| SummarizedExperiment 1.17.5 | Bioconductor Package Maintainer | OK | OK | WARNINGS | OK |
| tkWidgets 1.65.0 | J. Zhang | OK | OK | OK | OK |
| tximeta 1.5.31 | Michael Love | OK | OK | OK | OK |
| tximport 1.15.13 | Michael Love | OK | OK | OK | OK |
| VariantAnnotation 1.33.4 | Bioconductor Package Maintainer | OK | ERROR | skipped | skipped |
| vsn 3.55.0 | Wolfgang Huber | OK | ERROR | skipped | skipped |
| widgetTools 1.65.0 | Jianhua Zhang | OK | OK | OK | OK |
| XVector 0.27.2 | Hervé Pagès | OK | OK | WARNINGS | OK |
| zlibbioc 1.33.1 | Bioconductor Package Maintainer | OK | OK | OK | OK |