| Back to "Blame Jeroen" build/check report for BioC 3.11 |
This page was generated on 2020-04-15 03:20:10 -0400 (Wed, 15 Apr 2020).
| These builds are using Rtools40 and R-testing by Jeroen Ooms (available at https://cran.r-project.org/bin/windows/testing/rtools40.html) |
| TO THE DEVELOPERS/MAINTAINERS OF THE BiocFileCache PACKAGE: Please make sure to use the following settings in order to reproduce any error or warning you see on this page. |
| Package 14/89 | Hostname | OS / Arch | INSTALL | BUILD | CHECK | BUILD BIN | |||||
| BiocFileCache 1.11.5 Lori Shepherd
| tokay2 | Windows Server 2012 R2 Standard / x64 | [ OK ] | OK | OK | OK |
| Package: BiocFileCache |
| Version: 1.11.5 |
| Command: C:\cygwin\bin\curl.exe -O https://malbec2.bioconductor.org/BBS/3.11/bioc-testing/src/contrib/BiocFileCache_1.11.5.tar.gz && rm -rf BiocFileCache.buildbin-libdir && mkdir BiocFileCache.buildbin-libdir && C:\Users\bioctesting\bbs-3.11-bioc-testing\R\bin\R.exe CMD INSTALL --merge-multiarch --build --library=BiocFileCache.buildbin-libdir BiocFileCache_1.11.5.tar.gz && C:\Users\bioctesting\bbs-3.11-bioc-testing\R\bin\R.exe CMD INSTALL BiocFileCache_1.11.5.zip && rm BiocFileCache_1.11.5.tar.gz BiocFileCache_1.11.5.zip |
| StartedAt: 2020-04-14 18:16:11 -0400 (Tue, 14 Apr 2020) |
| EndedAt: 2020-04-14 18:16:37 -0400 (Tue, 14 Apr 2020) |
| EllapsedTime: 26.1 seconds |
| RetCode: 0 |
| Status: OK |
##############################################################################
##############################################################################
###
### Running command:
###
### C:\cygwin\bin\curl.exe -O https://malbec2.bioconductor.org/BBS/3.11/bioc-testing/src/contrib/BiocFileCache_1.11.5.tar.gz && rm -rf BiocFileCache.buildbin-libdir && mkdir BiocFileCache.buildbin-libdir && C:\Users\bioctesting\bbs-3.11-bioc-testing\R\bin\R.exe CMD INSTALL --merge-multiarch --build --library=BiocFileCache.buildbin-libdir BiocFileCache_1.11.5.tar.gz && C:\Users\bioctesting\bbs-3.11-bioc-testing\R\bin\R.exe CMD INSTALL BiocFileCache_1.11.5.zip && rm BiocFileCache_1.11.5.tar.gz BiocFileCache_1.11.5.zip
###
##############################################################################
##############################################################################
% Total % Received % Xferd Average Speed Time Time Time Current
Dload Upload Total Spent Left Speed
0 0 0 0 0 0 0 0 --:--:-- --:--:-- --:--:-- 0
100 46415 100 46415 0 0 806k 0 --:--:-- --:--:-- --:--:-- 906k
install for i386
* installing *source* package 'BiocFileCache' ...
** using staged installation
** R
** inst
** byte-compile and prepare package for lazy loading
** help
*** installing help indices
converting help for package 'BiocFileCache'
finding HTML links ... done
BiocFileCache-class html
makeBiocFileCacheFromDataFrame html
makeCachedActiveBinding html
** building package indices
** installing vignettes
** testing if installed package can be loaded from temporary location
** testing if installed package can be loaded from final location
** testing if installed package keeps a record of temporary installation path
install for x64
* installing *source* package 'BiocFileCache' ...
** testing if installed package can be loaded
* MD5 sums
packaged installation of 'BiocFileCache' as BiocFileCache_1.11.5.zip
* DONE (BiocFileCache)
* installing to library 'C:/Users/bioctesting/bbs-3.11-bioc-testing/R/library'
package 'BiocFileCache' successfully unpacked and MD5 sums checked