| Back to "Blame Jeroen" build/check report for BioC 3.11 | 
This page was generated on 2020-04-15 03:20:10 -0400 (Wed, 15 Apr 2020).
| These builds are using Rtools40 and R-testing by Jeroen Ooms (available at https://cran.r-project.org/bin/windows/testing/rtools40.html) | 
| TO THE DEVELOPERS/MAINTAINERS OF THE ROC PACKAGE: Please make sure to use the following settings in order to reproduce any error or warning you see on this page. | 
| Package 71/89 | Hostname | OS / Arch | INSTALL | BUILD | CHECK | BUILD BIN | |||||
| ROC 1.63.0 Vince Carey 
 | tokay2 | Windows Server 2012 R2 Standard / x64 | OK | OK | OK | [ OK ] | 
| Package: ROC | 
| Version: 1.63.0 | 
| Command: rm -rf ROC.buildbin-libdir && mkdir ROC.buildbin-libdir && C:\Users\bioctesting\bbs-3.11-bioc-testing\R\bin\R.exe CMD INSTALL --merge-multiarch --build --library=ROC.buildbin-libdir ROC_1.63.0.tar.gz | 
| StartedAt: 2020-04-14 23:43:53 -0400 (Tue, 14 Apr 2020) | 
| EndedAt: 2020-04-14 23:44:06 -0400 (Tue, 14 Apr 2020) | 
| EllapsedTime: 13.0 seconds | 
| RetCode: 0 | 
| Status: OK | 
| PackageFile: ROC_1.63.0.zip | 
| PackageFileSize: 291.8 KiB | 
##############################################################################
##############################################################################
###
### Running command:
###
###   rm -rf ROC.buildbin-libdir && mkdir ROC.buildbin-libdir && C:\Users\bioctesting\bbs-3.11-bioc-testing\R\bin\R.exe CMD INSTALL --merge-multiarch --build --library=ROC.buildbin-libdir ROC_1.63.0.tar.gz
###
##############################################################################
##############################################################################
install for i386
* installing *source* package 'ROC' ...
** using staged installation
** libs
/mingw32/bin/g++ -std=gnu++11  -I"C:/Users/BIOCTE~1/BBS-3~1.11-/R/include" -DNDEBUG     -I"C:/extsoft/include"     -O2 -Wall  -mfpmath=sse -msse2 -mstackrealign -c ROC.cc -o ROC.o
/mingw32/bin/g++ -std=gnu++11 -shared -s -static-libgcc -o ROC.dll tmp.def ROC.o -LC:/extsoft/lib/i386 -LC:/extsoft/lib -LC:/Users/BIOCTE~1/BBS-3~1.11-/R/bin/i386 -lR
installing to C:/Users/bioctesting/bbs-3.11-bioc-testing/meat/ROC.buildbin-libdir/00LOCK-ROC/00new/ROC/libs/i386
** R
** inst
** byte-compile and prepare package for lazy loading
** help
*** installing help indices
  converting help for package 'ROC'
    finding HTML links ... done
    AUC                                     html  
    plot-methods                            html  
    rocc-class                              html  
    rocdemo.sca                             html  
    trapezint                               html  
** building package indices
** installing vignettes
** testing if installed package can be loaded from temporary location
** testing if installed package can be loaded from final location
** testing if installed package keeps a record of temporary installation path
install for x64
* installing *source* package 'ROC' ...
** libs
/mingw64/bin/g++ -std=gnu++11  -I"C:/Users/BIOCTE~1/BBS-3~1.11-/R/include" -DNDEBUG     -I"C:/extsoft/include"     -O2 -Wall  -mfpmath=sse -msse2 -mstackrealign -c ROC.cc -o ROC.o
/mingw64/bin/g++ -std=gnu++11 -shared -s -static-libgcc -o ROC.dll tmp.def ROC.o -LC:/extsoft/lib/x64 -LC:/extsoft/lib -LC:/Users/BIOCTE~1/BBS-3~1.11-/R/bin/x64 -lR
installing to C:/Users/bioctesting/bbs-3.11-bioc-testing/meat/ROC.buildbin-libdir/ROC/libs/x64
** testing if installed package can be loaded
* MD5 sums
packaged installation of 'ROC' as ROC_1.63.0.zip
* DONE (ROC)