| Back to "Blame Jeroen" build/check report for BioC 3.11 |
This page was generated on 2020-04-15 03:20:09 -0400 (Wed, 15 Apr 2020).
| These builds are using Rtools40 and R-testing by Jeroen Ooms (available at https://cran.r-project.org/bin/windows/testing/rtools40.html) |
| TO THE DEVELOPERS/MAINTAINERS OF THE DynDoc PACKAGE: Please make sure to use the following settings in order to reproduce any error or warning you see on this page. |
| Package 31/89 | Hostname | OS / Arch | INSTALL | BUILD | CHECK | BUILD BIN | |||||
| DynDoc 1.65.0 Bioconductor Package Maintainer
| tokay2 | Windows Server 2012 R2 Standard / x64 | OK | OK | OK | [ OK ] |
| Package: DynDoc |
| Version: 1.65.0 |
| Command: rm -rf DynDoc.buildbin-libdir && mkdir DynDoc.buildbin-libdir && C:\Users\bioctesting\bbs-3.11-bioc-testing\R\bin\R.exe CMD INSTALL --merge-multiarch --build --library=DynDoc.buildbin-libdir DynDoc_1.65.0.tar.gz |
| StartedAt: 2020-04-14 23:30:55 -0400 (Tue, 14 Apr 2020) |
| EndedAt: 2020-04-14 23:31:04 -0400 (Tue, 14 Apr 2020) |
| EllapsedTime: 9.1 seconds |
| RetCode: 0 |
| Status: OK |
| PackageFile: DynDoc_1.65.0.zip |
| PackageFileSize: 211 KiB |
##############################################################################
##############################################################################
###
### Running command:
###
### rm -rf DynDoc.buildbin-libdir && mkdir DynDoc.buildbin-libdir && C:\Users\bioctesting\bbs-3.11-bioc-testing\R\bin\R.exe CMD INSTALL --merge-multiarch --build --library=DynDoc.buildbin-libdir DynDoc_1.65.0.tar.gz
###
##############################################################################
##############################################################################
install for i386
* installing *source* package 'DynDoc' ...
** using staged installation
** R
** byte-compile and prepare package for lazy loading
** help
*** installing help indices
converting help for package 'DynDoc'
finding HTML links ... done
DynDoc-class html
SweaveOptions-class html
Vignette-class html
chunkList-class html
codeChunk-class html
getPkgVigList html
getVignette html
getVignetteCode html
getVignetteHeader html
tangleToR html
vignetteCode-class html
** building package indices
** testing if installed package can be loaded from temporary location
** testing if installed package can be loaded from final location
** testing if installed package keeps a record of temporary installation path
install for x64
* installing *source* package 'DynDoc' ...
** testing if installed package can be loaded
* MD5 sums
packaged installation of 'DynDoc' as DynDoc_1.65.0.zip
* DONE (DynDoc)