| Back to "Blame Jeroen" build/check report for BioC 3.11 |
This page was generated on 2020-04-15 03:20:09 -0400 (Wed, 15 Apr 2020).
| These builds are using Rtools40 and R-testing by Jeroen Ooms (available at https://cran.r-project.org/bin/windows/testing/rtools40.html) |
| TO THE DEVELOPERS/MAINTAINERS OF THE AnnotationForge PACKAGE: Please make sure to use the following settings in order to reproduce any error or warning you see on this page. |
| Package 7/89 | Hostname | OS / Arch | INSTALL | BUILD | CHECK | BUILD BIN | |||||
| AnnotationForge 1.29.3 Bioconductor Package Maintainer
| tokay2 | Windows Server 2012 R2 Standard / x64 | [ OK ] | OK | OK | OK |
| Package: AnnotationForge |
| Version: 1.29.3 |
| Command: C:\cygwin\bin\curl.exe -O https://malbec2.bioconductor.org/BBS/3.11/bioc-testing/src/contrib/AnnotationForge_1.29.3.tar.gz && rm -rf AnnotationForge.buildbin-libdir && mkdir AnnotationForge.buildbin-libdir && C:\Users\bioctesting\bbs-3.11-bioc-testing\R\bin\R.exe CMD INSTALL --merge-multiarch --build --library=AnnotationForge.buildbin-libdir AnnotationForge_1.29.3.tar.gz && C:\Users\bioctesting\bbs-3.11-bioc-testing\R\bin\R.exe CMD INSTALL AnnotationForge_1.29.3.zip && rm AnnotationForge_1.29.3.tar.gz AnnotationForge_1.29.3.zip |
| StartedAt: 2020-04-14 18:17:32 -0400 (Tue, 14 Apr 2020) |
| EndedAt: 2020-04-14 18:18:32 -0400 (Tue, 14 Apr 2020) |
| EllapsedTime: 59.7 seconds |
| RetCode: 0 |
| Status: OK |
##############################################################################
##############################################################################
###
### Running command:
###
### C:\cygwin\bin\curl.exe -O https://malbec2.bioconductor.org/BBS/3.11/bioc-testing/src/contrib/AnnotationForge_1.29.3.tar.gz && rm -rf AnnotationForge.buildbin-libdir && mkdir AnnotationForge.buildbin-libdir && C:\Users\bioctesting\bbs-3.11-bioc-testing\R\bin\R.exe CMD INSTALL --merge-multiarch --build --library=AnnotationForge.buildbin-libdir AnnotationForge_1.29.3.tar.gz && C:\Users\bioctesting\bbs-3.11-bioc-testing\R\bin\R.exe CMD INSTALL AnnotationForge_1.29.3.zip && rm AnnotationForge_1.29.3.tar.gz AnnotationForge_1.29.3.zip
###
##############################################################################
##############################################################################
% Total % Received % Xferd Average Speed Time Time Time Current
Dload Upload Total Spent Left Speed
0 0 0 0 0 0 0 0 --:--:-- --:--:-- --:--:-- 0
100 3289k 100 3289k 0 0 30.5M 0 --:--:-- --:--:-- --:--:-- 32.4M
install for i386
* installing *source* package 'AnnotationForge' ...
** using staged installation
** R
** inst
** byte-compile and prepare package for lazy loading
** help
*** installing help indices
converting help for package 'AnnotationForge'
finding HTML links ... done
AnnDbPkg-maker html
finding level-2 HTML links ... done
available.db0pkgs html
generateSeqnames_db html
getProbeDataAffy html
getProbeData_1lq html
makeChipPackageFromDataFrames html
makeInpDb html
makeOrgPackage html
makeOrgPackageFromNCBI html
makeProbePackage html
sqlForge-makeCHIPDB html
sqlForge-popDB html
sqlForge-wrapDBPackages html
** building package indices
** installing vignettes
** testing if installed package can be loaded from temporary location
** testing if installed package can be loaded from final location
** testing if installed package keeps a record of temporary installation path
install for x64
* installing *source* package 'AnnotationForge' ...
** testing if installed package can be loaded
* MD5 sums
packaged installation of 'AnnotationForge' as AnnotationForge_1.29.3.zip
* DONE (AnnotationForge)
* installing to library 'C:/Users/bioctesting/bbs-3.11-bioc-testing/R/library'
package 'AnnotationForge' successfully unpacked and MD5 sums checked