| Back to "Blame Jeroen" build/check report for BioC 3.11 |
This page was generated on 2020-04-15 03:20:15 -0400 (Wed, 15 Apr 2020).
| These builds are using Rtools40 and R-testing by Jeroen Ooms (available at https://cran.r-project.org/bin/windows/testing/rtools40.html) |
| TO THE DEVELOPERS/MAINTAINERS OF THE basilisk.utils PACKAGE: Please make sure to use the following settings in order to reproduce any error or warning you see on this page. |
| Package 11/89 | Hostname | OS / Arch | INSTALL | BUILD | CHECK | BUILD BIN | |||||
| basilisk.utils 0.99.10 Aaron Lun
| tokay2 | Windows Server 2012 R2 Standard / x64 | [ OK ] | OK | OK | OK |
| Package: basilisk.utils |
| Version: 0.99.10 |
| Command: C:\cygwin\bin\curl.exe -O https://malbec2.bioconductor.org/BBS/3.11/bioc-testing/src/contrib/basilisk.utils_0.99.10.tar.gz && rm -rf basilisk.utils.buildbin-libdir && mkdir basilisk.utils.buildbin-libdir && C:\Users\bioctesting\bbs-3.11-bioc-testing\R\bin\R.exe CMD INSTALL --merge-multiarch --build --library=basilisk.utils.buildbin-libdir basilisk.utils_0.99.10.tar.gz && C:\Users\bioctesting\bbs-3.11-bioc-testing\R\bin\R.exe CMD INSTALL basilisk.utils_0.99.10.zip && rm basilisk.utils_0.99.10.tar.gz basilisk.utils_0.99.10.zip |
| StartedAt: 2020-04-14 17:30:45 -0400 (Tue, 14 Apr 2020) |
| EndedAt: 2020-04-14 17:30:52 -0400 (Tue, 14 Apr 2020) |
| EllapsedTime: 6.5 seconds |
| RetCode: 0 |
| Status: OK |
##############################################################################
##############################################################################
###
### Running command:
###
### C:\cygwin\bin\curl.exe -O https://malbec2.bioconductor.org/BBS/3.11/bioc-testing/src/contrib/basilisk.utils_0.99.10.tar.gz && rm -rf basilisk.utils.buildbin-libdir && mkdir basilisk.utils.buildbin-libdir && C:\Users\bioctesting\bbs-3.11-bioc-testing\R\bin\R.exe CMD INSTALL --merge-multiarch --build --library=basilisk.utils.buildbin-libdir basilisk.utils_0.99.10.tar.gz && C:\Users\bioctesting\bbs-3.11-bioc-testing\R\bin\R.exe CMD INSTALL basilisk.utils_0.99.10.zip && rm basilisk.utils_0.99.10.tar.gz basilisk.utils_0.99.10.zip
###
##############################################################################
##############################################################################
% Total % Received % Xferd Average Speed Time Time Time Current
Dload Upload Total Spent Left Speed
0 0 0 0 0 0 0 0 --:--:-- --:--:-- --:--:-- 0
100 9726 100 9726 0 0 197k 0 --:--:-- --:--:-- --:--:-- 237k
install for i386
* installing *source* package 'basilisk.utils' ...
** using staged installation
** R
** byte-compile and prepare package for lazy loading
** help
*** installing help indices
converting help for package 'basilisk.utils'
finding HTML links ... done
clearExternalDir html
destroyOldVersions html
getBasiliskDir html
getBinaries html
getEnvironmentDir html
getExternalDir html
finding level-2 HTML links ... done
getLockFile html
installAnaconda html
isWindows html
useSystemDir html
** building package indices
** installing vignettes
** testing if installed package can be loaded from temporary location
** testing if installed package can be loaded from final location
** testing if installed package keeps a record of temporary installation path
install for x64
* installing *source* package 'basilisk.utils' ...
** testing if installed package can be loaded
* MD5 sums
packaged installation of 'basilisk.utils' as basilisk.utils_0.99.10.zip
* DONE (basilisk.utils)
* installing to library 'C:/Users/bioctesting/bbs-3.11-bioc-testing/R/library'
package 'basilisk.utils' successfully unpacked and MD5 sums checked