| Back to "Blame Jeroen" build/check report for BioC 3.11 |
This page was generated on 2020-04-15 03:20:11 -0400 (Wed, 15 Apr 2020).
| These builds are using Rtools40 and R-testing by Jeroen Ooms (available at https://cran.r-project.org/bin/windows/testing/rtools40.html) |
| TO THE DEVELOPERS/MAINTAINERS OF THE biomaRt PACKAGE: Please make sure to use the following settings in order to reproduce any error or warning you see on this page. |
| Package 20/89 | Hostname | OS / Arch | INSTALL | BUILD | CHECK | BUILD BIN | |||||
| biomaRt 2.43.5 Mike Smith
| tokay2 | Windows Server 2012 R2 Standard / x64 | OK | OK | OK | [ OK ] |
| Package: biomaRt |
| Version: 2.43.5 |
| Command: rm -rf biomaRt.buildbin-libdir && mkdir biomaRt.buildbin-libdir && C:\Users\bioctesting\bbs-3.11-bioc-testing\R\bin\R.exe CMD INSTALL --merge-multiarch --build --library=biomaRt.buildbin-libdir biomaRt_2.43.5.tar.gz |
| StartedAt: 2020-04-14 23:53:34 -0400 (Tue, 14 Apr 2020) |
| EndedAt: 2020-04-14 23:54:07 -0400 (Tue, 14 Apr 2020) |
| EllapsedTime: 33.3 seconds |
| RetCode: 0 |
| Status: OK |
| PackageFile: biomaRt_2.43.5.zip |
| PackageFileSize: 961.3 KiB |
##############################################################################
##############################################################################
###
### Running command:
###
### rm -rf biomaRt.buildbin-libdir && mkdir biomaRt.buildbin-libdir && C:\Users\bioctesting\bbs-3.11-bioc-testing\R\bin\R.exe CMD INSTALL --merge-multiarch --build --library=biomaRt.buildbin-libdir biomaRt_2.43.5.tar.gz
###
##############################################################################
##############################################################################
install for i386
* installing *source* package 'biomaRt' ...
** using staged installation
** R
** inst
** byte-compile and prepare package for lazy loading
** help
*** installing help indices
converting help for package 'biomaRt'
finding HTML links ... done
Mart-class html
NP2009code html
attributePages html
biomartCache html
exportFASTA html
filterOptions html
filterType html
getBM html
getBMlist html
getGene html
getLDS html
getSequence html
getXML html
listAttributes html
listDatasets html
listEnsembl html
listEnsemblArchives html
listFilterValues html
listFilters html
listMarts html
select html
useDataset html
useEnsembl html
useMart html
** building package indices
** installing vignettes
** testing if installed package can be loaded from temporary location
** testing if installed package can be loaded from final location
** testing if installed package keeps a record of temporary installation path
install for x64
* installing *source* package 'biomaRt' ...
** testing if installed package can be loaded
* MD5 sums
packaged installation of 'biomaRt' as biomaRt_2.43.5.zip
* DONE (biomaRt)