| Back to "Blame Jeroen" build/check report for BioC 3.11 |
This page was generated on 2020-04-15 03:20:14 -0400 (Wed, 15 Apr 2020).
| These builds are using Rtools40 and R-testing by Jeroen Ooms (available at https://cran.r-project.org/bin/windows/testing/rtools40.html) |
| TO THE DEVELOPERS/MAINTAINERS OF THE ensembldb PACKAGE: Please make sure to use the following settings in order to reproduce any error or warning you see on this page. |
| Package 33/89 | Hostname | OS / Arch | INSTALL | BUILD | CHECK | BUILD BIN | |||||
| ensembldb 2.11.3 Johannes Rainer
| tokay2 | Windows Server 2012 R2 Standard / x64 | OK | OK | OK | [ OK ] |
| Package: ensembldb |
| Version: 2.11.3 |
| Command: rm -rf ensembldb.buildbin-libdir && mkdir ensembldb.buildbin-libdir && C:\Users\bioctesting\bbs-3.11-bioc-testing\R\bin\R.exe CMD INSTALL --merge-multiarch --build --library=ensembldb.buildbin-libdir ensembldb_2.11.3.tar.gz |
| StartedAt: 2020-04-15 00:06:46 -0400 (Wed, 15 Apr 2020) |
| EndedAt: 2020-04-15 00:07:46 -0400 (Wed, 15 Apr 2020) |
| EllapsedTime: 59.5 seconds |
| RetCode: 0 |
| Status: OK |
| PackageFile: ensembldb_2.11.3.zip |
| PackageFileSize: 3.367 MiB |
##############################################################################
##############################################################################
###
### Running command:
###
### rm -rf ensembldb.buildbin-libdir && mkdir ensembldb.buildbin-libdir && C:\Users\bioctesting\bbs-3.11-bioc-testing\R\bin\R.exe CMD INSTALL --merge-multiarch --build --library=ensembldb.buildbin-libdir ensembldb_2.11.3.tar.gz
###
##############################################################################
##############################################################################
install for i386
* installing *source* package 'ensembldb' ...
** using staged installation
** R
** inst
** byte-compile and prepare package for lazy loading
** help
*** installing help indices
converting help for package 'ensembldb'
finding HTML links ... done
Deprecated html
EnsDb-AnnotationDbi html
EnsDb-class html
EnsDb-exonsBy html
finding level-2 HTML links ... done
EnsDb-lengths html
EnsDb-seqlevels html
EnsDb-sequences html
EnsDb-utils html
EnsDb html
Filter-classes html
ProteinFunctionality html
cdsToTranscript html
convertFilter html
genomeToProtein html
genomeToTranscript html
global-filters html
hasProteinData-EnsDb-method html
listEnsDbs html
makeEnsemblDbPackage html
proteinToGenome html
proteinToTranscript html
runEnsDbApp html
transcriptToCds html
transcriptToGenome html
transcriptToProtein html
useMySQL-EnsDb-method html
** building package indices
** installing vignettes
** testing if installed package can be loaded from temporary location
** testing if installed package can be loaded from final location
** testing if installed package keeps a record of temporary installation path
install for x64
* installing *source* package 'ensembldb' ...
** testing if installed package can be loaded
* MD5 sums
packaged installation of 'ensembldb' as ensembldb_2.11.3.zip
* DONE (ensembldb)