| Back to "Blame Jeroen" build/check report for BioC 3.11 |
This page was generated on 2020-04-15 03:20:15 -0400 (Wed, 15 Apr 2020).
| These builds are using Rtools40 and R-testing by Jeroen Ooms (available at https://cran.r-project.org/bin/windows/testing/rtools40.html) |
| TO THE DEVELOPERS/MAINTAINERS OF THE basilisk.utils PACKAGE: Please make sure to use the following settings in order to reproduce any error or warning you see on this page. |
| Package 11/89 | Hostname | OS / Arch | INSTALL | BUILD | CHECK | BUILD BIN | |||||
| basilisk.utils 0.99.10 Aaron Lun
| tokay2 | Windows Server 2012 R2 Standard / x64 | OK | [ OK ] | OK | OK |
| Package: basilisk.utils |
| Version: 0.99.10 |
| Command: chmod a+r basilisk.utils -R && C:\Users\bioctesting\bbs-3.11-bioc-testing\R\bin\R.exe CMD build --keep-empty-dirs --no-resave-data basilisk.utils |
| StartedAt: 2020-04-14 20:16:48 -0400 (Tue, 14 Apr 2020) |
| EndedAt: 2020-04-14 20:17:01 -0400 (Tue, 14 Apr 2020) |
| EllapsedTime: 13.1 seconds |
| RetCode: 0 |
| Status: OK |
| PackageFile: basilisk.utils_0.99.10.tar.gz |
| PackageFileSize: 225.5 KiB |
############################################################################## ############################################################################## ### ### Running command: ### ### chmod a+r basilisk.utils -R && C:\Users\bioctesting\bbs-3.11-bioc-testing\R\bin\R.exe CMD build --keep-empty-dirs --no-resave-data basilisk.utils ### ############################################################################## ############################################################################## * checking for file 'basilisk.utils/DESCRIPTION' ... OK * preparing 'basilisk.utils': * checking DESCRIPTION meta-information ... OK * installing the package to build vignettes * creating vignettes ... OK * checking for LF line-endings in source and make files and shell scripts * checking for empty or unneeded directories * building 'basilisk.utils_0.99.10.tar.gz'