| Back to "Blame Jeroen" build/check report for BioC 3.11 |
This page was generated on 2020-04-15 03:20:11 -0400 (Wed, 15 Apr 2020).
| These builds are using Rtools40 and R-testing by Jeroen Ooms (available at https://cran.r-project.org/bin/windows/testing/rtools40.html) |
| TO THE DEVELOPERS/MAINTAINERS OF THE rhdf5 PACKAGE: Please make sure to use the following settings in order to reproduce any error or warning you see on this page. |
| Package 68/89 | Hostname | OS / Arch | INSTALL | BUILD | CHECK | BUILD BIN | |||||
| rhdf5 2.31.10 Mike Smith
| tokay2 | Windows Server 2012 R2 Standard / x64 | OK | OK | OK | [ OK ] |
| Package: rhdf5 |
| Version: 2.31.10 |
| Command: rm -rf rhdf5.buildbin-libdir && mkdir rhdf5.buildbin-libdir && C:\Users\bioctesting\bbs-3.11-bioc-testing\R\bin\R.exe CMD INSTALL --merge-multiarch --build --library=rhdf5.buildbin-libdir rhdf5_2.31.10.tar.gz |
| StartedAt: 2020-04-14 23:58:46 -0400 (Tue, 14 Apr 2020) |
| EndedAt: 2020-04-15 00:00:07 -0400 (Wed, 15 Apr 2020) |
| EllapsedTime: 81.5 seconds |
| RetCode: 0 |
| Status: OK |
| PackageFile: rhdf5_2.31.10.zip |
| PackageFileSize: 3.686 MiB |
##############################################################################
##############################################################################
###
### Running command:
###
### rm -rf rhdf5.buildbin-libdir && mkdir rhdf5.buildbin-libdir && C:\Users\bioctesting\bbs-3.11-bioc-testing\R\bin\R.exe CMD INSTALL --merge-multiarch --build --library=rhdf5.buildbin-libdir rhdf5_2.31.10.tar.gz
###
##############################################################################
##############################################################################
install for i386
* installing *source* package 'rhdf5' ...
** using staged installation
** libs
/mingw32/bin/gcc -I"C:/Users/BIOCTE~1/BBS-3~1.11-/R/include" -DNDEBUG -I'C:/Users/bioctesting/bbs-3.11-bioc-testing/R/library/Rhdf5lib/include' -I"C:/extsoft/include" "-w" -O2 -Wall -std=gnu99 -mfpmath=sse -msse2 -mstackrealign -c H5.c -o H5.o
/mingw32/bin/gcc -I"C:/Users/BIOCTE~1/BBS-3~1.11-/R/include" -DNDEBUG -I'C:/Users/bioctesting/bbs-3.11-bioc-testing/R/library/Rhdf5lib/include' -I"C:/extsoft/include" "-w" -O2 -Wall -std=gnu99 -mfpmath=sse -msse2 -mstackrealign -c H5A.c -o H5A.o
/mingw32/bin/gcc -I"C:/Users/BIOCTE~1/BBS-3~1.11-/R/include" -DNDEBUG -I'C:/Users/bioctesting/bbs-3.11-bioc-testing/R/library/Rhdf5lib/include' -I"C:/extsoft/include" "-w" -O2 -Wall -std=gnu99 -mfpmath=sse -msse2 -mstackrealign -c H5D.c -o H5D.o
/mingw32/bin/gcc -I"C:/Users/BIOCTE~1/BBS-3~1.11-/R/include" -DNDEBUG -I'C:/Users/bioctesting/bbs-3.11-bioc-testing/R/library/Rhdf5lib/include' -I"C:/extsoft/include" "-w" -O2 -Wall -std=gnu99 -mfpmath=sse -msse2 -mstackrealign -c H5E.c -o H5E.o
/mingw32/bin/gcc -I"C:/Users/BIOCTE~1/BBS-3~1.11-/R/include" -DNDEBUG -I'C:/Users/bioctesting/bbs-3.11-bioc-testing/R/library/Rhdf5lib/include' -I"C:/extsoft/include" "-w" -O2 -Wall -std=gnu99 -mfpmath=sse -msse2 -mstackrealign -c H5F.c -o H5F.o
/mingw32/bin/gcc -I"C:/Users/BIOCTE~1/BBS-3~1.11-/R/include" -DNDEBUG -I'C:/Users/bioctesting/bbs-3.11-bioc-testing/R/library/Rhdf5lib/include' -I"C:/extsoft/include" "-w" -O2 -Wall -std=gnu99 -mfpmath=sse -msse2 -mstackrealign -c H5G.c -o H5G.o
/mingw32/bin/gcc -I"C:/Users/BIOCTE~1/BBS-3~1.11-/R/include" -DNDEBUG -I'C:/Users/bioctesting/bbs-3.11-bioc-testing/R/library/Rhdf5lib/include' -I"C:/extsoft/include" "-w" -O2 -Wall -std=gnu99 -mfpmath=sse -msse2 -mstackrealign -c H5I.c -o H5I.o
/mingw32/bin/gcc -I"C:/Users/BIOCTE~1/BBS-3~1.11-/R/include" -DNDEBUG -I'C:/Users/bioctesting/bbs-3.11-bioc-testing/R/library/Rhdf5lib/include' -I"C:/extsoft/include" "-w" -O2 -Wall -std=gnu99 -mfpmath=sse -msse2 -mstackrealign -c H5L.c -o H5L.o
/mingw32/bin/gcc -I"C:/Users/BIOCTE~1/BBS-3~1.11-/R/include" -DNDEBUG -I'C:/Users/bioctesting/bbs-3.11-bioc-testing/R/library/Rhdf5lib/include' -I"C:/extsoft/include" "-w" -O2 -Wall -std=gnu99 -mfpmath=sse -msse2 -mstackrealign -c H5O.c -o H5O.o
/mingw32/bin/gcc -I"C:/Users/BIOCTE~1/BBS-3~1.11-/R/include" -DNDEBUG -I'C:/Users/bioctesting/bbs-3.11-bioc-testing/R/library/Rhdf5lib/include' -I"C:/extsoft/include" "-w" -O2 -Wall -std=gnu99 -mfpmath=sse -msse2 -mstackrealign -c H5P.c -o H5P.o
/mingw32/bin/gcc -I"C:/Users/BIOCTE~1/BBS-3~1.11-/R/include" -DNDEBUG -I'C:/Users/bioctesting/bbs-3.11-bioc-testing/R/library/Rhdf5lib/include' -I"C:/extsoft/include" "-w" -O2 -Wall -std=gnu99 -mfpmath=sse -msse2 -mstackrealign -c H5S.c -o H5S.o
/mingw32/bin/gcc -I"C:/Users/BIOCTE~1/BBS-3~1.11-/R/include" -DNDEBUG -I'C:/Users/bioctesting/bbs-3.11-bioc-testing/R/library/Rhdf5lib/include' -I"C:/extsoft/include" "-w" -O2 -Wall -std=gnu99 -mfpmath=sse -msse2 -mstackrealign -c H5T.c -o H5T.o
/mingw32/bin/gcc -I"C:/Users/BIOCTE~1/BBS-3~1.11-/R/include" -DNDEBUG -I'C:/Users/bioctesting/bbs-3.11-bioc-testing/R/library/Rhdf5lib/include' -I"C:/extsoft/include" "-w" -O2 -Wall -std=gnu99 -mfpmath=sse -msse2 -mstackrealign -c H5Z.c -o H5Z.o
/mingw32/bin/gcc -I"C:/Users/BIOCTE~1/BBS-3~1.11-/R/include" -DNDEBUG -I'C:/Users/bioctesting/bbs-3.11-bioc-testing/R/library/Rhdf5lib/include' -I"C:/extsoft/include" "-w" -O2 -Wall -std=gnu99 -mfpmath=sse -msse2 -mstackrealign -c H5constants.c -o H5constants.o
/mingw32/bin/g++ -std=gnu++11 -I"C:/Users/BIOCTE~1/BBS-3~1.11-/R/include" -DNDEBUG -I'C:/Users/bioctesting/bbs-3.11-bioc-testing/R/library/Rhdf5lib/include' -I"C:/extsoft/include" -O2 -Wall -mfpmath=sse -msse2 -mstackrealign -c HandleList.cpp -o HandleList.o
/mingw32/bin/gcc -I"C:/Users/BIOCTE~1/BBS-3~1.11-/R/include" -DNDEBUG -I'C:/Users/bioctesting/bbs-3.11-bioc-testing/R/library/Rhdf5lib/include' -I"C:/extsoft/include" "-w" -O2 -Wall -std=gnu99 -mfpmath=sse -msse2 -mstackrealign -c HandleListWrap.c -o HandleListWrap.o
/mingw32/bin/gcc -I"C:/Users/BIOCTE~1/BBS-3~1.11-/R/include" -DNDEBUG -I'C:/Users/bioctesting/bbs-3.11-bioc-testing/R/library/Rhdf5lib/include' -I"C:/extsoft/include" "-w" -O2 -Wall -std=gnu99 -mfpmath=sse -msse2 -mstackrealign -c h5dump.c -o h5dump.o
/mingw32/bin/gcc -I"C:/Users/BIOCTE~1/BBS-3~1.11-/R/include" -DNDEBUG -I'C:/Users/bioctesting/bbs-3.11-bioc-testing/R/library/Rhdf5lib/include' -I"C:/extsoft/include" "-w" -O2 -Wall -std=gnu99 -mfpmath=sse -msse2 -mstackrealign -c h5ls.c -o h5ls.o
/mingw32/bin/gcc -I"C:/Users/BIOCTE~1/BBS-3~1.11-/R/include" -DNDEBUG -I'C:/Users/bioctesting/bbs-3.11-bioc-testing/R/library/Rhdf5lib/include' -I"C:/extsoft/include" "-w" -O2 -Wall -std=gnu99 -mfpmath=sse -msse2 -mstackrealign -c h5testLock.c -o h5testLock.o
/mingw32/bin/gcc -I"C:/Users/BIOCTE~1/BBS-3~1.11-/R/include" -DNDEBUG -I'C:/Users/bioctesting/bbs-3.11-bioc-testing/R/library/Rhdf5lib/include' -I"C:/extsoft/include" "-w" -O2 -Wall -std=gnu99 -mfpmath=sse -msse2 -mstackrealign -c h5writeDataFrame.c -o h5writeDataFrame.o
/mingw32/bin/gcc -I"C:/Users/BIOCTE~1/BBS-3~1.11-/R/include" -DNDEBUG -I'C:/Users/bioctesting/bbs-3.11-bioc-testing/R/library/Rhdf5lib/include' -I"C:/extsoft/include" "-w" -O2 -Wall -std=gnu99 -mfpmath=sse -msse2 -mstackrealign -c printdatatype.c -o printdatatype.o
/mingw32/bin/gcc -I"C:/Users/BIOCTE~1/BBS-3~1.11-/R/include" -DNDEBUG -I'C:/Users/bioctesting/bbs-3.11-bioc-testing/R/library/Rhdf5lib/include' -I"C:/extsoft/include" "-w" -O2 -Wall -std=gnu99 -mfpmath=sse -msse2 -mstackrealign -c utils.c -o utils.o
/mingw32/bin/gcc -I"C:/Users/BIOCTE~1/BBS-3~1.11-/R/include" -DNDEBUG -I'C:/Users/bioctesting/bbs-3.11-bioc-testing/R/library/Rhdf5lib/include' -I"C:/extsoft/include" "-w" -O2 -Wall -std=gnu99 -mfpmath=sse -msse2 -mstackrealign -c wrap.c -o wrap.o
/mingw32/bin/g++ -std=gnu++11 -shared -s -static-libgcc -o rhdf5.dll tmp.def H5.o H5A.o H5D.o H5E.o H5F.o H5G.o H5I.o H5L.o H5O.o H5P.o H5S.o H5T.o H5Z.o H5constants.o HandleList.o HandleListWrap.o h5dump.o h5ls.o h5testLock.o h5writeDataFrame.o printdatatype.o utils.o wrap.o -LC:/Users/BIOCTE~1/BBS-3~1.11-/R/library/Rhdf5lib/lib/i386 -lhdf5 -lszip -lz -lpsapi -LC:/extsoft/lib/i386 -LC:/extsoft/lib -LC:/Users/BIOCTE~1/BBS-3~1.11-/R/bin/i386 -lR
installing to C:/Users/bioctesting/bbs-3.11-bioc-testing/meat/rhdf5.buildbin-libdir/00LOCK-rhdf5/00new/rhdf5/libs/i386
** R
** inst
** byte-compile and prepare package for lazy loading
** help
*** installing help indices
converting help for package 'rhdf5'
finding HTML links ... done
H5 html
H5A html
H5D html
H5F html
H5G html
H5I html
H5IdComponent-class html
H5L html
H5O html
H5P html
H5P_DATASET_ACCESS html
H5P_DATASET_CREATE html
H5P_LINK_CREATE html
H5S html
H5T html
h5closeAll html
h5const html
h5createAttribute html
h5createDataset html
h5createFile html
h5createGroup html
h5delete html
h5errorHandling html
h5fileLocking html
h5listIdentifier html
h5ls html
h5save html
h5set_extent html
h5version html
h5write html
methods-And html
methods-Dollar1 html
methods-Dollar2 html
methods-subset1 html
methods-subset2 html
rhdf5 html
** building package indices
** installing vignettes
** testing if installed package can be loaded from temporary location
** testing if installed package can be loaded from final location
** testing if installed package keeps a record of temporary installation path
install for x64
* installing *source* package 'rhdf5' ...
** libs
/mingw64/bin/gcc -I"C:/Users/BIOCTE~1/BBS-3~1.11-/R/include" -DNDEBUG -I'C:/Users/bioctesting/bbs-3.11-bioc-testing/R/library/Rhdf5lib/include' -I"C:/extsoft/include" "-w" -O2 -Wall -std=gnu99 -mfpmath=sse -msse2 -mstackrealign -c H5.c -o H5.o
/mingw64/bin/gcc -I"C:/Users/BIOCTE~1/BBS-3~1.11-/R/include" -DNDEBUG -I'C:/Users/bioctesting/bbs-3.11-bioc-testing/R/library/Rhdf5lib/include' -I"C:/extsoft/include" "-w" -O2 -Wall -std=gnu99 -mfpmath=sse -msse2 -mstackrealign -c H5A.c -o H5A.o
/mingw64/bin/gcc -I"C:/Users/BIOCTE~1/BBS-3~1.11-/R/include" -DNDEBUG -I'C:/Users/bioctesting/bbs-3.11-bioc-testing/R/library/Rhdf5lib/include' -I"C:/extsoft/include" "-w" -O2 -Wall -std=gnu99 -mfpmath=sse -msse2 -mstackrealign -c H5D.c -o H5D.o
/mingw64/bin/gcc -I"C:/Users/BIOCTE~1/BBS-3~1.11-/R/include" -DNDEBUG -I'C:/Users/bioctesting/bbs-3.11-bioc-testing/R/library/Rhdf5lib/include' -I"C:/extsoft/include" "-w" -O2 -Wall -std=gnu99 -mfpmath=sse -msse2 -mstackrealign -c H5E.c -o H5E.o
/mingw64/bin/gcc -I"C:/Users/BIOCTE~1/BBS-3~1.11-/R/include" -DNDEBUG -I'C:/Users/bioctesting/bbs-3.11-bioc-testing/R/library/Rhdf5lib/include' -I"C:/extsoft/include" "-w" -O2 -Wall -std=gnu99 -mfpmath=sse -msse2 -mstackrealign -c H5F.c -o H5F.o
/mingw64/bin/gcc -I"C:/Users/BIOCTE~1/BBS-3~1.11-/R/include" -DNDEBUG -I'C:/Users/bioctesting/bbs-3.11-bioc-testing/R/library/Rhdf5lib/include' -I"C:/extsoft/include" "-w" -O2 -Wall -std=gnu99 -mfpmath=sse -msse2 -mstackrealign -c H5G.c -o H5G.o
/mingw64/bin/gcc -I"C:/Users/BIOCTE~1/BBS-3~1.11-/R/include" -DNDEBUG -I'C:/Users/bioctesting/bbs-3.11-bioc-testing/R/library/Rhdf5lib/include' -I"C:/extsoft/include" "-w" -O2 -Wall -std=gnu99 -mfpmath=sse -msse2 -mstackrealign -c H5I.c -o H5I.o
/mingw64/bin/gcc -I"C:/Users/BIOCTE~1/BBS-3~1.11-/R/include" -DNDEBUG -I'C:/Users/bioctesting/bbs-3.11-bioc-testing/R/library/Rhdf5lib/include' -I"C:/extsoft/include" "-w" -O2 -Wall -std=gnu99 -mfpmath=sse -msse2 -mstackrealign -c H5L.c -o H5L.o
/mingw64/bin/gcc -I"C:/Users/BIOCTE~1/BBS-3~1.11-/R/include" -DNDEBUG -I'C:/Users/bioctesting/bbs-3.11-bioc-testing/R/library/Rhdf5lib/include' -I"C:/extsoft/include" "-w" -O2 -Wall -std=gnu99 -mfpmath=sse -msse2 -mstackrealign -c H5O.c -o H5O.o
/mingw64/bin/gcc -I"C:/Users/BIOCTE~1/BBS-3~1.11-/R/include" -DNDEBUG -I'C:/Users/bioctesting/bbs-3.11-bioc-testing/R/library/Rhdf5lib/include' -I"C:/extsoft/include" "-w" -O2 -Wall -std=gnu99 -mfpmath=sse -msse2 -mstackrealign -c H5P.c -o H5P.o
/mingw64/bin/gcc -I"C:/Users/BIOCTE~1/BBS-3~1.11-/R/include" -DNDEBUG -I'C:/Users/bioctesting/bbs-3.11-bioc-testing/R/library/Rhdf5lib/include' -I"C:/extsoft/include" "-w" -O2 -Wall -std=gnu99 -mfpmath=sse -msse2 -mstackrealign -c H5S.c -o H5S.o
/mingw64/bin/gcc -I"C:/Users/BIOCTE~1/BBS-3~1.11-/R/include" -DNDEBUG -I'C:/Users/bioctesting/bbs-3.11-bioc-testing/R/library/Rhdf5lib/include' -I"C:/extsoft/include" "-w" -O2 -Wall -std=gnu99 -mfpmath=sse -msse2 -mstackrealign -c H5T.c -o H5T.o
/mingw64/bin/gcc -I"C:/Users/BIOCTE~1/BBS-3~1.11-/R/include" -DNDEBUG -I'C:/Users/bioctesting/bbs-3.11-bioc-testing/R/library/Rhdf5lib/include' -I"C:/extsoft/include" "-w" -O2 -Wall -std=gnu99 -mfpmath=sse -msse2 -mstackrealign -c H5Z.c -o H5Z.o
/mingw64/bin/gcc -I"C:/Users/BIOCTE~1/BBS-3~1.11-/R/include" -DNDEBUG -I'C:/Users/bioctesting/bbs-3.11-bioc-testing/R/library/Rhdf5lib/include' -I"C:/extsoft/include" "-w" -O2 -Wall -std=gnu99 -mfpmath=sse -msse2 -mstackrealign -c H5constants.c -o H5constants.o
/mingw64/bin/g++ -std=gnu++11 -I"C:/Users/BIOCTE~1/BBS-3~1.11-/R/include" -DNDEBUG -I'C:/Users/bioctesting/bbs-3.11-bioc-testing/R/library/Rhdf5lib/include' -I"C:/extsoft/include" -O2 -Wall -mfpmath=sse -msse2 -mstackrealign -c HandleList.cpp -o HandleList.o
/mingw64/bin/gcc -I"C:/Users/BIOCTE~1/BBS-3~1.11-/R/include" -DNDEBUG -I'C:/Users/bioctesting/bbs-3.11-bioc-testing/R/library/Rhdf5lib/include' -I"C:/extsoft/include" "-w" -O2 -Wall -std=gnu99 -mfpmath=sse -msse2 -mstackrealign -c HandleListWrap.c -o HandleListWrap.o
/mingw64/bin/gcc -I"C:/Users/BIOCTE~1/BBS-3~1.11-/R/include" -DNDEBUG -I'C:/Users/bioctesting/bbs-3.11-bioc-testing/R/library/Rhdf5lib/include' -I"C:/extsoft/include" "-w" -O2 -Wall -std=gnu99 -mfpmath=sse -msse2 -mstackrealign -c h5dump.c -o h5dump.o
/mingw64/bin/gcc -I"C:/Users/BIOCTE~1/BBS-3~1.11-/R/include" -DNDEBUG -I'C:/Users/bioctesting/bbs-3.11-bioc-testing/R/library/Rhdf5lib/include' -I"C:/extsoft/include" "-w" -O2 -Wall -std=gnu99 -mfpmath=sse -msse2 -mstackrealign -c h5ls.c -o h5ls.o
/mingw64/bin/gcc -I"C:/Users/BIOCTE~1/BBS-3~1.11-/R/include" -DNDEBUG -I'C:/Users/bioctesting/bbs-3.11-bioc-testing/R/library/Rhdf5lib/include' -I"C:/extsoft/include" "-w" -O2 -Wall -std=gnu99 -mfpmath=sse -msse2 -mstackrealign -c h5testLock.c -o h5testLock.o
/mingw64/bin/gcc -I"C:/Users/BIOCTE~1/BBS-3~1.11-/R/include" -DNDEBUG -I'C:/Users/bioctesting/bbs-3.11-bioc-testing/R/library/Rhdf5lib/include' -I"C:/extsoft/include" "-w" -O2 -Wall -std=gnu99 -mfpmath=sse -msse2 -mstackrealign -c h5writeDataFrame.c -o h5writeDataFrame.o
/mingw64/bin/gcc -I"C:/Users/BIOCTE~1/BBS-3~1.11-/R/include" -DNDEBUG -I'C:/Users/bioctesting/bbs-3.11-bioc-testing/R/library/Rhdf5lib/include' -I"C:/extsoft/include" "-w" -O2 -Wall -std=gnu99 -mfpmath=sse -msse2 -mstackrealign -c printdatatype.c -o printdatatype.o
/mingw64/bin/gcc -I"C:/Users/BIOCTE~1/BBS-3~1.11-/R/include" -DNDEBUG -I'C:/Users/bioctesting/bbs-3.11-bioc-testing/R/library/Rhdf5lib/include' -I"C:/extsoft/include" "-w" -O2 -Wall -std=gnu99 -mfpmath=sse -msse2 -mstackrealign -c utils.c -o utils.o
/mingw64/bin/gcc -I"C:/Users/BIOCTE~1/BBS-3~1.11-/R/include" -DNDEBUG -I'C:/Users/bioctesting/bbs-3.11-bioc-testing/R/library/Rhdf5lib/include' -I"C:/extsoft/include" "-w" -O2 -Wall -std=gnu99 -mfpmath=sse -msse2 -mstackrealign -c wrap.c -o wrap.o
/mingw64/bin/g++ -std=gnu++11 -shared -s -static-libgcc -o rhdf5.dll tmp.def H5.o H5A.o H5D.o H5E.o H5F.o H5G.o H5I.o H5L.o H5O.o H5P.o H5S.o H5T.o H5Z.o H5constants.o HandleList.o HandleListWrap.o h5dump.o h5ls.o h5testLock.o h5writeDataFrame.o printdatatype.o utils.o wrap.o -LC:/Users/BIOCTE~1/BBS-3~1.11-/R/library/Rhdf5lib/lib/x64 -lhdf5 -lszip -lz -lpsapi -LC:/extsoft/lib/x64 -LC:/extsoft/lib -LC:/Users/BIOCTE~1/BBS-3~1.11-/R/bin/x64 -lR
installing to C:/Users/bioctesting/bbs-3.11-bioc-testing/meat/rhdf5.buildbin-libdir/rhdf5/libs/x64
** testing if installed package can be loaded
* MD5 sums
packaged installation of 'rhdf5' as rhdf5_2.31.10.zip
* DONE (rhdf5)