| Back to "Blame Jeroen" build/check report for BioC 3.11 |
This page was generated on 2020-04-15 03:20:11 -0400 (Wed, 15 Apr 2020).
| These builds are using Rtools40 and R-testing by Jeroen Ooms (available at https://cran.r-project.org/bin/windows/testing/rtools40.html) |
| TO THE DEVELOPERS/MAINTAINERS OF THE interactiveDisplayBase PACKAGE: Please make sure to use the following settings in order to reproduce any error or warning you see on this page. |
| Package 50/89 | Hostname | OS / Arch | INSTALL | BUILD | CHECK | BUILD BIN | |||||
| interactiveDisplayBase 1.25.0 Shawn Balcome
| tokay2 | Windows Server 2012 R2 Standard / x64 | OK | OK | WARNINGS | [ OK ] |
| Package: interactiveDisplayBase |
| Version: 1.25.0 |
| Command: rm -rf interactiveDisplayBase.buildbin-libdir && mkdir interactiveDisplayBase.buildbin-libdir && C:\Users\bioctesting\bbs-3.11-bioc-testing\R\bin\R.exe CMD INSTALL --merge-multiarch --build --library=interactiveDisplayBase.buildbin-libdir interactiveDisplayBase_1.25.0.tar.gz |
| StartedAt: 2020-04-14 23:50:47 -0400 (Tue, 14 Apr 2020) |
| EndedAt: 2020-04-14 23:51:02 -0400 (Tue, 14 Apr 2020) |
| EllapsedTime: 15.1 seconds |
| RetCode: 0 |
| Status: OK |
| PackageFile: interactiveDisplayBase_1.25.0.zip |
| PackageFileSize: 46.67 KiB |
##############################################################################
##############################################################################
###
### Running command:
###
### rm -rf interactiveDisplayBase.buildbin-libdir && mkdir interactiveDisplayBase.buildbin-libdir && C:\Users\bioctesting\bbs-3.11-bioc-testing\R\bin\R.exe CMD INSTALL --merge-multiarch --build --library=interactiveDisplayBase.buildbin-libdir interactiveDisplayBase_1.25.0.tar.gz
###
##############################################################################
##############################################################################
install for i386
* installing *source* package 'interactiveDisplayBase' ...
** using staged installation
** R
** inst
** byte-compile and prepare package for lazy loading
** help
*** installing help indices
converting help for package 'interactiveDisplayBase'
finding HTML links ... done
dot_runApp html
interactiveDisplayBase-methods html
** building package indices
** installing vignettes
** testing if installed package can be loaded from temporary location
** testing if installed package can be loaded from final location
** testing if installed package keeps a record of temporary installation path
install for x64
* installing *source* package 'interactiveDisplayBase' ...
** testing if installed package can be loaded
* MD5 sums
packaged installation of 'interactiveDisplayBase' as interactiveDisplayBase_1.25.0.zip
* DONE (interactiveDisplayBase)