| Back to "Blame Jeroen" build/check report for BioC 3.11 |
This page was generated on 2020-04-15 03:20:09 -0400 (Wed, 15 Apr 2020).
| These builds are using Rtools40 and R-testing by Jeroen Ooms (available at https://cran.r-project.org/bin/windows/testing/rtools40.html) |
| TO THE DEVELOPERS/MAINTAINERS OF THE widgetTools PACKAGE: Please make sure to use the following settings in order to reproduce any error or warning you see on this page. |
| Package 87/89 | Hostname | OS / Arch | INSTALL | BUILD | CHECK | BUILD BIN | |||||
| widgetTools 1.65.0 Jianhua Zhang
| tokay2 | Windows Server 2012 R2 Standard / x64 | OK | OK | OK | [ OK ] |
| Package: widgetTools |
| Version: 1.65.0 |
| Command: rm -rf widgetTools.buildbin-libdir && mkdir widgetTools.buildbin-libdir && C:\Users\bioctesting\bbs-3.11-bioc-testing\R\bin\R.exe CMD INSTALL --merge-multiarch --build --library=widgetTools.buildbin-libdir widgetTools_1.65.0.tar.gz |
| StartedAt: 2020-04-14 23:31:09 -0400 (Tue, 14 Apr 2020) |
| EndedAt: 2020-04-14 23:31:22 -0400 (Tue, 14 Apr 2020) |
| EllapsedTime: 13.8 seconds |
| RetCode: 0 |
| Status: OK |
| PackageFile: widgetTools_1.65.0.zip |
| PackageFileSize: 375 KiB |
##############################################################################
##############################################################################
###
### Running command:
###
### rm -rf widgetTools.buildbin-libdir && mkdir widgetTools.buildbin-libdir && C:\Users\bioctesting\bbs-3.11-bioc-testing\R\bin\R.exe CMD INSTALL --merge-multiarch --build --library=widgetTools.buildbin-libdir widgetTools_1.65.0.tar.gz
###
##############################################################################
##############################################################################
install for i386
* installing *source* package 'widgetTools' ...
** using staged installation
** R
** inst
** byte-compile and prepare package for lazy loading
** help
*** installing help indices
converting help for package 'widgetTools'
finding HTML links ... done
basicPW-class html
button html
dropdownList html
makeViewer html
oneVScrList html
safeFileOpen html
tooltip html
widget-class html
widgetView-class html
writeText html
** building package indices
** installing vignettes
** testing if installed package can be loaded from temporary location
** testing if installed package can be loaded from final location
** testing if installed package keeps a record of temporary installation path
install for x64
* installing *source* package 'widgetTools' ...
** testing if installed package can be loaded
* MD5 sums
packaged installation of 'widgetTools' as widgetTools_1.65.0.zip
* DONE (widgetTools)