| Back to "Blame Jeroen" build/check report for BioC 3.11 |
This page was generated on 2020-04-15 03:20:10 -0400 (Wed, 15 Apr 2020).
| These builds are using Rtools40 and R-testing by Jeroen Ooms (available at https://cran.r-project.org/bin/windows/testing/rtools40.html) |
| TO THE DEVELOPERS/MAINTAINERS OF THE KEGGgraph PACKAGE: Please make sure to use the following settings in order to reproduce any error or warning you see on this page. |
| Package 52/89 | Hostname | OS / Arch | INSTALL | BUILD | CHECK | BUILD BIN | |||||
| KEGGgraph 1.47.0 Jitao David Zhang
| tokay2 | Windows Server 2012 R2 Standard / x64 | OK | [ OK ] | OK | OK |
| Package: KEGGgraph |
| Version: 1.47.0 |
| Command: chmod a+r KEGGgraph -R && C:\Users\bioctesting\bbs-3.11-bioc-testing\R\bin\R.exe CMD build --keep-empty-dirs --no-resave-data KEGGgraph |
| StartedAt: 2020-04-14 18:39:11 -0400 (Tue, 14 Apr 2020) |
| EndedAt: 2020-04-14 18:39:50 -0400 (Tue, 14 Apr 2020) |
| EllapsedTime: 38.2 seconds |
| RetCode: 0 |
| Status: OK |
| PackageFile: KEGGgraph_1.47.0.tar.gz |
| PackageFileSize: 1.42 MiB |
############################################################################## ############################################################################## ### ### Running command: ### ### chmod a+r KEGGgraph -R && C:\Users\bioctesting\bbs-3.11-bioc-testing\R\bin\R.exe CMD build --keep-empty-dirs --no-resave-data KEGGgraph ### ############################################################################## ############################################################################## * checking for file 'KEGGgraph/DESCRIPTION' ... OK * preparing 'KEGGgraph': * checking DESCRIPTION meta-information ... OK * installing the package to build vignettes * creating vignettes ... OK * checking for LF line-endings in source and make files and shell scripts * checking for empty or unneeded directories * looking to see if a 'data/datalist' file should be added * building 'KEGGgraph_1.47.0.tar.gz'