| Back to "Blame Jeroen" build/check report for BioC 3.11 |
This page was generated on 2020-04-15 03:20:15 -0400 (Wed, 15 Apr 2020).
| These builds are using Rtools40 and R-testing by Jeroen Ooms (available at https://cran.r-project.org/bin/windows/testing/rtools40.html) |
| TO THE DEVELOPERS/MAINTAINERS OF THE flowCore PACKAGE: Please make sure to use the following settings in order to reproduce any error or warning you see on this page. |
| Package 36/89 | Hostname | OS / Arch | INSTALL | BUILD | CHECK | BUILD BIN | |||||
| flowCore 1.99.20 Mike Jiang
| tokay2 | Windows Server 2012 R2 Standard / x64 | ERROR | [ ERROR ] | skipped | skipped |
| Package: flowCore |
| Version: 1.99.20 |
| Command: chmod a+r flowCore -R && C:\Users\bioctesting\bbs-3.11-bioc-testing\R\bin\R.exe CMD build --keep-empty-dirs --no-resave-data flowCore |
| StartedAt: 2020-04-14 20:15:52 -0400 (Tue, 14 Apr 2020) |
| EndedAt: 2020-04-14 20:16:43 -0400 (Tue, 14 Apr 2020) |
| EllapsedTime: 50.9 seconds |
| RetCode: 1 |
| Status: ERROR |
| PackageFile: flowCore_1.99.20.tar.gz |
| PackageFileSize: 8.626 MiB |
##############################################################################
##############################################################################
###
### Running command:
###
### chmod a+r flowCore -R && C:\Users\bioctesting\bbs-3.11-bioc-testing\R\bin\R.exe CMD build --keep-empty-dirs --no-resave-data flowCore
###
##############################################################################
##############################################################################
* checking for file 'flowCore/DESCRIPTION' ... OK
* preparing 'flowCore':
* checking DESCRIPTION meta-information ... OK
* cleaning src
* installing the package to build vignettes
-----------------------------------
ERROR: dependency 'cytolib' is not available for package 'flowCore'
* removing 'C:/Users/bioctesting/bbs-3.11-bioc-testing/tmpdir/RtmpQno8tk/Rinst11581f1e3eac/flowCore'
-----------------------------------
ERROR: package installation failed