| Back to "Blame Jeroen" build/check report for BioC 3.11 |
This page was generated on 2020-04-15 03:20:13 -0400 (Wed, 15 Apr 2020).
| These builds are using Rtools40 and R-testing by Jeroen Ooms (available at https://cran.r-project.org/bin/windows/testing/rtools40.html) |
| TO THE DEVELOPERS/MAINTAINERS OF THE apeglm PACKAGE: Please make sure to use the following settings in order to reproduce any error or warning you see on this page. |
| Package 9/89 | Hostname | OS / Arch | INSTALL | BUILD | CHECK | BUILD BIN | |||||
| apeglm 1.9.1 Anqi Zhu
| tokay2 | Windows Server 2012 R2 Standard / x64 | OK | [ OK ] | OK | OK |
| Package: apeglm |
| Version: 1.9.1 |
| Command: chmod a+r apeglm -R && C:\Users\bioctesting\bbs-3.11-bioc-testing\R\bin\R.exe CMD build --keep-empty-dirs --no-resave-data apeglm |
| StartedAt: 2020-04-14 19:30:12 -0400 (Tue, 14 Apr 2020) |
| EndedAt: 2020-04-14 19:32:54 -0400 (Tue, 14 Apr 2020) |
| EllapsedTime: 161.9 seconds |
| RetCode: 0 |
| Status: OK |
| PackageFile: apeglm_1.9.1.tar.gz |
| PackageFileSize: 422.7 KiB |
############################################################################## ############################################################################## ### ### Running command: ### ### chmod a+r apeglm -R && C:\Users\bioctesting\bbs-3.11-bioc-testing\R\bin\R.exe CMD build --keep-empty-dirs --no-resave-data apeglm ### ############################################################################## ############################################################################## * checking for file 'apeglm/DESCRIPTION' ... OK * preparing 'apeglm': * checking DESCRIPTION meta-information ... OK * cleaning src * installing the package to build vignettes * creating vignettes ... OK * cleaning src * checking for LF line-endings in source and make files and shell scripts * checking for empty or unneeded directories * building 'apeglm_1.9.1.tar.gz'