| Back to "Blame Jeroen" build/check report for BioC 3.11 |
This page was generated on 2020-04-15 03:20:15 -0400 (Wed, 15 Apr 2020).
| These builds are using Rtools40 and R-testing by Jeroen Ooms (available at https://cran.r-project.org/bin/windows/testing/rtools40.html) |
| TO THE DEVELOPERS/MAINTAINERS OF THE nem PACKAGE: Please make sure to use the following settings in order to reproduce any error or warning you see on this page. |
| Package 59/89 | Hostname | OS / Arch | INSTALL | BUILD | CHECK | BUILD BIN | |||||
Holger Froehlich
| tokay2 | Windows Server 2012 R2 Standard / x64 | OK | [ OK ] | ERROR | OK |
| Package: nem |
| Version: 2.61.1 |
| Command: chmod a+r nem -R && C:\Users\bioctesting\bbs-3.11-bioc-testing\R\bin\R.exe CMD build --keep-empty-dirs --no-resave-data nem |
| StartedAt: 2020-04-14 20:32:14 -0400 (Tue, 14 Apr 2020) |
| EndedAt: 2020-04-14 20:33:52 -0400 (Tue, 14 Apr 2020) |
| EllapsedTime: 97.7 seconds |
| RetCode: 0 |
| Status: OK |
| PackageFile: nem_2.61.1.tar.gz |
| PackageFileSize: 7.902 MiB |
##############################################################################
##############################################################################
###
### Running command:
###
### chmod a+r nem -R && C:\Users\bioctesting\bbs-3.11-bioc-testing\R\bin\R.exe CMD build --keep-empty-dirs --no-resave-data nem
###
##############################################################################
##############################################################################
* checking for file 'nem/DESCRIPTION' ... OK
* preparing 'nem':
* checking DESCRIPTION meta-information ... OK
* cleaning src
* installing the package to build vignettes
* creating vignettes ... OK
Warning: 'inst/doc' file
'nem.Rnw'
ignored as vignettes have been rebuilt.
Run R CMD build with --no-build-vignettes to prevent rebuilding.
* cleaning src
* checking for LF line-endings in source and make files and shell scripts
* checking for empty or unneeded directories
* looking to see if a 'data/datalist' file should be added
* building 'nem_2.61.1.tar.gz'