Build/check report for BioC 3.22 experimental data

This page was generated on 2025-11-04 15:41 -0500 (Tue, 04 Nov 2025).

Approx. Package Snapshot Date/Time (git pull): 2025-11-04 07:30 -0500 (Tue, 04 Nov 2025)
See this page for all the Bioconductor builds and their schedule.

HostnameOSArch (*)R versionInstalled pkgs
nebbiolo2Linux (Ubuntu 24.04.3 LTS)x86_644.5.1 Patched (2025-08-23 r88802) -- "Great Square Root" 4902
Click on any hostname to see more info about the system (e.g. compilers)      (*) as reported by 'uname -p', except on Windows and Mac OS X

Package status is indicated by one of the following glyphs
  TIMEOUT  
INSTALL, BUILD or CHECK of package took more than 40, 80 or 80 minutes, respectively
  ERROR  
Bad DESCRIPTION file, or INSTALL or BUILD of package failed, or CHECK produced errors
  WARNINGS  
CHECK of package produced warnings
  OK  
INSTALL, BUILD or CHECK of package went OK
  NA  
INSTALL, BUILD or CHECK result is not available because of an anomaly in the Build System
skipped
CHECK of package was skipped because the BUILD step failed
Click on any glyph in the report below to access the detailed report.
Package propagation status is indicated by one of the following LEDs
YES YES: Package was propagated because it didn't previously exist or version was bumped
NO NO: Package was not propagated because of a problem (impossible dependencies, or version lower than what is already propagated)
UNNEEDED UNNEEDED: Package was not propagated because it is already in the repository with this version. A version bump is required in order to propagate it

A crossed-out package name indicates that the package is deprecated


QUICK STATSOS / ArchINSTALLBUILDCHECK
nebbiolo2Linux (Ubuntu 24.04.3 LTS) / x86_64
00435
017418
03124291
A
ABCDEFGHIJKLMNOPQRSTUVWXYZ
PackageMaintainerINSTALLBUILDCHECK
1/435adductData 1.26.0  (landing page)Josie Hayes  OK    OK    OK  UNNEEDED, same version is already published
2/435affycompData 1.48.0  (landing page)Robert D Shear  OK    OK    OK  UNNEEDED, same version is already published
3/435affydata 1.58.0  (landing page)Robert D Shear  OK    OK    WARNINGS  UNNEEDED, same version is already published
4/435Affyhgu133A2Expr 1.46.0  (landing page)Zhicheng Ji  OK    OK    OK  UNNEEDED, same version is already published
5/435Affyhgu133aExpr 1.48.0  (landing page)Zhicheng Ji  OK    OK    OK  UNNEEDED, same version is already published
6/435Affyhgu133Plus2Expr 1.44.0  (landing page)Zhicheng Ji  OK    OK    OK  UNNEEDED, same version is already published
7/435AffymetrixDataTestFiles 0.48.0  (landing page)Henrik Bengtsson  OK    OK    OK  UNNEEDED, same version is already published
8/435Affymoe4302Expr 1.48.0  (landing page)Zhicheng Ji  OK    OK    OK  UNNEEDED, same version is already published
9/435airway 1.30.0  (landing page)Michael Love  OK    OK    WARNINGS  UNNEEDED, same version is already published
10/435ALL 1.52.0  (landing page)Robert Gentleman  OK    OK    OK  UNNEEDED, same version is already published
11/435ALLMLL 1.50.0  (landing page)B. M. Bolstad  OK    OK    OK  UNNEEDED, same version is already published
12/435AmpAffyExample 1.50.0  (landing page)Robert D Shear  OK    OK    WARNINGS  UNNEEDED, same version is already published
13/435AneuFinderData 1.38.0  (landing page)Aaron Taudt  OK    OK    WARNINGS  UNNEEDED, same version is already published
14/435antiProfilesData 1.46.0  (landing page)Hector Corrada Bravo  OK    OK    OK  UNNEEDED, same version is already published
15/435aracne.networks 1.36.0  (landing page)Federico M. Giorgi , Mariano Alvarez  OK    OK    WARNINGS  YES
16/435ARRmData 1.46.0  (landing page)Jean-Philippe Fortin  OK    OK    OK  UNNEEDED, same version is already published
17/435AshkenazimSonChr21 1.40.0  (landing page)Who to complain to  OK    OK    OK  UNNEEDED, same version is already published
18/435ASICSdata 1.30.0  (landing page)Gaëlle Lefort  OK    OK    OK  UNNEEDED, same version is already published
19/435AssessORFData 1.28.0  (landing page)Nicholas Cooley  OK    OK    OK  UNNEEDED, same version is already published
20/435AWAggregatorData 1.0.0  (landing page)Jiahua Tan  OK    OK    OK  UNNEEDED, same version is already published
B
ABCDEFGHIJKLMNOPQRSTUVWXYZ
PackageMaintainerINSTALLBUILDCHECK
21/435bcellViper 1.46.0  (landing page)Mariano Javier Alvarez  OK    OK    OK  UNNEEDED, same version is already published
22/435beadarrayExampleData 1.48.0  (landing page)Mark Dunning  OK    OK    OK  NO, package depends on 'beadarray' which is not available
23/435BeadArrayUseCases 1.48.0  (landing page)Mike Smith  OK    OK    OK  NO, package depends on 'beadarray' which is not available
24/435BeadSorted.Saliva.EPIC 1.18.0  (landing page)Jonah Fisher  OK    OK    OK  UNNEEDED, same version is already published
25/435beta7 1.48.0  (landing page)Jean Yang  OK    OK    WARNINGS  UNNEEDED, same version is already published
26/435BioImageDbs 1.18.0  (landing page)Satoshi Kume  OK    OK    OK  UNNEEDED, same version is already published
27/435BioPlex 1.16.0  (landing page)Ludwig Geistlinger  OK    ERROR  skipped
28/435biotmleData 1.34.0  (landing page)Nima Hejazi  OK    OK    WARNINGS  UNNEEDED, same version is already published
29/435biscuiteerData 1.24.0  (landing page)"Jacob Morrison"  OK    OK    OK  UNNEEDED, same version is already published
30/435bladderbatch 1.48.0  (landing page)Jeffrey T. Leek  OK    OK    WARNINGS  UNNEEDED, same version is already published
31/435blimaTestingData 1.30.0  (landing page)Vojtech Kulvait  OK    OK    OK  UNNEEDED, same version is already published
32/435BloodCancerMultiOmics2017 1.30.0  (landing page)Małgorzata Oleś  OK    OK    WARNINGS  YES
33/435bodymapRat 1.26.0  (landing page)Stephanie Hicks  OK    OK    OK  UNNEEDED, same version is already published
34/435breakpointRdata 1.28.0  (landing page)David Porubsky  OK    OK    OK  UNNEEDED, same version is already published
35/435breastCancerMAINZ 1.48.0  (landing page)Markus Schroeder , Benjamin Haibe-Kains  OK    OK    WARNINGS  UNNEEDED, same version is already published
36/435breastCancerNKI 1.48.0  (landing page)Markus Schroeder , Benjamin Haibe-Kains  OK    OK    WARNINGS  UNNEEDED, same version is already published
37/435breastCancerTRANSBIG 1.48.0  (landing page)Markus Schroeder , Benjamin Haibe-Kains  OK    OK    WARNINGS  UNNEEDED, same version is already published
38/435breastCancerUNT 1.48.0  (landing page)Markus Schroeder , Benjamin Haibe-Kains  OK    OK    WARNINGS  UNNEEDED, same version is already published
39/435breastCancerUPP 1.48.0  (landing page)Markus Schroeder , Benjamin Haibe-Kains  OK    OK    WARNINGS  UNNEEDED, same version is already published
40/435breastCancerVDX 1.48.0  (landing page)Markus Schroeder , Benjamin Haibe-Kains  OK    OK    WARNINGS  UNNEEDED, same version is already published
41/435brgedata 1.32.0  (landing page)Dolors Pelegri-Siso  OK    OK    WARNINGS  UNNEEDED, same version is already published
42/435bronchialIL13 1.48.0  (landing page)Vince Carey  OK    OK    OK  UNNEEDED, same version is already published
43/435bsseqData 0.48.0  (landing page)Kasper Daniel Hansen  OK    OK    WARNINGS  UNNEEDED, same version is already published
44/435bugphyzz 1.4.0  (landing page)Samuel Gamboa  OK    OK    OK  YES
C
ABCDEFGHIJKLMNOPQRSTUVWXYZ
PackageMaintainerINSTALLBUILDCHECK
45/435cancerdata 1.48.0  (landing page)Daniel Kosztyla  OK    OK    OK  UNNEEDED, same version is already published
46/435CardinalWorkflows 1.42.0  (landing page)Kylie A. Bemis  OK    OK    OK  YES
47/435ccdata 1.36.0  (landing page)Alex Pickering  OK    OK    WARNINGS  UNNEEDED, same version is already published
48/435CCl4 1.48.0  (landing page)Audrey Kauffmann  OK    OK    WARNINGS  UNNEEDED, same version is already published
49/435celarefData 1.28.0  (landing page)Sarah Williams  OK    OK    OK  UNNEEDED, same version is already published
50/435celldex 1.20.0  (landing page)Aaron Lun  OK    OK    OK  YES
51/435CellMapperData 1.36.0  (landing page)Brad Nelms  OK    OK    OK  UNNEEDED, same version is already published
52/435CENTREprecomputed 1.0.0  (landing page)Sara Lopez Ruiz de Vargas  OK    OK    OK  UNNEEDED, same version is already published
53/435cfToolsData 1.8.0  (landing page)Ran Hu  OK    OK    OK  UNNEEDED, same version is already published
54/435ChAMPdata 2.42.0  (landing page)Yuan Tian  OK    OK    WARNINGS  YES
55/435ChimpHumanBrainData 1.48.0  (landing page)Sean Davis  OK    OK    OK  UNNEEDED, same version is already published
56/435ChIPDBData 1.0.0  (landing page)Yosra Berrouayel  OK    OK    OK  UNNEEDED, same version is already published
57/435chipenrich.data 2.34.0  (landing page)Kai Wang  OK    OK    WARNINGS  YES
58/435ChIPexoQualExample 1.34.0  (landing page)Rene Welch  OK    OK    OK  UNNEEDED, same version is already published
59/435chipseqDBData 1.26.0  (landing page)Aaron Lun  OK    OK    OK  UNNEEDED, same version is already published
60/435ChIPXpressData 1.48.0  (landing page)George Wu  OK    OK    WARNINGS  YES
61/435chromstaRData 1.36.0  (landing page)Aaron Taudt  OK    OK    WARNINGS  UNNEEDED, same version is already published
62/435CLL 1.50.0  (landing page)Robert Gentleman  OK    OK    OK  UNNEEDED, same version is already published
63/435CLLmethylation 1.30.0  (landing page)Malgorzata Oles , Andreas Mock  OK    OK    OK  YES
64/435CluMSIDdata 1.26.0  (landing page)Tobias Depke  OK    OK    OK  UNNEEDED, same version is already published
65/435clustifyrdatahub 1.20.0  (landing page)Kent Riemondy  OK    OK    OK  YES
66/435cMap2data 1.46.0  (landing page)J. Saez-Rodriguez  OK    OK    WARNINGS  UNNEEDED, same version is already published
67/435cnvGSAdata 1.46.0  (landing page)Joseph Lugo  OK    OK    WARNINGS  UNNEEDED, same version is already published
68/435COHCAPanno 1.46.0  (landing page)Charles Warden  OK    OK    OK  UNNEEDED, same version is already published
69/435colonCA 1.52.0  (landing page)W Sylvia Merk  OK    OK    WARNINGS  UNNEEDED, same version is already published
70/435CONFESSdata 1.38.0  (landing page)Diana LOW  OK    OK    OK  UNNEEDED, same version is already published
71/435ConnectivityMap 1.46.0  (landing page)Paul Shannon  OK    OK    OK  YES
72/435COPDSexualDimorphism.data 1.46.0  (landing page)J Fah Sathirapongsasuti  OK    OK    WARNINGS  UNNEEDED, same version is already published
73/435CopyhelpeR 1.42.0  (landing page)Oscar Krijgsman  OK    OK    OK  UNNEEDED, same version is already published
74/435CopyNeutralIMA 1.28.0  (landing page)Xavier Pastor Hostench  OK    OK    OK  YES
75/435CoSIAdata 1.10.0  (landing page)Amanda D. Clark  OK    OK    OK  YES
76/435COSMIC.67 1.46.0  (landing page)Julian Gehring  OK    OK    OK  YES
77/435CRCL18 1.30.0  (landing page)Claudio Isella  OK    OK    OK  YES
78/435crisprScoreData 1.14.0  (landing page)Jean-Philippe Fortin  OK    OK    OK  YES
79/435curatedAdipoArray 1.22.0  (landing page)Mahmoud Ahmed  OK    OK    OK  YES
80/435curatedAdipoChIP 1.26.0  (landing page)Mahmoud Ahmed  OK    OK    OK  YES
81/435curatedAdipoRNA 1.26.0  (landing page)Mahmoud Ahmed  OK    OK    WARNINGS  YES
82/435curatedBladderData 1.46.0  (landing page)Markus Riester  OK    OK    OK  YES
83/435curatedBreastData 2.38.0  (landing page)Katie Planey  OK    OK    OK  YES
84/435curatedCRCData 2.42.0  (landing page)Princy Parsana  OK    OK    ERROR  
85/435curatedMetagenomicData 3.18.0  (landing page)Lucas schiffer  OK    ERROR  skipped
86/435curatedOvarianData 1.48.0  (landing page)Levi Waldron  OK    OK    OK  YES
87/435curatedPCaData 1.6.0  (landing page)Teemu Daniel Laajala  OK    ERROR  skipped
88/435curatedTBData 2.6.0  (landing page)Xutao Wang  OK    ERROR  skipped
89/435curatedTCGAData 1.32.0  (landing page)Marcel Ramos  OK    ERROR  skipped
90/435CytoMethIC 1.6.0  (landing page)Jacob Fanale  OK    ERROR  skipped
D
ABCDEFGHIJKLMNOPQRSTUVWXYZ
PackageMaintainerINSTALLBUILDCHECK
91/435DAPARdata 1.40.0  (landing page)Samuel Wieczorek  OK    OK    OK  YES
92/435davidTiling 1.50.0  (landing page)Wolfgang Huber  OK    OK    WARNINGS  YES
93/435depmap 1.24.0  (landing page)Laurent Gatto  OK    ERROR  skipped
94/435derfinderData 2.28.0  (landing page)Leonardo Collado-Torres  OK    OK    OK  YES
95/435DeSousa2013 1.46.0  (landing page)Xin Wang  OK    OK    OK  YES
96/435DExMAdata 1.18.0  (landing page)Juan Antonio Villatoro-García  OK    OK    OK  YES
97/435diffloopdata 1.38.0  (landing page)Caleb Lareau  OK    OK    OK  YES
98/435diggitdata 1.42.0  (landing page)Mariano Javier Alvarez  OK    OK    OK  YES
99/435DLBCL 1.50.0  (landing page)Marcus Dittrich  OK    OK    WARNINGS  YES
100/435DMRcatedata 2.28.0  (landing page)Tim Peters  OK    OK    OK  YES
101/435DNAZooData 1.10.0  (landing page)Jacques Serizay  OK    OK    OK  YES
102/435DonaPLLP2013 1.48.0  (landing page)Joseph D. Barry  OK    OK    OK  YES
103/435DoReMiTra 1.0.0  (landing page)Ahmed Salah  OK    OK    OK  YES
104/435dorothea 1.22.0  (landing page)Pau Badia-i-Mompel  OK    OK    OK  YES
105/435dressCheck 0.48.0  (landing page)Vincent Carey  OK    OK    OK  YES
106/435DropletTestFiles 1.20.0  (landing page)Aaron Lun  OK    ERROR  skipped
107/435DrugVsDiseasedata 1.46.0  (landing page)J. Saez-Rodriguez  OK    OK    OK  YES
108/435DuoClustering2018 1.28.0  (landing page)Angelo Duò  OK    ERROR  skipped
109/435DvDdata 1.46.0  (landing page)J. Saez-Rodriguez  OK    OK    WARNINGS  YES
110/435dyebiasexamples 1.50.0  (landing page)Philip Lijnzaad  OK    OK    WARNINGS  YES
E
ABCDEFGHIJKLMNOPQRSTUVWXYZ
PackageMaintainerINSTALLBUILDCHECK
111/435easierData 1.16.0  (landing page)Oscar Lapuente-Santana  OK    OK    OK  YES
112/435EatonEtAlChIPseq 0.48.0  (landing page)Patrick Aboyoun  OK    OK    WARNINGS  YES
113/435ecoliLeucine 1.50.0  (landing page)Laurent Gautier  OK    OK    WARNINGS  YES
114/435EGSEAdata 1.38.0  (landing page)Monther Alhamdoosh  OK    OK    OK  YES
115/435ELMER.data 2.34.0  (landing page)Tiago Chedraoui Silva  OK    OK    WARNINGS  YES
116/435emtdata 1.18.0  (landing page)Malvika D. Kharbanda  OK    ERROR  skipped
117/435eoPredData 1.4.0  (landing page)Victor Yuan  OK    OK    OK  YES
118/435EpiMix.data 1.12.0  (landing page)Yuanning Zheng  OK    OK    WARNINGS  YES
119/435epimutacionsData 1.14.0  (landing page)Leire Abarrategui  OK    ERROR  skipped
120/435EpipwR.data 1.4.0  (landing page)Jackson Barth  OK    OK    OK  YES
121/435estrogen 1.56.0  (landing page)Wolfgang Huber  OK    OK    OK  YES
122/435etec16s 1.38.0  (landing page)Joseph N. Paulson  OK    OK    OK  YES
123/435ewceData 1.18.0  (landing page)Hiranyamaya Dash  OK    ERROR  skipped
F
ABCDEFGHIJKLMNOPQRSTUVWXYZ
PackageMaintainerINSTALLBUILDCHECK
124/435faahKO 1.50.0  (landing page)Steffen Neumann  OK    OK    OK  YES
125/435fabiaData 1.48.0  (landing page)Sepp Hochreiter  OK    OK    OK  YES
126/435FANTOM3and4CAGE 1.46.0  (landing page)Vanja Haberle  OK    OK    OK  YES
127/435ffpeExampleData 1.48.0  (landing page)Levi Waldron  OK    OK    OK  YES
128/435fibroEset 1.52.0  (landing page)Sylvia Merk  OK    OK    WARNINGS  YES
129/435FieldEffectCrc 1.20.0  (landing page)Christopher Dampier  OK    ERROR  skipped
130/435FIs 1.38.0  (landing page)Herbert Braselmann , Martin Selmansberger  OK    OK    OK  YES
131/435fission 1.30.0  (landing page)Michael Love  OK    OK    OK  YES
132/435Fletcher2013a 1.46.0  (landing page)Mauro Castro  OK    OK    OK  YES
133/435Fletcher2013b 1.46.0  (landing page)Mauro Castro  OK    OK    WARNINGS  YES
134/435flowPloidyData 1.36.0  (landing page)Tyler Smith  OK    OK    OK  YES
135/435FlowSorted.Blood.450k 1.48.0  (landing page)Andrew E Jaffe  OK    OK    WARNINGS  YES
136/435FlowSorted.Blood.EPIC 2.14.0  (landing page)Lucas A. Salas  OK    OK    OK  YES
137/435FlowSorted.CordBlood.450k 1.38.0  (landing page)Shan V. Andrews  OK    OK    WARNINGS  YES
138/435FlowSorted.CordBloodCombined.450k 1.26.0  (landing page)Lucas A. Salas  OK    OK    OK  YES
139/435FlowSorted.CordBloodNorway.450k 1.36.0  (landing page)kristina gervin  OK    OK    WARNINGS  YES
140/435FlowSorted.DLPFC.450k 1.46.0  (landing page)Andrew E Jaffe  OK    OK    WARNINGS  YES
141/435flowWorkspaceData 3.22.0  (landing page)Mike Jiang  OK    OK    OK  YES
142/435fourDNData 1.10.0  (landing page)Jacques Serizay  OK    OK    OK  YES
143/435frmaExampleData 1.46.0  (landing page)Matthew N. McCall  OK    OK    WARNINGS  YES
144/435furrowSeg 1.38.0  (landing page)Joseph Barry  OK    OK    WARNINGS  YES
G
ABCDEFGHIJKLMNOPQRSTUVWXYZ
PackageMaintainerINSTALLBUILDCHECK
145/435gageData 2.48.0  (landing page)Weijun Luo  OK    OK    OK  YES
146/435gaschYHS 1.48.0  (landing page)Vince Carey  OK    OK    OK  YES
147/435gcspikelite 1.48.0  (landing page)Mark Robinson  OK    OK    WARNINGS  YES
148/435gDNAinRNAseqData 1.10.0  (landing page)Robert Castelo  OK    OK    OK  YES
149/435gDRtestData 1.8.0  (landing page)Arkadiusz Gladki  OK    OK    OK  YES
150/435geneLenDataBase 1.46.0  (landing page)Federico Marini  OK    OK    OK  YES
151/435genomationData 1.42.0  (landing page)Vedran Franke  OK    OK    OK  YES
152/435GenomicDistributionsData 1.18.0  (landing page)Kristyna Kupkova  OK    OK    OK  YES
153/435GeuvadisTranscriptExpr 1.38.0  (landing page)Malgorzata Nowicka  OK    OK    OK  YES
154/435GIGSEAdata 1.28.0  (landing page)Shijia Zhu  OK    OK    WARNINGS  YES
155/435golubEsets 1.52.0  (landing page)Vince Carey  OK    OK    OK  YES
156/435gpaExample 1.22.0  (landing page)Dongjun Chung  OK    OK    OK  YES
157/435grndata 1.42.0  (landing page)Pau Bellot  OK    OK    WARNINGS  YES
158/435GSBenchMark 1.30.0  (landing page)Bahman Afsari  OK    OK    OK  YES
159/435GSE103322 1.16.0  (landing page)Mariano Alvarez  OK    OK    OK  YES
160/435GSE13015 1.18.0  (landing page)Darawan Rinchai  OK    OK    OK  YES
161/435GSE159526 1.16.0  (landing page)Victor Yuan  OK    OK    OK  YES
162/435GSE62944 1.38.0  (landing page)Bioconductor Package Maintainer  OK    OK    OK  YES
163/435GSVAdata 1.46.0  (landing page)Robert Castelo  OK    OK    OK  YES
164/435GWASdata 1.48.0  (landing page)Stephanie Gogarten  OK    OK    OK  YES
H
ABCDEFGHIJKLMNOPQRSTUVWXYZ
PackageMaintainerINSTALLBUILDCHECK
165/435h5vcData 2.30.0  (landing page)Paul Theodor Pyl  OK    OK    OK  YES
166/435hapmap100khind 1.52.0  (landing page)Benilton Carvalho  OK    OK    OK  YES
167/435hapmap100kxba 1.52.0  (landing page)Benilton Carvalho  OK    OK    OK  YES
168/435hapmap500knsp 1.52.0  (landing page)Benilton Carvalho  OK    OK    OK  YES
169/435hapmap500ksty 1.52.0  (landing page)Benilton Carvalho  OK    OK    OK  YES
170/435hapmapsnp5 1.52.0  (landing page)Benilton Carvalho  OK    OK    OK  YES
171/435hapmapsnp6 1.52.0  (landing page)Benilton Carvalho  OK    OK    OK  YES
172/435harbChIP 1.48.0  (landing page)VJ Carey  OK    OK    OK  YES
173/435HarmanData 1.38.0  (landing page)Jason Ross  OK    OK    OK  YES
174/435HarmonizedTCGAData 1.32.0  (landing page)Tianle Ma  OK    OK    OK  YES
175/435HCAData 1.26.0  (landing page)Federico Marini  OK    OK    OK  YES
176/435HCATonsilData 1.8.0  (landing page)Ramon Massoni-Badosa  OK    OK    OK  YES
177/435HD2013SGI 1.50.0  (landing page)Mike Smith  OK    OK    OK  YES
178/435HDCytoData 1.30.0  (landing page)Lukas M. Weber  OK    OK    OK  YES
179/435healthyControlsPresenceChecker 1.14.0  (landing page)Davide Chicco  OK    OK    ERROR  
180/435healthyFlowData 1.48.0  (landing page)Ariful Azad  OK    OK    OK  YES
181/435HEEBOdata 1.48.0  (landing page)Agnes Paquet  OK    OK    WARNINGS  YES
182/435HelloRangesData 1.36.0  (landing page)Michael Lawrence  OK    OK    OK  YES
183/435hgu133abarcodevecs 1.48.0  (landing page)Matthew N. McCall  OK    OK    OK  YES
184/435hgu133plus2barcodevecs 1.48.0  (landing page)Matthew N. McCall  OK    OK    OK  YES
185/435hgu133plus2CellScore 1.30.0  (landing page)Nancy Mah  OK    OK    WARNINGS  YES
186/435hgu2beta7 1.50.0  (landing page)Bioconductor Package Maintainer  OK    OK    WARNINGS  YES
187/435HiBED 1.8.0  (landing page)Ze Zhang  OK    OK    OK  YES
188/435HiCDataHumanIMR90 1.30.0  (landing page)Nicolas Servant  OK    OK    WARNINGS  YES
189/435HiCDataLymphoblast 1.46.0  (landing page)Borbala Mifsud  OK    OK    OK  YES
190/435HiContactsData 1.12.0  (landing page)Jacques Serizay  OK    OK    OK  YES
191/435HighlyReplicatedRNASeq 1.22.0  (landing page)Constantin Ahlmann-Eltze  OK    OK    OK  YES
192/435Hiiragi2013 1.46.0  (landing page)Wolfgang Huber  OK    OK    WARNINGS  YES
193/435HIVcDNAvantWout03 1.50.0  (landing page)Chris Fraley  OK    OK    WARNINGS  YES
194/435HMP16SData 1.30.0  (landing page)Lucas schiffer  OK    OK    OK  YES
195/435HMP2Data 1.24.0  (landing page)John Stansfield , Ekaterina Smirnova  OK    OK    OK  YES
196/435homosapienDEE2CellScore 1.6.0  (landing page)Justin Marsh  OK    ERROR  skipped
197/435HSMMSingleCell 1.30.0  (landing page)Cole Trapnell  OK    OK    WARNINGS  YES
198/435HumanAffyData 1.36.0  (landing page)Brad Nelms  OK    OK    OK  YES
199/435humanHippocampus2024 1.2.0  (landing page)Christine Hou  OK    OK    OK  YES
200/435humanStemCell 0.50.0  (landing page)R. Gentleman  OK    OK    WARNINGS  YES
I
ABCDEFGHIJKLMNOPQRSTUVWXYZ
PackageMaintainerINSTALLBUILDCHECK
201/435IHWpaper 1.38.0  (landing page)Nikos Ignatiadis  OK    OK    OK  YES
202/435Illumina450ProbeVariants.db 1.46.0  (landing page)Tiffany Morris  OK    OK    OK  YES
203/435IlluminaDataTestFiles 1.48.0  (landing page)Kasper Daniel Hansen  OK    OK    OK  YES
204/435imcdatasets 1.18.0  (landing page)Nicolas Damond  OK    OK    OK  YES
205/435iModMixData 1.0.0  (landing page)Isis Narvaez-Bandera  OK    OK    OK  YES
206/435ITALICSData 2.48.0  (landing page)Guillem Rigaill  OK    OK    WARNINGS  YES
207/435Iyer517 1.52.0  (landing page)Vince Carey  OK    OK    OK  YES
J
ABCDEFGHIJKLMNOPQRSTUVWXYZ
PackageMaintainerINSTALLBUILDCHECK
208/435JASPAR2014 1.46.0  (landing page)Ge Tan  OK    OK    WARNINGS  YES
209/435JASPAR2016 1.38.0  (landing page)Ge Tan  OK    OK    OK  YES
210/435JohnsonKinaseData 1.6.0  (landing page)Florian Geier  OK    OK    OK  YES
K
ABCDEFGHIJKLMNOPQRSTUVWXYZ
PackageMaintainerINSTALLBUILDCHECK
211/435KEGGandMetacoreDzPathwaysGEO 1.30.0  (landing page)Gaurav Bhatti  OK    OK    OK  YES
212/435KEGGdzPathwaysGEO 1.48.0  (landing page)Gaurav Bhatti  OK    OK    OK  YES
213/435kidpack 1.52.0  (landing page)Wolfgang Huber  OK    OK    WARNINGS  YES
214/435KOdata 1.36.0  (landing page)Shana White  OK    OK    WARNINGS  YES
L
ABCDEFGHIJKLMNOPQRSTUVWXYZ
PackageMaintainerINSTALLBUILDCHECK
215/435leeBamViews 1.46.0  (landing page)VJ Carey  OK    OK    OK  YES
216/435LegATo 1.4.0  (landing page)Aubrey Odom  OK    OK    OK  YES
217/435leukemiasEset 1.46.0  (landing page)Sara Aibar  OK    OK    OK  YES
218/435LiebermanAidenHiC2009 0.48.0  (landing page)Felix Klein  OK    OK    WARNINGS  YES
219/435ListerEtAlBSseq 1.42.0  (landing page)Mattia Furlan  OK    OK    WARNINGS  YES
220/435LRcellTypeMarkers 1.18.0  (landing page)Wenjing Ma  OK    OK    OK  YES
221/435lumiBarnes 1.50.0  (landing page)Pan Du  OK    OK    WARNINGS  YES
222/435LungCancerACvsSCCGEO 1.46.0  (landing page)Adi Laurentiu Tarca  OK    OK    OK  YES
223/435LungCancerLines 0.48.0  (landing page)Michael Lawrence  OK    OK    OK  YES
224/435lungExpression 0.48.0  (landing page)Robert Scharpf  OK    OK    OK  YES
225/435lydata 1.36.0  (landing page)Alex Pickering  OK    OK    OK  YES
M
ABCDEFGHIJKLMNOPQRSTUVWXYZ
PackageMaintainerINSTALLBUILDCHECK
226/435M3DExampleData 1.36.0  (landing page)Tallulah Andrews  OK    OK    WARNINGS  YES
227/435macrophage 1.26.0  (landing page)Michael Love  OK    OK    WARNINGS  YES
228/435MACSdata 1.18.0  (landing page)Qiang Hu  OK    OK    OK  YES
229/435mammaPrintData 1.46.0  (landing page)Luigi Marchionni  OK    OK    OK  YES
230/435maqcExpression4plex 1.54.0  (landing page)Benilton Carvalho  OK    OK    OK  YES
231/435MAQCsubset 1.48.0  (landing page)VJ Carey  OK    OK    WARNINGS  YES
232/435marinerData 1.10.0  (landing page)Eric Davis  OK    OK    OK  YES
233/435mCSEAdata 1.30.0  (landing page)Jordi Martorell Marugán  OK    OK    WARNINGS  YES
234/435mcsurvdata 1.28.0  (landing page)Adria Caballe Mestres  OK    OK    OK  YES
235/435MEDIPSData 1.46.0  (landing page)Lukas Chavez  OK    OK    WARNINGS  YES
236/435MEEBOdata 1.48.0  (landing page)Agnes Paquet  OK    OK    WARNINGS  YES
237/435MerfishData 1.12.0  (landing page)Ludwig Geistlinger  OK    OK    OK  YES
238/435MetaGxBreast 1.30.0  (landing page)Benjamin Haibe-Kains  OK    OK    OK  YES
239/435MetaGxOvarian 1.30.0  (landing page)Benjamin Haibe-Kains  OK    ERROR  skipped
240/435MetaGxPancreas 1.30.0  (landing page)Benjamin Haibe-Kains  OK    OK    OK  YES
241/435metaMSdata 1.46.0  (landing page)Yann Guitton  OK    OK    OK  YES
242/435MetaScope 1.10.0  (landing page)Sean Lu  OK    OK    ERROR  
243/435MethylAidData 1.42.0  (landing page)M. van Iterson  OK    OK    OK  YES
244/435methylclockData 1.18.0  (landing page)Dolors Pelegri-Siso  OK    OK    OK  YES
245/435MethylSeqData 1.20.0  (landing page)Peter Hickey  OK    OK    OK  YES
246/435MicrobiomeBenchmarkData 1.12.0  (landing page)Samuel Gamboa  OK    OK    OK  YES
247/435microbiomeDataSets 1.18.0  (landing page)Leo Lahti  OK    OK    OK  YES
248/435microRNAome 1.32.0  (landing page)Matthew N. McCall  OK    OK    WARNINGS  YES
249/435minfiData 0.56.0  (landing page)Kasper Daniel Hansen  OK    OK    WARNINGS  YES
250/435minfiDataEPIC 1.36.0  (landing page)Kasper Daniel Hansen  OK    OK    WARNINGS  YES
251/435minionSummaryData 1.40.0  (landing page)Mike Smith  OK    OK    WARNINGS  YES
252/435miRcompData 1.40.0  (landing page)Matthew N. McCall  OK    OK    OK  YES
253/435miRNATarget 1.48.0  (landing page)Y-h. Taguchi  OK    OK    OK  YES
254/435MMDiffBamSubset 1.46.0  (landing page)Gabriele Schweikert  OK    OK    OK  YES
255/435MOFAdata 1.26.0  (landing page)Britta Velten  OK    OK    OK  YES
256/435mosaicsExample 1.48.0  (landing page)Dongjun Chung  OK    OK    WARNINGS  YES
257/435mouse4302barcodevecs 1.48.0  (landing page)Matthew N. McCall  OK    OK    OK  YES
258/435MouseAgingData 1.6.0  (landing page)Tram Nguyen  OK    OK    OK  YES
259/435MouseGastrulationData 1.24.0  (landing page)Jonathan Griffiths  OK    OK    OK  YES
260/435MouseThymusAgeing 1.18.0  (landing page)Mike Morgan  OK    OK    OK  YES
261/435msd16s 1.30.0  (landing page)Joseph N. Paulson  OK    OK    OK  YES
262/435msdata 0.50.0  (landing page)Steffen Neumann , Laurent Gatto  OK    OK    OK  YES
263/435msigdb 1.18.0  (landing page)Dharmesh D. Bhuva  OK    OK    WARNINGS  YES
264/435MSMB 1.28.0  (landing page)Wolfgang Huber  OK    OK    OK  YES
265/435msPurityData 1.38.0  (landing page)Thomas N. Lawson  OK    OK    OK  YES
266/435msqc1 1.38.0  (landing page)Christian Panse  OK    OK    OK  YES
267/435mtbls2 1.40.0  (landing page)Steffen Neumann  OK    OK    WARNINGS  YES
268/435MUGAExampleData 1.30.0  (landing page)Daniel Gatti  OK    OK    OK  YES
269/435muleaData 1.6.0  (landing page)Eszter Ari  OK    OK    WARNINGS  YES
270/435multiWGCNAdata 1.8.0  (landing page)Dario Tommasini  OK    OK    OK  YES
271/435muscData 1.24.0  (landing page)Helena L. Crowell  OK    OK    WARNINGS  YES
272/435muSpaData 1.2.0  (landing page)Peiying Cai  OK    OK    OK  YES
273/435mvoutData 1.46.0  (landing page)VJ Carey  OK    OK    OK  YES
N
ABCDEFGHIJKLMNOPQRSTUVWXYZ
PackageMaintainerINSTALLBUILDCHECK
274/435NanoporeRNASeq 1.20.0  (landing page)Ying Chen  OK    OK    OK  YES
275/435nanotubes 1.26.0  (landing page)Malte Thodberg  OK    OK    OK  YES
276/435NCIgraphData 1.46.0  (landing page)Laurent Jacob  OK    OK    WARNINGS  YES
277/435NestLink 1.26.0  (landing page)Lennart Opitz  OK    OK    OK  YES
278/435NetActivityData 1.12.0  (landing page)Carlos Ruiz-Arenas  OK    OK    OK  YES
279/435Neve2006 0.48.0  (landing page)VJ Carey  OK    OK    OK  YES
280/435NGScopyData 1.30.0  (landing page)Xiaobei Zhao  OK    OK    WARNINGS  YES
281/435nmrdata 1.0.0  (landing page)Torben Kimhofer  OK    OK    OK  YES
282/435nullrangesData 1.16.0  (landing page)Michael Love  OK    OK    OK  YES
283/435NxtIRFdata 1.16.0  (landing page)Alex Chit Hei Wong  OK    OK    OK  YES
O
ABCDEFGHIJKLMNOPQRSTUVWXYZ
PackageMaintainerINSTALLBUILDCHECK
284/435ObMiTi 1.18.0  (landing page)Omar Elashkar  OK    OK    OK  YES
285/435oct4 1.26.0  (landing page)Michael Love  OK    OK    OK  YES
286/435octad.db 1.12.0  (landing page)E. Chekalin  OK    OK    OK  YES
287/435OMICsPCAdata 1.28.0  (landing page)Subhadeep Das  OK    OK    WARNINGS  YES
288/435OnassisJavaLibs 1.32.0  (landing page)Eugenia Galeota  OK    OK    OK  YES
289/435optimalFlowData 1.22.0  (landing page)Hristo Inouzhe  OK    OK    WARNINGS  YES
290/435orthosData 1.8.0  (landing page)Panagiotis Papasaikas  OK    OK    OK  YES
P
ABCDEFGHIJKLMNOPQRSTUVWXYZ
PackageMaintainerINSTALLBUILDCHECK
291/435pasilla 1.38.0  (landing page)Alejandro Reyes  OK    OK    OK  YES
292/435pasillaBamSubset 0.48.0  (landing page)Hervé Pagès  OK    OK    OK  YES
293/435PasillaTranscriptExpr 1.38.0  (landing page)Malgorzata Nowicka  OK    OK    OK  YES
294/435PathNetData 1.46.0  (landing page)Ludwig Geistlinger  OK    OK    OK  YES
295/435PCHiCdata 1.38.0  (landing page)Mikhail Spivakov  OK    OK    WARNINGS  YES
296/435pd.atdschip.tiling 0.48.0  (landing page)Kristof De Beuf  OK    OK    WARNINGS  YES
297/435pepDat 1.30.0  (landing page)Renan Sauteraud  OK    OK    OK  YES
298/435PepsNMRData 1.28.0  (landing page)Manon Martin  OK    OK    WARNINGS  YES
299/435PhyloProfileData 1.24.0  (landing page)Vinh Tran  OK    OK    OK  YES
300/435plotgardenerData 1.16.0  (landing page)Nicole Kramer  OK    OK    WARNINGS  YES
301/435prebsdata 1.46.0  (landing page)Karolis Uziela  OK    OK    OK  YES
302/435preciseTADhub 1.18.0  (landing page)Mikhail Dozmorov  OK    OK    OK  YES
303/435PREDAsampledata 0.50.0  (landing page)Francesco Ferrari  OK    OK    OK  YES
304/435ProData 1.48.0  (landing page)Xiaochun Li  OK    OK    OK  YES
305/435pRolocdata 1.48.0  (landing page)Lisa Breckels  OK    OK    OK  YES
306/435prostateCancerCamcap 1.38.0  (landing page)Mark Dunning  OK    OK    WARNINGS  YES
307/435prostateCancerGrasso 1.38.0  (landing page)Mark Dunning  OK    OK    WARNINGS  YES
308/435prostateCancerStockholm 1.38.0  (landing page)Mark Dunning  OK    OK    WARNINGS  YES
309/435prostateCancerTaylor 1.38.0  (landing page)Mark Dunning  OK    OK    WARNINGS  YES
310/435prostateCancerVarambally 1.38.0  (landing page)Mark Dunning  OK    OK    WARNINGS  YES
311/435ProteinGymR 1.4.0  (landing page)Tram Nguyen  OK    OK    OK  YES
312/435ptairData 1.18.0  (landing page)camille Roquencourt  OK    OK    OK  YES
313/435PtH2O2lipids 1.36.0  (landing page)James Collins  OK    OK    WARNINGS  YES
314/435pumadata 2.46.0  (landing page)Xuejun liu  OK    OK    OK  YES
315/435PWMEnrich.Dmelanogaster.background 4.44.0  (landing page)Diego Diez  OK    OK    OK  YES
316/435PWMEnrich.Hsapiens.background 4.44.0  (landing page)Diego Diez  OK    OK    OK  YES
317/435PWMEnrich.Mmusculus.background 4.44.0  (landing page)Diego Diez  OK    OK    OK  YES
Q
ABCDEFGHIJKLMNOPQRSTUVWXYZ
PackageMaintainerINSTALLBUILDCHECK
318/435QDNAseq.hg19 1.40.0  (landing page)Daoud Sie  OK    OK    OK  YES
319/435QDNAseq.mm10 1.40.0  (landing page)Daoud Sie  OK    OK    OK  YES
320/435qPLEXdata 1.28.0  (landing page)Kamal Kishore Developer  OK    ERROR  skipped
321/435QUBICdata 1.38.0  (landing page)Yu Zhang  OK    OK    OK  YES
R
ABCDEFGHIJKLMNOPQRSTUVWXYZ
PackageMaintainerINSTALLBUILDCHECK
322/435raerdata 1.8.0  (landing page)Kent Riemondy  OK    OK    OK  YES
323/435rcellminerData 2.32.0  (landing page)Augustin Luna , Vinodh Rajapakse  OK    OK    WARNINGS  YES
324/435RcisTarget.hg19.motifDBs.cisbpOnly.500bp 1.30.0  (landing page)Sara Aibar  OK    OK    WARNINGS  YES
325/435ReactomeGSA.data 1.24.0  (landing page)Johannes Griss  OK    OK    WARNINGS  YES
326/435RegParallel 1.28.0  (landing page)Kevin Blighe  OK    OK    OK  YES
327/435RforProteomics 1.48.0  (landing page)Laurent Gatto  OK    OK    WARNINGS  YES
328/435RGMQLlib 1.30.0  (landing page)Simone Pallotta  OK    OK    OK  YES
329/435rheumaticConditionWOLLBOLD 1.48.0  (landing page)Alejandro Quiroz-Zarate  OK    OK    OK  YES
330/435RITANdata 1.34.0  (landing page)Michael Zimmermann  OK    OK    OK  YES
331/435RMassBankData 1.48.0  (landing page)Michael Stravs, Emma Schymanski  OK    OK    OK  YES
332/435RNAmodR.Data 1.24.0  (landing page)Felix G.M. Ernst  OK    OK    OK  YES
333/435RNAseqData.HNRNPC.bam.chr14 0.48.0  (landing page)Hervé Pagès  OK    OK    OK  YES
334/435RnaSeqSampleSizeData 1.42.0  (landing page)Shilin Zhao  OK    OK    OK  YES
335/435RnBeads.hg19 1.42.0  (landing page)RnBeadsAnnotationCreator  OK    OK    OK  YES
336/435RnBeads.hg38 1.42.0  (landing page)RnBeads Team  OK    OK    WARNINGS  YES
337/435RnBeads.mm10 2.18.0  (landing page)RnBeads Team  OK    OK    OK  YES
338/435RnBeads.mm9 1.42.0  (landing page)RnBeadsAnnotationCreator  OK    OK    OK  YES
339/435RnBeads.rn5 1.42.0  (landing page)RnBeadsAnnotationCreator  OK    OK    OK  YES
340/435RRBSdata 1.30.0  (landing page)Katja Hebestreit  OK    OK    OK  YES
341/435rRDPData 1.30.0  (landing page)Michael Hahsler  OK    OK    OK  YES
342/435RTCGA.clinical 20151101.40.0  (landing page)Marcin Kosinski  OK    OK    WARNINGS  YES
343/435RTCGA.CNV 1.38.0  (landing page)Marcin Kosinski  OK    OK    WARNINGS  YES
344/435RTCGA.methylation 1.38.0  (landing page)Marcin Kosinski  OK    OK    WARNINGS  YES
345/435RTCGA.miRNASeq 1.38.0  (landing page)Marcin Kosinski  OK    OK    WARNINGS  YES
346/435RTCGA.mRNA 1.38.0  (landing page)Marcin Kosinski  OK    OK    WARNINGS  YES
347/435RTCGA.mutations 20151101.40.0  (landing page)Marcin Kosinski  OK    OK    WARNINGS  YES
348/435RTCGA.PANCAN12 1.38.0  (landing page)Marcin Kosinski  OK    OK    OK  YES
349/435RTCGA.rnaseq 20151101.40.0  (landing page)Marcin Kosinski  OK    OK    WARNINGS  YES
350/435RTCGA.RPPA 1.38.0  (landing page)Marcin Kosinski  OK    OK    WARNINGS  YES
351/435RUVnormalizeData 1.30.0  (landing page)Laurent Jacob  OK    OK    OK  YES
S
ABCDEFGHIJKLMNOPQRSTUVWXYZ
PackageMaintainerINSTALLBUILDCHECK
352/435sampleClassifierData 1.34.0  (landing page)Khadija El Amrani  OK    OK    OK  YES
353/435SBGNview.data 1.24.0  (landing page)Weijun Luo  OK    OK    OK  YES
354/435scaeData 1.6.0  (landing page)Ahmad Al Ajami  OK    OK    OK  YES
355/435scanMiRData 1.16.0  (landing page)Pierre-Luc Germain  OK    OK    OK  YES
356/435scATAC.Explorer 1.16.0  (landing page)Jonathan Wang  OK    OK    OK  YES
357/435SCLCBam 1.42.0  (landing page)Oscar Krijgsman  OK    OK    OK  YES
358/435scMultiome 1.10.0  (landing page)Xiaosai Yao  OK    OK    OK  YES
359/435scpdata 1.18.0  (landing page)Christophe Vanderaa  OK    OK    OK  YES
360/435scRNAseq 2.24.0  (landing page)Aaron Lun  OK    OK    OK  YES
361/435scTHI.data 1.22.0  (landing page)Michele Ceccarelli  OK    OK    OK  YES
362/435seq2pathway.data 1.42.0  (landing page)Arjun Kinstlick  OK    OK    WARNINGS  YES
363/435seqc 1.44.0  (landing page)Yang Liao and Wei Shi  OK    OK    WARNINGS  YES
364/435serumStimulation 1.46.0  (landing page)Morten Hansen,  OK    OK    OK  YES
365/435sesameData 1.28.0  (landing page)Wanding Zhou  OK    OK    OK  YES
366/435seventyGeneData 1.46.0  (landing page)Luigi Marchionni  OK    OK    OK  YES
367/435SFEData 1.12.0  (landing page)Lambda Moses  OK    OK    OK  YES
368/435shinyMethylData 1.30.0  (landing page)Jean-Philippe Fortin  OK    OK    WARNINGS  YES
369/435signatureSearchData 1.24.0  (landing page)Brendan Gongol  OK    OK    OK  YES
370/435SimBenchData 1.18.0  (landing page)Yue Cao  OK    OK    OK  YES
371/435simpIntLists 1.46.0  (landing page)Kircicegi Korkmaz  OK    OK    WARNINGS  YES
372/435Single.mTEC.Transcriptomes 1.38.0  (landing page)Alejandro Reyes  OK    OK    OK  YES
373/435SingleCellMultiModal 1.22.0  (landing page)Marcel Ramos  OK    OK    OK  YES
374/435SingleMoleculeFootprintingData 1.18.0  (landing page)Guido Barzaghi  OK    OK    OK  YES
375/435smokingMouse 1.8.0  (landing page)Daianna Gonzalez-Padilla  OK    OK    OK  YES
376/435SNAData 1.56.0  (landing page)Denise Scholtens  OK    OK    OK  YES
377/435SNAGEEdata 1.46.0  (landing page)David Venet  OK    OK    OK  YES
378/435SNPhoodData 1.40.0  (landing page)Christian Arnold  OK    OK    OK  YES
379/435SomatiCAData 1.48.0  (landing page)Mengjie Chen  OK    OK    WARNINGS  YES
380/435SomaticCancerAlterations 1.46.0  (landing page)Julian Gehring  OK    OK    OK  YES
381/435SpatialDatasets 1.8.0  (landing page)Ellis Patrick  OK    OK    WARNINGS  YES
382/435spatialDmelxsim 1.16.0  (landing page)Michael Love  OK    OK    OK  YES
383/435spatialLIBD 1.22.0  (landing page)Leonardo Collado-Torres  OK    OK    OK  YES
384/435SpikeIn 1.52.0  (landing page)Robert D Shear  OK    OK    OK  YES
385/435SpikeInSubset 1.50.0  (landing page)Robert D Shear  OK    OK    WARNINGS  YES
386/435spqnData 1.22.0  (landing page)Yi Wang  OK    OK    OK  YES
387/435stemHypoxia 1.46.0  (landing page)Cristobal Fresno  OK    OK    OK  YES
388/435STexampleData 1.18.0  (landing page)Lukas M. Weber  OK    OK    OK  YES
389/435SubcellularSpatialData 1.6.0  (landing page)Dharmesh D. Bhuva  OK    OK    OK  YES
390/435SVM2CRMdata 1.42.0  (landing page)Guidantonio Malagoli Tagliazucchi  OK    OK    WARNINGS  YES
391/435systemPipeRdata 2.14.0  (landing page)Thomas Girke  OK    OK    OK  YES
T
ABCDEFGHIJKLMNOPQRSTUVWXYZ
PackageMaintainerINSTALLBUILDCHECK
392/435TabulaMurisData 1.28.0  (landing page)Charlotte Soneson  OK    OK    OK  YES
393/435TabulaMurisSenisData 1.16.0  (landing page)Charlotte Soneson  OK    OK    OK  YES
394/435TargetScoreData 1.46.0  (landing page)Yue Li  OK    OK    OK  YES
395/435TargetSearchData 1.48.0  (landing page)Alvaro Cuadros-Inostroza  OK    OK    OK  YES
396/435tartare 1.24.0  (landing page)Christian Panse  OK    OK    OK  YES
397/435TBX20BamSubset 1.46.0  (landing page)D. Bindreither  OK    OK    OK  YES
398/435TCGAbiolinksGUI.data 1.30.0  (landing page)Tiago Chedraoui Silva  OK    OK    WARNINGS  YES
399/435TCGAcrcmiRNA 1.30.0  (landing page)Claudio Isella  OK    OK    OK  YES
400/435TCGAcrcmRNA 1.30.0  (landing page)Claudio Isella  OK    OK    OK  YES
401/435TCGAMethylation450k 1.46.0  (landing page)Sean Davis  OK    OK    OK  YES
402/435TCGAWorkflowData 1.34.0  (landing page)Tiago Chedraoui Silva  OK    OK    OK  YES
403/435TENET.ExperimentHub 1.2.0  (landing page)Rhie Lab at the University of Southern California  OK    OK    OK  YES
404/435TENxBrainData 1.30.0  (landing page)Bioconductor Package Maintainer  OK    OK    OK  YES
405/435TENxBUSData 1.24.0  (landing page)Lambda Moses  OK    OK    OK  YES
406/435TENxPBMCData 1.28.0  (landing page)Stephanie Hicks  OK    OK    OK  YES
407/435TENxVisiumData 1.18.0  (landing page)Helena L. Crowell  OK    OK    OK  YES
408/435TENxXeniumData 1.6.0  (landing page)Matineh Rahmatbakhsh  OK    OK    OK  YES
409/435timecoursedata 1.20.0  (landing page)Nelle Varoquaux  OK    OK    OK  YES
410/435TimerQuant 1.40.0  (landing page)Joseph Barry  OK    ERROR  skipped
411/435tinesath1cdf 1.48.0  (landing page)Tine Casneuf  OK    OK    WARNINGS  YES
412/435tinesath1probe 1.48.0  (landing page)Tine Casneuf  OK    OK    WARNINGS  YES
413/435tissueTreg 1.30.0  (landing page)Charles Imbusch  OK    OK    OK  YES
414/435TMExplorer 1.20.0  (landing page)Erik Christensen  OK    OK    OK  YES
415/435tofsimsData 1.38.0  (landing page)Lorenz Gerber  OK    OK    WARNINGS  YES
416/435topdownrdata 1.32.0  (landing page)Sebastian Gibb  OK    OK    OK  YES
417/435TransOmicsData 1.6.0  (landing page)Di Xiao  OK    OK    OK  YES
418/435tuberculosis 1.16.0  (landing page)Lucas Schiffer  OK    OK    OK  YES
419/435TumourMethData 1.8.0  (landing page)Richard Heery  OK    OK    WARNINGS  YES
420/435tweeDEseqCountData 1.48.0  (landing page)Dolors Pelegri-Siso  OK    OK    WARNINGS  YES
421/435tximportData 1.38.0  (landing page)Michael Love  OK    OK    OK  YES
V
ABCDEFGHIJKLMNOPQRSTUVWXYZ
PackageMaintainerINSTALLBUILDCHECK
422/435VariantToolsData 1.34.0  (landing page)Michael Lawrence  OK    OK    OK  YES
423/435VectraPolarisData 1.14.0  (landing page)Wrobel Julia  OK    OK    OK  YES
424/435vulcandata 1.32.0  (landing page)Federico M. Giorgi  OK    OK    OK  YES
W
ABCDEFGHIJKLMNOPQRSTUVWXYZ
PackageMaintainerINSTALLBUILDCHECK
425/435WeberDivechaLCdata 1.12.0  (landing page)Lukas M. Weber  OK    OK    OK  YES
426/435WES.1KG.WUGSC 1.42.0  (landing page)Yuchao Jiang  OK    OK    OK  YES
427/435WGSmapp 1.22.0  (landing page)Rujin Wang  OK    OK    WARNINGS  YES
X
ABCDEFGHIJKLMNOPQRSTUVWXYZ
PackageMaintainerINSTALLBUILDCHECK
428/435xcoredata 1.14.0  (landing page)Maciej Migdał  OK    OK    OK  YES
429/435XhybCasneuf 1.48.0  (landing page)Tineke Casneuf  OK    OK    WARNINGS  YES
Y
ABCDEFGHIJKLMNOPQRSTUVWXYZ
PackageMaintainerINSTALLBUILDCHECK
430/435yeastCC 1.50.0  (landing page)Sandrine Dudoit  OK    OK    WARNINGS  YES
431/435yeastExpData 0.56.0  (landing page)R. Gentleman  OK    OK    WARNINGS  YES
432/435yeastGSData 0.48.0  (landing page)R. Gentleman  OK    OK    WARNINGS  YES
433/435yeastNagalakshmi 1.46.0  (landing page)Bioconductor Package Maintainer  OK    OK    OK  YES
434/435yeastRNASeq 0.48.0  (landing page)J. Bullard  OK    OK    WARNINGS  YES
Z
ABCDEFGHIJKLMNOPQRSTUVWXYZ
PackageMaintainerINSTALLBUILDCHECK
435/435zebrafishRNASeq 1.30.0  (landing page)Davide Risso  OK    OK    OK  YES