Back to Build/check report for BioC 3.22 experimental data
ABCDEFGHIJKLMNOPQR[S]TUVWXYZ

This page was generated on 2025-11-25 15:41 -0500 (Tue, 25 Nov 2025).

HostnameOSArch (*)R versionInstalled pkgs
nebbiolo2Linux (Ubuntu 24.04.3 LTS)x86_644.5.2 (2025-10-31) -- "[Not] Part in a Rumble" 4875
Click on any hostname to see more info about the system (e.g. compilers)      (*) as reported by 'uname -p', except on Windows and Mac OS X

Package 360/435HostnameOS / ArchINSTALLBUILDCHECK
scRNAseq 2.24.0  (landing page)
Aaron Lun
Snapshot Date: 2025-11-25 07:30 -0500 (Tue, 25 Nov 2025)
git_url: https://git.bioconductor.org/packages/scRNAseq
git_branch: RELEASE_3_22
git_last_commit: 111920c
git_last_commit_date: 2025-10-29 09:58:50 -0500 (Wed, 29 Oct 2025)
nebbiolo2Linux (Ubuntu 24.04.3 LTS) / x86_64  OK    OK    OK  UNNEEDED, same version is already published


CHECK results for scRNAseq on nebbiolo2

To the developers/maintainers of the scRNAseq package:
- Use the following Renviron settings to reproduce errors and warnings.
- If 'R CMD check' started to fail recently on the Linux builder(s) over a missing dependency, add the missing dependency to 'Suggests:' in your DESCRIPTION file. See Renviron.bioc for more information.

raw results


Summary

Package: scRNAseq
Version: 2.24.0
Command: /home/biocbuild/bbs-3.22-bioc/R/bin/R CMD check --install=check:scRNAseq.install-out.txt --library=/home/biocbuild/bbs-3.22-bioc/R/site-library --timings scRNAseq_2.24.0.tar.gz
StartedAt: 2025-11-25 13:03:12 -0500 (Tue, 25 Nov 2025)
EndedAt: 2025-11-25 13:19:34 -0500 (Tue, 25 Nov 2025)
EllapsedTime: 982.3 seconds
RetCode: 0
Status:   OK  
CheckDir: scRNAseq.Rcheck
Warnings: 0

Command output

##############################################################################
##############################################################################
###
### Running command:
###
###   /home/biocbuild/bbs-3.22-bioc/R/bin/R CMD check --install=check:scRNAseq.install-out.txt --library=/home/biocbuild/bbs-3.22-bioc/R/site-library --timings scRNAseq_2.24.0.tar.gz
###
##############################################################################
##############################################################################


* using log directory ‘/home/biocbuild/bbs-3.22-data-experiment/meat/scRNAseq.Rcheck’
* using R version 4.5.2 (2025-10-31)
* using platform: x86_64-pc-linux-gnu
* R was compiled by
    gcc (Ubuntu 13.3.0-6ubuntu2~24.04) 13.3.0
    GNU Fortran (Ubuntu 13.3.0-6ubuntu2~24.04) 13.3.0
* running under: Ubuntu 24.04.3 LTS
* using session charset: UTF-8
* checking for file ‘scRNAseq/DESCRIPTION’ ... OK
* this is package ‘scRNAseq’ version ‘2.24.0’
* package encoding: UTF-8
* checking package namespace information ... OK
* checking package dependencies ... OK
* checking if this is a source package ... OK
* checking if there is a namespace ... OK
* checking for hidden files and directories ... NOTE
Found the following hidden files and directories:
  .BBSoptions
These were most likely included in error. See section ‘Package
structure’ in the ‘Writing R Extensions’ manual.
* checking for portable file names ... OK
* checking for sufficient/correct file permissions ... OK
* checking whether package ‘scRNAseq’ can be installed ... OK
* checking installed package size ... OK
* checking package directory ... OK
* checking ‘build’ directory ... OK
* checking DESCRIPTION meta-information ... OK
* checking top-level files ... OK
* checking for left-over files ... OK
* checking index information ... OK
* checking package subdirectories ... OK
* checking code files for non-ASCII characters ... OK
* checking R files for syntax errors ... OK
* checking whether the package can be loaded ... OK
* checking whether the package can be loaded with stated dependencies ... OK
* checking whether the package can be unloaded cleanly ... OK
* checking whether the namespace can be loaded with stated dependencies ... OK
* checking whether the namespace can be unloaded cleanly ... OK
* checking loading without being on the library search path ... OK
* checking dependencies in R code ... OK
* checking S3 generic/method consistency ... OK
* checking replacement functions ... OK
* checking foreign function calls ... OK
* checking R code for possible problems ... OK
* checking Rd files ... OK
* checking Rd metadata ... OK
* checking Rd cross-references ... OK
* checking for missing documentation entries ... OK
* checking for code/documentation mismatches ... OK
* checking Rd \usage sections ... OK
* checking Rd contents ... OK
* checking for unstated dependencies in examples ... OK
* checking files in ‘vignettes’ ... OK
* checking examples ... OK
Examples with CPU (user + system) or elapsed time > 5s
                           user system elapsed
BhaduriOrganoidData      24.606 11.169  36.030
BacherTCellData          18.654  6.385  25.169
HeOrganAtlasData         13.095  8.924  22.152
ZeiselNervousData        14.691  6.000  21.969
ErnstSpermatogenesisData 10.404  5.403  17.329
JessaBrainData           10.259  4.329  15.641
StoeckiusHashingData      9.646  1.854  13.127
ZhaoImmuneLiverData       6.769  3.322  10.178
GiladiHSCData             5.095  3.451   8.635
BachMammaryData           7.422  0.860  10.601
AztekinTailData           7.172  0.604   7.806
LunSpikeInData            6.045  0.574   8.404
KolodziejczykESCData      4.478  1.092   6.074
NestorowaHSCData          4.436  0.732   5.733
ZilionisLungData          4.105  0.960   5.213
MessmerESCData            3.953  0.599   5.116
* checking for unstated dependencies in ‘tests’ ... OK
* checking tests ...
  Running ‘testthat.R’
 OK
* checking for unstated dependencies in vignettes ... OK
* checking package vignettes ... OK
* checking re-building of vignette outputs ... OK
* checking PDF version of manual ... OK
* DONE

Status: 1 NOTE
See
  ‘/home/biocbuild/bbs-3.22-data-experiment/meat/scRNAseq.Rcheck/00check.log’
for details.


Installation output

scRNAseq.Rcheck/00install.out

##############################################################################
##############################################################################
###
### Running command:
###
###   /home/biocbuild/bbs-3.22-bioc/R/bin/R CMD INSTALL scRNAseq
###
##############################################################################
##############################################################################


* installing to library ‘/home/biocbuild/bbs-3.22-bioc/R/site-library’
* installing *source* package ‘scRNAseq’ ...
** this is package ‘scRNAseq’ version ‘2.24.0’
** using staged installation
** R
** inst
** byte-compile and prepare package for lazy loading
** help
*** installing help indices
** building package indices
** installing vignettes
** testing if installed package can be loaded from temporary location
** testing if installed package can be loaded from final location
** testing if installed package keeps a record of temporary installation path
* DONE (scRNAseq)

Tests output

scRNAseq.Rcheck/tests/testthat.Rout


R version 4.5.2 (2025-10-31) -- "[Not] Part in a Rumble"
Copyright (C) 2025 The R Foundation for Statistical Computing
Platform: x86_64-pc-linux-gnu

R is free software and comes with ABSOLUTELY NO WARRANTY.
You are welcome to redistribute it under certain conditions.
Type 'license()' or 'licence()' for distribution details.

R is a collaborative project with many contributors.
Type 'contributors()' for more information and
'citation()' on how to cite R or R packages in publications.

Type 'demo()' for some demos, 'help()' for on-line help, or
'help.start()' for an HTML browser interface to help.
Type 'q()' to quit R.

> library(testthat)
> library(scRNAseq)
Loading required package: SingleCellExperiment
Loading required package: SummarizedExperiment
Loading required package: MatrixGenerics
Loading required package: matrixStats

Attaching package: 'MatrixGenerics'

The following objects are masked from 'package:matrixStats':

    colAlls, colAnyNAs, colAnys, colAvgsPerRowSet, colCollapse,
    colCounts, colCummaxs, colCummins, colCumprods, colCumsums,
    colDiffs, colIQRDiffs, colIQRs, colLogSumExps, colMadDiffs,
    colMads, colMaxs, colMeans2, colMedians, colMins, colOrderStats,
    colProds, colQuantiles, colRanges, colRanks, colSdDiffs, colSds,
    colSums2, colTabulates, colVarDiffs, colVars, colWeightedMads,
    colWeightedMeans, colWeightedMedians, colWeightedSds,
    colWeightedVars, rowAlls, rowAnyNAs, rowAnys, rowAvgsPerColSet,
    rowCollapse, rowCounts, rowCummaxs, rowCummins, rowCumprods,
    rowCumsums, rowDiffs, rowIQRDiffs, rowIQRs, rowLogSumExps,
    rowMadDiffs, rowMads, rowMaxs, rowMeans2, rowMedians, rowMins,
    rowOrderStats, rowProds, rowQuantiles, rowRanges, rowRanks,
    rowSdDiffs, rowSds, rowSums2, rowTabulates, rowVarDiffs, rowVars,
    rowWeightedMads, rowWeightedMeans, rowWeightedMedians,
    rowWeightedSds, rowWeightedVars

Loading required package: GenomicRanges
Loading required package: stats4
Loading required package: BiocGenerics
Loading required package: generics

Attaching package: 'generics'

The following objects are masked from 'package:base':

    as.difftime, as.factor, as.ordered, intersect, is.element, setdiff,
    setequal, union


Attaching package: 'BiocGenerics'

The following objects are masked from 'package:stats':

    IQR, mad, sd, var, xtabs

The following objects are masked from 'package:base':

    Filter, Find, Map, Position, Reduce, anyDuplicated, aperm, append,
    as.data.frame, basename, cbind, colnames, dirname, do.call,
    duplicated, eval, evalq, get, grep, grepl, is.unsorted, lapply,
    mapply, match, mget, order, paste, pmax, pmax.int, pmin, pmin.int,
    rank, rbind, rownames, sapply, saveRDS, table, tapply, unique,
    unsplit, which.max, which.min

Loading required package: S4Vectors

Attaching package: 'S4Vectors'

The following object is masked from 'package:utils':

    findMatches

The following objects are masked from 'package:base':

    I, expand.grid, unname

Loading required package: IRanges
Loading required package: Seqinfo
Loading required package: Biobase
Welcome to Bioconductor

    Vignettes contain introductory material; view with
    'browseVignettes()'. To cite Bioconductor, see
    'citation("Biobase")', and for packages 'citation("pkgname")'.


Attaching package: 'Biobase'

The following object is masked from 'package:MatrixGenerics':

    rowMedians

The following objects are masked from 'package:matrixStats':

    anyMissing, rowMedians

> test_check("scRNAseq")
[ FAIL 0 | WARN 35 | SKIP 1 | PASS 186 ]

══ Skipped tests (1) ═══════════════════════════════════════════════════════════
• is.null(gh_token) is TRUE (1): 'test-uploadDirectory.R:59:5'

[ FAIL 0 | WARN 35 | SKIP 1 | PASS 186 ]
Warning message:
call dbDisconnect() when finished working with a connection 
> 
> proc.time()
   user  system elapsed 
291.378  38.240 364.312 

Example timings

scRNAseq.Rcheck/scRNAseq-Ex.timings

nameusersystemelapsed
AztekinTailData7.1720.6047.806
BachMammaryData 7.422 0.86010.601
BacherTCellData18.654 6.38525.169
BaronPancreasData1.0310.1361.185
BhaduriOrganoidData24.60611.16936.030
BuettnerESCData3.2100.3843.987
BunisHSPCData1.0850.5281.634
CampbellBrainData1.8831.2213.135
ChenBrainData1.0120.4791.508
DarmanisBrainData0.2720.0600.338
ERCCSpikeInConcentrations0.0200.0000.022
ErnstSpermatogenesisData10.404 5.40317.329
FletcherOlfactoryData0.8390.4571.306
GiladiHSCData5.0953.4518.635
GrunHSCData0.2300.0580.291
GrunPancreasData0.6480.4451.096
HeOrganAtlasData13.095 8.92422.152
HermannSpermatogenesisData0.7920.2501.052
HuCortexData0.5050.1800.694
JessaBrainData10.259 4.32915.641
KolodziejczykESCData4.4781.0926.074
KotliarovPBMCData2.3700.5122.957
LaMannoBrainData1.6020.3241.962
LawlorPancreasData0.7980.1310.960
LedergorMyelomaData1.5390.2381.965
LengESCData0.5020.0540.610
LunSpikeInData6.0450.5748.404
MacoskoRetinaData1.7280.4292.204
MairPBMCData0.4780.0850.574
MarquesBrainData0.7880.0810.882
MessmerESCData3.9530.5995.116
MuraroPancreasData0.9430.2501.203
NestorowaHSCData4.4360.7325.733
NowakowskiCortexData1.5960.2651.872
PaulHSCData2.2410.5232.835
PollenGliaData0.2280.0250.257
ReprocessedData2.0430.2882.409
RichardTCellData3.0520.3234.050
RomanovBrainData0.5100.0860.603
SegerstolpePancreasData1.3030.2181.536
ShekharRetinaData2.0730.5992.746
StoeckiusHashingData 9.646 1.85413.127
TasicBrainData1.9150.4832.455
UsoskinBrainData0.5220.0890.618
WuKidneyData0.3740.0510.433
XinPancreasData0.8440.2141.068
ZeiselBrainData1.0740.1751.262
ZeiselNervousData14.691 6.00021.969
ZhaoImmuneLiverData 6.769 3.32210.178
ZhongPrefrontalData0.5910.1350.738
ZilionisLungData4.1050.9605.213
countErccMolecules0.0340.0000.035
fetchDataset0.4380.0310.469
listDatasets0.0100.0020.012
listPaths0.8310.1412.135
listVersions0.0140.0000.310
polishDataset0.1380.0140.152
saveDataset0.8660.0830.838
searchDatasets1.7230.1332.303
surveyDatasets0.8830.0200.902