Back to Build/check report for BioC 3.22 experimental data
ABCDEF[G]HIJKLMNOPQRSTUVWXYZ

This page was generated on 2025-11-25 15:41 -0500 (Tue, 25 Nov 2025).

HostnameOSArch (*)R versionInstalled pkgs
nebbiolo2Linux (Ubuntu 24.04.3 LTS)x86_644.5.2 (2025-10-31) -- "[Not] Part in a Rumble" 4875
Click on any hostname to see more info about the system (e.g. compilers)      (*) as reported by 'uname -p', except on Windows and Mac OS X

Package 150/435HostnameOS / ArchINSTALLBUILDCHECK
geneLenDataBase 1.46.0  (landing page)
Federico Marini
Snapshot Date: 2025-11-25 07:30 -0500 (Tue, 25 Nov 2025)
git_url: https://git.bioconductor.org/packages/geneLenDataBase
git_branch: RELEASE_3_22
git_last_commit: 0bae7f6
git_last_commit_date: 2025-10-29 09:31:54 -0500 (Wed, 29 Oct 2025)
nebbiolo2Linux (Ubuntu 24.04.3 LTS) / x86_64  OK    OK    OK  UNNEEDED, same version is already published


CHECK results for geneLenDataBase on nebbiolo2

To the developers/maintainers of the geneLenDataBase package:
- Use the following Renviron settings to reproduce errors and warnings.
- If 'R CMD check' started to fail recently on the Linux builder(s) over a missing dependency, add the missing dependency to 'Suggests:' in your DESCRIPTION file. See Renviron.bioc for more information.

raw results


Summary

Package: geneLenDataBase
Version: 1.46.0
Command: /home/biocbuild/bbs-3.22-bioc/R/bin/R CMD check --install=check:geneLenDataBase.install-out.txt --library=/home/biocbuild/bbs-3.22-bioc/R/site-library --timings geneLenDataBase_1.46.0.tar.gz
StartedAt: 2025-11-25 12:23:13 -0500 (Tue, 25 Nov 2025)
EndedAt: 2025-11-25 12:32:26 -0500 (Tue, 25 Nov 2025)
EllapsedTime: 552.3 seconds
RetCode: 0
Status:   OK  
CheckDir: geneLenDataBase.Rcheck
Warnings: 0

Command output

##############################################################################
##############################################################################
###
### Running command:
###
###   /home/biocbuild/bbs-3.22-bioc/R/bin/R CMD check --install=check:geneLenDataBase.install-out.txt --library=/home/biocbuild/bbs-3.22-bioc/R/site-library --timings geneLenDataBase_1.46.0.tar.gz
###
##############################################################################
##############################################################################


* using log directory ‘/home/biocbuild/bbs-3.22-data-experiment/meat/geneLenDataBase.Rcheck’
* using R version 4.5.2 (2025-10-31)
* using platform: x86_64-pc-linux-gnu
* R was compiled by
    gcc (Ubuntu 13.3.0-6ubuntu2~24.04) 13.3.0
    GNU Fortran (Ubuntu 13.3.0-6ubuntu2~24.04) 13.3.0
* running under: Ubuntu 24.04.3 LTS
* using session charset: UTF-8
* checking for file ‘geneLenDataBase/DESCRIPTION’ ... OK
* this is package ‘geneLenDataBase’ version ‘1.46.0’
* package encoding: UTF-8
* checking package namespace information ... OK
* checking package dependencies ... OK
* checking if this is a source package ... OK
* checking if there is a namespace ... OK
* checking for hidden files and directories ... OK
* checking for portable file names ... OK
* checking for sufficient/correct file permissions ... OK
* checking whether package ‘geneLenDataBase’ can be installed ... OK
* checking installed package size ... INFO
  installed size is 100.3Mb
  sub-directories of 1Mb or more:
    data  99.7Mb
* checking package directory ... OK
* checking DESCRIPTION meta-information ... OK
* checking top-level files ... OK
* checking for left-over files ... OK
* checking index information ... OK
* checking package subdirectories ... OK
* checking code files for non-ASCII characters ... OK
* checking R files for syntax errors ... OK
* checking whether the package can be loaded ... OK
* checking whether the package can be loaded with stated dependencies ... OK
* checking whether the package can be unloaded cleanly ... OK
* checking whether the namespace can be loaded with stated dependencies ... OK
* checking whether the namespace can be unloaded cleanly ... OK
* checking loading without being on the library search path ... OK
* checking dependencies in R code ... NOTE
Unexported object imported by a ':::' call: ‘txdbmaker:::.UCSC_TXNAME2GENEID_MAPDEFS’
  See the note in ?`:::` about the use of this operator.
* checking S3 generic/method consistency ... OK
* checking replacement functions ... OK
* checking foreign function calls ... OK
* checking R code for possible problems ... OK
* checking Rd files ... OK
* checking Rd metadata ... OK
* checking Rd cross-references ... OK
* checking for missing documentation entries ... OK
* checking for code/documentation mismatches ... OK
* checking Rd \usage sections ... OK
* checking Rd contents ... OK
* checking for unstated dependencies in examples ... OK
* checking contents of ‘data’ directory ... OK
* checking data for non-ASCII characters ... OK
* checking data for ASCII and uncompressed saves ... OK
* checking examples ... OK
Examples with CPU (user + system) or elapsed time > 5s
                  user system elapsed
supportedGeneIDs 3.216  0.149   5.542
* checking PDF version of manual ... OK
* DONE

Status: 1 NOTE
See
  ‘/home/biocbuild/bbs-3.22-data-experiment/meat/geneLenDataBase.Rcheck/00check.log’
for details.


Installation output

geneLenDataBase.Rcheck/00install.out

##############################################################################
##############################################################################
###
### Running command:
###
###   /home/biocbuild/bbs-3.22-bioc/R/bin/R CMD INSTALL geneLenDataBase
###
##############################################################################
##############################################################################


* installing to library ‘/home/biocbuild/bbs-3.22-bioc/R/site-library’
* installing *source* package ‘geneLenDataBase’ ...
** this is package ‘geneLenDataBase’ version ‘1.46.0’
** using staged installation
** R
** data
** byte-compile and prepare package for lazy loading
** help
*** installing help indices
** building package indices
** testing if installed package can be loaded from temporary location
** testing if installed package can be loaded from final location
** testing if installed package keeps a record of temporary installation path
* DONE (geneLenDataBase)

Tests output


Example timings

geneLenDataBase.Rcheck/geneLenDataBase-Ex.timings

nameusersystemelapsed
anoCar1.ensGene.LENGTH0.0740.0020.077
anoCar1.genscan.LENGTH0.0460.0000.047
anoCar1.xenoRefGene.LENGTH0.7790.0100.791
anoGam1.ensGene.LENGTH0.0610.0000.061
anoGam1.geneid.LENGTH0.0430.0020.045
anoGam1.genscan.LENGTH0.0400.0000.041
apiMel1.genscan.LENGTH0.0360.0000.037
apiMel2.ensGene.LENGTH0.0850.0040.089
apiMel2.geneid.LENGTH0.1170.0060.124
apiMel2.genscan.LENGTH0.0310.0000.031
aplCal1.xenoRefGene.LENGTH0.4030.0020.406
bosTau2.geneSymbol.LENGTH0.0370.0000.038
bosTau2.geneid.LENGTH0.2320.0060.239
bosTau2.genscan.LENGTH0.0810.0040.086
bosTau2.refGene.LENGTH0.0420.0010.042
bosTau2.sgpGene.LENGTH0.0970.0020.099
bosTau3.ensGene.LENGTH0.0990.0020.102
bosTau3.geneSymbol.LENGTH0.0340.0040.037
bosTau3.geneid.LENGTH0.1590.0060.165
bosTau3.genscan.LENGTH0.0650.0000.065
bosTau3.refGene.LENGTH0.0320.0000.032
bosTau3.sgpGene.LENGTH0.0860.0000.086
bosTau4.ensGene.LENGTH0.0930.0010.094
bosTau4.geneSymbol.LENGTH0.0320.0000.032
bosTau4.genscan.LENGTH0.0640.0000.064
bosTau4.nscanGene.LENGTH0.0270.0000.027
bosTau4.refGene.LENGTH0.0290.0000.029
braFlo1.xenoRefGene.LENGTH0.3660.0000.366
caeJap1.xenoRefGene.LENGTH0.3400.0080.349
caePb1.xenoRefGene.LENGTH0.4300.0010.431
caePb2.xenoRefGene.LENGTH0.4110.0000.411
caeRem2.xenoRefGene.LENGTH0.3870.0000.387
caeRem3.xenoRefGene.LENGTH0.3430.0040.347
calJac1.genscan.LENGTH0.0820.0050.088
calJac1.nscanGene.LENGTH0.1060.0010.107
calJac1.xenoRefGene.LENGTH0.7860.0060.793
canFam1.ensGene.LENGTH0.1090.0000.110
canFam1.geneSymbol.LENGTH0.0050.0010.006
canFam1.genscan.LENGTH0.0640.0000.064
canFam1.nscanGene.LENGTH0.0640.0000.064
canFam1.refGene.LENGTH0.0050.0000.005
canFam1.xenoRefGene.LENGTH0.5760.0010.577
canFam2.ensGene.LENGTH0.0960.0010.097
canFam2.geneSymbol.LENGTH0.0050.0010.006
canFam2.genscan.LENGTH0.0550.0000.055
canFam2.nscanGene.LENGTH0.060.000.06
canFam2.refGene.LENGTH0.0050.0000.005
canFam2.xenoRefGene.LENGTH0.5580.0030.561
cavPor3.ensGene.LENGTH0.2900.0040.294
cavPor3.genscan.LENGTH0.0910.0000.091
cavPor3.nscanGene.LENGTH0.0630.0000.064
cavPor3.xenoRefGene.LENGTH0.5520.0000.553
cb1.xenoRefGene.LENGTH0.3830.0000.383
cb3.xenoRefGene.LENGTH0.3370.0010.338
ce2.geneSymbol.LENGTH0.0650.0000.065
ce2.geneid.LENGTH0.0530.0010.054
ce2.refGene.LENGTH0.0610.0010.062
ce4.geneSymbol.LENGTH0.0640.0010.065
ce4.refGene.LENGTH0.0580.0000.058
ce4.xenoRefGene.LENGTH0.0780.0000.078
ce6.ensGene.LENGTH0.0870.0010.088
ce6.geneSymbol.LENGTH0.0650.0000.065
ce6.refGene.LENGTH0.0610.0010.062
ce6.xenoRefGene.LENGTH0.0790.0010.080
ci1.geneSymbol.LENGTH0.0050.0000.005
ci1.refGene.LENGTH0.0040.0000.004
ci1.xenoRefGene.LENGTH0.160.000.16
ci2.ensGene.LENGTH0.0600.0020.062
ci2.geneSymbol.LENGTH0.0040.0010.005
ci2.refGene.LENGTH0.0030.0010.005
ci2.xenoRefGene.LENGTH1.0330.0961.136
danRer3.ensGene.LENGTH0.0910.0090.099
danRer3.geneSymbol.LENGTH0.0500.0010.051
danRer3.refGene.LENGTH0.0450.0020.046
danRer4.ensGene.LENGTH0.1050.0000.105
danRer4.geneSymbol.LENGTH0.0480.0010.049
danRer4.genscan.LENGTH0.0560.0000.056
danRer4.nscanGene.LENGTH0.0820.0010.083
danRer4.refGene.LENGTH0.0480.0000.048
danRer5.ensGene.LENGTH0.1030.0010.105
danRer5.geneSymbol.LENGTH0.0440.0010.046
danRer5.refGene.LENGTH0.0420.0000.043
danRer5.vegaGene.LENGTH0.0450.0000.045
danRer5.vegaPseudoGene.LENGTH0.0010.0010.002
danRer6.ensGene.LENGTH0.1000.0010.102
danRer6.geneSymbol.LENGTH0.0450.0020.047
danRer6.refGene.LENGTH0.0440.0000.044
danRer6.xenoRefGene.LENGTH0.4710.0000.470
dm1.geneSymbol.LENGTH0.0610.0000.061
dm1.genscan.LENGTH0.0220.0000.023
dm1.refGene.LENGTH0.0560.0000.057
dm2.geneSymbol.LENGTH0.0610.0000.061
dm2.geneid.LENGTH0.0330.0000.033
dm2.genscan.LENGTH0.0220.0000.022
dm2.nscanGene.LENGTH0.0440.0020.047
dm2.refGene.LENGTH0.0550.0000.055
dm3.geneSymbol.LENGTH0.0660.0010.067
dm3.nscanPasaGene.LENGTH0.0480.0000.048
dm3.refGene.LENGTH0.0610.0010.062
downloadLengthFromUCSC0.0000.0000.001
dp2.genscan.LENGTH0.030.000.03
dp2.xenoRefGene.LENGTH0.1800.0020.182
dp3.geneid.LENGTH0.0360.0000.035
dp3.genscan.LENGTH0.0230.0010.023
dp3.xenoRefGene.LENGTH0.1020.0000.102
droAna1.geneid.LENGTH0.0610.0020.064
droAna1.genscan.LENGTH0.0200.0010.022
droAna1.xenoRefGene.LENGTH0.1890.0000.190
droAna2.genscan.LENGTH0.0470.0000.047
droAna2.xenoRefGene.LENGTH0.2460.0010.248
droEre1.genscan.LENGTH0.0270.0000.027
droEre1.xenoRefGene.LENGTH0.2390.0010.240
droGri1.genscan.LENGTH0.0370.0000.037
droGri1.xenoRefGene.LENGTH0.2560.0000.256
droMoj1.geneid.LENGTH0.1200.0060.126
droMoj1.genscan.LENGTH0.0540.0000.053
droMoj1.xenoRefGene.LENGTH0.1940.0020.196
droMoj2.genscan.LENGTH0.0310.0020.034
droMoj2.xenoRefGene.LENGTH0.2440.0030.248
droPer1.genscan.LENGTH0.0360.0010.038
droPer1.xenoRefGene.LENGTH0.2550.0030.258
droSec1.genscan.LENGTH0.0280.0000.027
droSec1.xenoRefGene.LENGTH0.2610.0010.261
droSim1.geneid.LENGTH0.0330.0010.034
droSim1.genscan.LENGTH0.0240.0000.023
droSim1.xenoRefGene.LENGTH0.3520.0090.360
droVir1.geneid.LENGTH0.1000.0010.101
droVir1.genscan.LENGTH0.0390.0010.041
droVir1.xenoRefGene.LENGTH0.2280.0010.230
droVir2.genscan.LENGTH0.0330.0010.034
droVir2.xenoRefGene.LENGTH0.2620.0000.262
droYak1.geneid.LENGTH0.0410.0000.041
droYak1.genscan.LENGTH0.0260.0010.027
droYak1.xenoRefGene.LENGTH0.2090.0010.211
droYak2.genscan.LENGTH0.0240.0010.026
droYak2.xenoRefGene.LENGTH0.2480.0010.249
equCab1.geneSymbol.LENGTH0.0040.0010.005
equCab1.geneid.LENGTH0.0830.0000.083
equCab1.nscanGene.LENGTH0.0390.0000.040
equCab1.refGene.LENGTH0.0050.0000.004
equCab1.sgpGene.LENGTH0.0660.0000.066
equCab2.ensGene.LENGTH0.0920.0010.094
equCab2.geneSymbol.LENGTH0.0050.0010.007
equCab2.nscanGene.LENGTH0.0480.0000.048
equCab2.refGene.LENGTH0.0050.0010.006
equCab2.xenoRefGene.LENGTH0.5480.0080.556
felCat3.ensGene.LENGTH0.0960.0010.097
felCat3.geneSymbol.LENGTH0.0030.0000.004
felCat3.geneid.LENGTH0.5110.0030.515
felCat3.genscan.LENGTH0.1160.0010.117
felCat3.nscanGene.LENGTH0.2600.0040.264
felCat3.refGene.LENGTH0.0030.0000.004
felCat3.sgpGene.LENGTH0.1420.0010.144
felCat3.xenoRefGene.LENGTH1.1420.0011.142
fr1.ensGene.LENGTH0.0780.0000.077
fr1.genscan.LENGTH0.0600.0000.059
fr2.ensGene.LENGTH0.6320.0090.640
galGal2.ensGene.LENGTH0.0510.0010.052
galGal2.geneSymbol.LENGTH0.0140.0010.016
galGal2.geneid.LENGTH0.0360.0000.036
galGal2.genscan.LENGTH0.0470.0000.047
galGal2.refGene.LENGTH0.0140.0000.014
galGal2.sgpGene.LENGTH0.0420.0000.042
galGal3.ensGene.LENGTH0.0660.0000.066
galGal3.geneSymbol.LENGTH0.0140.0010.015
galGal3.genscan.LENGTH0.0460.0000.045
galGal3.nscanGene.LENGTH0.0630.0010.064
galGal3.refGene.LENGTH0.0140.0000.014
galGal3.xenoRefGene.LENGTH0.4370.0000.437
gasAcu1.ensGene.LENGTH0.0770.0010.079
gasAcu1.nscanGene.LENGTH0.0800.0010.081
hg16.acembly.LENGTH0.3140.0000.313
hg16.ensGene.LENGTH0.0630.0010.064
hg16.exoniphy.LENGTH0.2160.0010.217
hg16.geneSymbol.LENGTH0.0970.0000.097
hg16.geneid.LENGTH0.0460.0000.047
hg16.genscan.LENGTH0.0570.0000.057
hg16.knownGene.LENGTH0.1090.0000.108
hg16.refGene.LENGTH0.0910.0000.091
hg16.sgpGene.LENGTH0.0540.0000.054
hg17.acembly.LENGTH0.3880.0010.390
hg17.acescan.LENGTH0.010.000.01
hg17.ccdsGene.LENGTH0.0220.0000.021
hg17.ensGene.LENGTH0.0970.0000.097
hg17.exoniphy.LENGTH0.3650.0020.368
hg17.geneSymbol.LENGTH0.0960.0000.096
hg17.geneid.LENGTH0.070.000.07
hg17.genscan.LENGTH0.0540.0010.054
hg17.knownGene.LENGTH0.1010.0000.101
hg17.refGene.LENGTH0.0910.0000.091
hg17.sgpGene.LENGTH0.0690.0000.069
hg17.vegaGene.LENGTH0.0390.0000.039
hg17.vegaPseudoGene.LENGTH0.0160.0010.017
hg17.xenoRefGene.LENGTH0.4310.0020.434
hg18.acembly.LENGTH0.4360.0010.438
hg18.acescan.LENGTH0.0090.0010.009
hg18.ccdsGene.LENGTH0.0320.0000.032
hg18.ensGene.LENGTH0.1830.0000.184
hg18.exoniphy.LENGTH0.4380.0000.438
hg18.geneSymbol.LENGTH0.0990.0000.099
hg18.geneid.LENGTH0.0750.0000.075
hg18.genscan.LENGTH0.0600.0010.061
hg18.knownGene.LENGTH0.1560.0010.157
hg18.knownGeneOld3.LENGTH0.0700.0010.072
hg18.refGene.LENGTH0.0950.0010.096
hg18.sgpGene.LENGTH0.0750.0000.075
hg18.sibGene.LENGTH0.6820.0050.687
hg18.xenoRefGene.LENGTH0.3110.0000.310
hg19.ccdsGene.LENGTH0.0380.0000.038
hg19.ensGene.LENGTH0.2800.0020.282
hg19.exoniphy.LENGTH0.4250.0010.426
hg19.geneSymbol.LENGTH0.0970.0000.098
hg19.knownGene.LENGTH0.1680.0000.168
hg19.nscanGene.LENGTH0.1460.0010.147
hg19.refGene.LENGTH0.0940.0010.095
hg19.xenoRefGene.LENGTH0.3540.0010.355
loxAfr3.xenoRefGene.LENGTH0.7260.0030.729
mm7.ensGene.LENGTH0.1050.0000.105
mm7.geneSymbol.LENGTH0.0870.0000.086
mm7.geneid.LENGTH0.0770.0000.077
mm7.genscan.LENGTH0.0610.0020.063
mm7.knownGene.LENGTH0.0910.0000.091
mm7.refGene.LENGTH0.0810.0000.081
mm7.sgpGene.LENGTH0.0740.0010.075
mm7.xenoRefGene.LENGTH0.2910.0000.291
mm8.ccdsGene.LENGTH0.0190.0020.021
mm8.ensGene.LENGTH0.0750.0000.075
mm8.geneSymbol.LENGTH0.0860.0010.088
mm8.geneid.LENGTH0.0740.0010.076
mm8.genscan.LENGTH0.0610.0000.061
mm8.knownGene.LENGTH0.0880.0020.092
mm8.nscanGene.LENGTH0.0610.0010.062
mm8.refGene.LENGTH0.3110.0010.312
mm8.sgpGene.LENGTH0.0730.0010.074
mm8.sibGene.LENGTH0.2390.0000.239
mm8.xenoRefGene.LENGTH0.3330.0020.335
mm9.acembly.LENGTH0.2920.0000.292
mm9.ccdsGene.LENGTH0.0290.0000.030
mm9.ensGene.LENGTH0.1440.0000.144
mm9.exoniphy.LENGTH0.4190.0010.420
mm9.geneSymbol.LENGTH0.0870.0000.087
mm9.geneid.LENGTH0.0830.0020.085
mm9.genscan.LENGTH0.0640.0020.067
mm9.knownGene.LENGTH0.110.000.11
mm9.nscanGene.LENGTH0.0620.0000.062
mm9.refGene.LENGTH0.0870.0000.087
mm9.sgpGene.LENGTH0.0850.0000.085
mm9.xenoRefGene.LENGTH0.7480.0030.751
monDom1.genscan.LENGTH0.0630.0000.063
monDom4.ensGene.LENGTH0.0720.0000.072
monDom4.geneSymbol.LENGTH0.0030.0000.004
monDom4.genscan.LENGTH0.0520.0000.052
monDom4.nscanGene.LENGTH0.0510.0020.053
monDom4.refGene.LENGTH0.0030.0000.004
monDom4.xenoRefGene.LENGTH0.3440.0000.344
monDom5.ensGene.LENGTH0.1040.0000.104
monDom5.geneSymbol.LENGTH0.0040.0000.003
monDom5.genscan.LENGTH0.0540.0000.054
monDom5.nscanGene.LENGTH0.1110.0000.112
monDom5.refGene.LENGTH0.0030.0000.003
monDom5.xenoRefGene.LENGTH0.5830.0000.582
ornAna1.ensGene.LENGTH0.0940.0000.095
ornAna1.geneSymbol.LENGTH0.0010.0010.003
ornAna1.refGene.LENGTH0.0020.0000.002
ornAna1.xenoRefGene.LENGTH0.5690.0020.570
oryLat2.ensGene.LENGTH1.1830.1091.293
oryLat2.geneSymbol.LENGTH0.0030.0000.003
oryLat2.refGene.LENGTH0.0030.0000.003
oryLat2.xenoRefGene.LENGTH0.4660.0010.468
panTro1.ensGene.LENGTH0.0920.0010.093
panTro1.geneid.LENGTH0.0440.0010.045
panTro1.genscan.LENGTH0.0540.0010.056
panTro1.xenoRefGene.LENGTH0.1070.0000.107
panTro2.ensGene.LENGTH0.1030.0000.102
panTro2.geneSymbol.LENGTH0.0950.0000.095
panTro2.genscan.LENGTH0.0560.0000.055
panTro2.nscanGene.LENGTH0.0590.0000.059
panTro2.refGene.LENGTH0.0940.0010.095
panTro2.xenoRefGene.LENGTH0.4790.0010.481
petMar1.xenoRefGene.LENGTH0.2560.0000.257
ponAbe2.ensGene.LENGTH0.0780.0010.080
ponAbe2.geneSymbol.LENGTH0.0120.0000.012
ponAbe2.genscan.LENGTH0.0580.0000.058
ponAbe2.nscanGene.LENGTH0.0570.0000.057
ponAbe2.refGene.LENGTH0.0100.0000.011
ponAbe2.xenoRefGene.LENGTH0.6050.0030.608
priPac1.xenoRefGene.LENGTH0.3480.0000.349
rheMac2.ensGene.LENGTH0.1180.0010.119
rheMac2.geneSymbol.LENGTH0.0050.0000.004
rheMac2.geneid.LENGTH0.0670.0000.066
rheMac2.nscanGene.LENGTH0.0580.0000.057
rheMac2.refGene.LENGTH0.0050.0000.005
rheMac2.sgpGene.LENGTH0.0650.0010.066
rheMac2.xenoRefGene.LENGTH0.4450.0040.449
rn3.ensGene.LENGTH0.0930.0010.095
rn3.geneSymbol.LENGTH0.050.000.05
rn3.geneid.LENGTH0.0480.0010.048
rn3.genscan.LENGTH0.0580.0010.060
rn3.knownGene.LENGTH0.0210.0010.022
rn3.nscanGene.LENGTH0.0570.0000.056
rn3.refGene.LENGTH0.0470.0000.046
rn3.sgpGene.LENGTH0.0530.0000.053
rn3.xenoRefGene.LENGTH0.4950.0060.501
rn4.ensGene.LENGTH0.1200.0010.121
rn4.geneSymbol.LENGTH0.0500.0000.049
rn4.geneid.LENGTH0.0790.0010.079
rn4.genscan.LENGTH0.0590.0000.058
rn4.knownGene.LENGTH0.0240.0000.023
rn4.nscanGene.LENGTH0.0490.0000.050
rn4.refGene.LENGTH0.0450.0020.047
rn4.sgpGene.LENGTH0.0800.0000.081
rn4.xenoRefGene.LENGTH0.3800.0010.395
sacCer1.ensGene.LENGTH0.0170.0000.017
sacCer2.ensGene.LENGTH0.0160.0000.017
strPur1.geneSymbol.LENGTH0.0050.0000.004
strPur1.genscan.LENGTH0.0590.0030.062
strPur1.refGene.LENGTH0.0030.0010.004
strPur1.xenoRefGene.LENGTH0.4330.0030.437
strPur2.geneSymbol.LENGTH0.0020.0010.004
strPur2.genscan.LENGTH0.1010.0020.104
strPur2.refGene.LENGTH0.0030.0000.004
strPur2.xenoRefGene.LENGTH0.6430.0050.648
supportedGeneIDs3.2160.1495.542
supportedGenomes0.2710.0981.240
taeGut1.ensGene.LENGTH0.0700.0170.088
taeGut1.geneSymbol.LENGTH0.0030.0010.003
taeGut1.genscan.LENGTH0.0290.0070.037
taeGut1.nscanGene.LENGTH0.0240.0050.029
taeGut1.refGene.LENGTH0.0040.0000.003
taeGut1.xenoRefGene.LENGTH0.4580.0080.466
tetNig1.ensGene.LENGTH0.0860.0040.090
tetNig1.geneid.LENGTH0.0620.0050.067
tetNig1.genscan.LENGTH0.0490.0000.050
tetNig1.nscanGene.LENGTH0.0680.0110.079
tetNig2.ensGene.LENGTH0.0720.0020.074
unfactor0.0040.0000.004
xenTro1.genscan.LENGTH0.0820.0010.084
xenTro2.ensGene.LENGTH0.0870.0010.088
xenTro2.geneSymbol.LENGTH0.030.000.03
xenTro2.genscan.LENGTH0.0710.0020.073
xenTro2.refGene.LENGTH0.0280.0000.028