This page was generated on 2020-01-24 03:57:08 -0500 (Fri, 24 Jan 2020).
| malbec2 |
Linux (Ubuntu 18.04.3 LTS) / x86_64 | | | | |
| [tokay2] |
Windows Server 2012 R2 Standard / x64 | | | | |
|
| affy 1.65.1 | Rafael A. Irizarry | OK | OK | ERROR | OK |
| affyio 1.57.0 | Ben Bolstad | OK | OK | WARNINGS | OK |
| annotate 1.65.0 | Bioconductor Package Maintainer | OK | OK | ERROR | OK |
| AnnotationDbi 1.49.0 | Bioconductor Package Maintainer | OK | ERROR | skipped | skipped |
| AnnotationFilter 1.11.0 | Bioconductor Package Maintainer | OK | OK | OK | OK |
| AnnotationHub 2.19.5 | Bioconductor Package Maintainer | OK | ERROR | skipped | skipped |
| Biobase 2.47.2 | Bioconductor Package Maintainer | OK | ERROR | skipped | skipped |
| BiocFileCache 1.11.4 | Lori Shepherd | OK | OK | OK | OK |
| BiocGenerics 0.33.0 | Bioconductor Package Maintainer | OK | OK | ERROR | OK |
| BiocParallel 1.21.2 | Bioconductor Package Maintainer | OK | ERROR | skipped | skipped |
| BiocStyle 2.15.5 | Bioconductor Package Maintainer | OK | ERROR | skipped | skipped |
| BiocVersion 3.11.1 | Bioconductor Package Maintainer | OK | OK | OK | OK |
| biomaRt 2.43.1 | Mike Smith | OK | ERROR | skipped | skipped |
| Biostrings 2.55.4 | H. Pagès | OK | ERROR | skipped | skipped |
| BSgenome 1.55.2 | H. Pagès | OK | OK | WARNINGS | OK |
| DelayedArray 0.13.2 | Hervé Pagès | OK | ERROR | skipped | skipped |
| DelayedMatrixStats 1.9.0 | Peter Hickey | OK | OK | WARNINGS | OK |
| ensembldb 2.11.3 | Johannes Rainer | OK | ERROR | skipped | skipped |
| ExperimentHub 1.13.5 | Bioconductor Package Maintainer | OK | OK | OK | OK |
| genefilter 1.69.0 | Bioconductor Package Maintainer | OK | ERROR | skipped | skipped |
| GenomeInfoDb 1.23.9 | Bioconductor Package Maintainer | OK | ERROR | skipped | skipped |
| GenomicAlignments 1.23.1 | Bioconductor Package Maintainer | OK | ERROR | skipped | skipped |
| GenomicFeatures 1.39.3 | Bioconductor Package Maintainer | OK | ERROR | skipped | skipped |
| GenomicRanges 1.39.1 | Bioconductor Package Maintainer | OK | ERROR | skipped | skipped |
| HDF5Array 1.15.2 | Hervé Pagès | OK | OK | WARNINGS | OK |
| interactiveDisplayBase 1.25.0 | Shawn Balcome | OK | OK | WARNINGS | OK |
| IRanges 2.21.3 | Bioconductor Package Maintainer | OK | ERROR | skipped | skipped |
| mzR 2.21.1 | Steffen Neumann | ERROR | ERROR | skipped | skipped |
| preprocessCore 1.49.0 | Ben Bolstad | OK | OK | OK | OK |
| ProtGenerics 1.19.3 | Laurent Gatto | OK | OK | WARNINGS | OK |
| rhdf5 2.31.3 | Mike Smith | OK | ERROR | skipped | skipped |
| Rhdf5lib 1.9.0 | Mike Smith | OK | OK | OK | OK |
| Rhtslib 1.19.0 | Bioconductor Package Maintainer | OK | OK | WARNINGS | OK |
| Rsamtools 2.3.2 | Bioconductor Package Maintainer | OK | ERROR | skipped | skipped |
| rtracklayer 1.47.0 | Michael Lawrence | OK | ERROR | skipped | skipped |
| S4Vectors 0.25.11 | Bioconductor Package Maintainer | OK | ERROR | skipped | skipped |
| ShortRead 1.45.1 | Bioconductor Package Maintainer | OK | ERROR | skipped | skipped |
| SingleCellExperiment 1.9.1 | Davide Risso | OK | OK | WARNINGS | OK |
| SummarizedExperiment 1.17.1 | Bioconductor Package Maintainer | OK | OK | WARNINGS | OK |
| XVector 0.27.0 | Hervé Pagès | OK | OK | WARNINGS | OK |
| zlibbioc 1.33.1 | Bioconductor Package Maintainer | OK | ERROR | skipped | skipped |