| Back to "Blame Jeroen" build/check report for BioC 3.11 |
This page was generated on 2020-03-08 03:00:07 -0400 (Sun, 08 Mar 2020).
| These builds are using Rtools40 and R-testing by Jeroen Ooms (available at https://cran.r-project.org/bin/windows/testing/rtools40.html) |
| Package 24/82 | Hostname | OS / Arch | INSTALL | BUILD | CHECK | BUILD BIN | |||||
| DelayedMatrixStats 1.9.0 Peter Hickey
| tokay2 | Windows Server 2012 R2 Standard / x64 | OK | OK | ERROR | [ OK ] |
| Package: DelayedMatrixStats |
| Version: 1.9.0 |
| Command: rm -rf DelayedMatrixStats.buildbin-libdir && mkdir DelayedMatrixStats.buildbin-libdir && C:\Users\bioctesting\bbs-3.11-bioc-testing\R\bin\R.exe CMD INSTALL --merge-multiarch --build --library=DelayedMatrixStats.buildbin-libdir DelayedMatrixStats_1.9.0.tar.gz |
| StartedAt: 2020-03-08 00:28:59 -0500 (Sun, 08 Mar 2020) |
| EndedAt: 2020-03-08 00:29:59 -0500 (Sun, 08 Mar 2020) |
| EllapsedTime: 59.5 seconds |
| RetCode: 0 |
| Status: OK |
| PackageFile: DelayedMatrixStats_1.9.0.zip |
| PackageFileSize: 680.9 KiB |
##############################################################################
##############################################################################
###
### Running command:
###
### rm -rf DelayedMatrixStats.buildbin-libdir && mkdir DelayedMatrixStats.buildbin-libdir && C:\Users\bioctesting\bbs-3.11-bioc-testing\R\bin\R.exe CMD INSTALL --merge-multiarch --build --library=DelayedMatrixStats.buildbin-libdir DelayedMatrixStats_1.9.0.tar.gz
###
##############################################################################
##############################################################################
install for i386
* installing *source* package 'DelayedMatrixStats' ...
** using staged installation
** R
** inst
** byte-compile and prepare package for lazy loading
** help
*** installing help indices
converting help for package 'DelayedMatrixStats'
finding HTML links ... done
DelayedMatrixStats html
colAlls html
finding level-2 HTML links ... done
Rd warning: C:/Users/bioctesting/bbs-3.11-bioc-testing/tmpdir/RtmpcDAkKg/R.INSTALL9e03c5e5914/DelayedMatrixStats/man/colAlls.Rd:70: file link 'getAutoBlockSize' in package 'DelayedArray' does not exist and so has been treated as a topic
colAnyNAs html
Rd warning: C:/Users/bioctesting/bbs-3.11-bioc-testing/tmpdir/RtmpcDAkKg/R.INSTALL9e03c5e5914/DelayedMatrixStats/man/colAnyNAs.Rd:53: file link 'getAutoBlockSize' in package 'DelayedArray' does not exist and so has been treated as a topic
colAvgsPerRowSet html
Rd warning: C:/Users/bioctesting/bbs-3.11-bioc-testing/tmpdir/RtmpcDAkKg/R.INSTALL9e03c5e5914/DelayedMatrixStats/man/colAvgsPerRowSet.Rd:59: file link 'getAutoBlockSize' in package 'DelayedArray' does not exist and so has been treated as a topic
colCollapse html
Rd warning: C:/Users/bioctesting/bbs-3.11-bioc-testing/tmpdir/RtmpcDAkKg/R.INSTALL9e03c5e5914/DelayedMatrixStats/man/colCollapse.Rd:45: file link 'getAutoBlockSize' in package 'DelayedArray' does not exist and so has been treated as a topic
Rd warning: C:/Users/bioctesting/bbs-3.11-bioc-testing/tmpdir/RtmpcDAkKg/R.INSTALL9e03c5e5914/DelayedMatrixStats/man/colCollapse.Rd:83: file link '[' in package 'base' does not exist and so has been treated as a topic
colCounts html
Rd warning: C:/Users/bioctesting/bbs-3.11-bioc-testing/tmpdir/RtmpcDAkKg/R.INSTALL9e03c5e5914/DelayedMatrixStats/man/colCounts.Rd:51: file link 'getAutoBlockSize' in package 'DelayedArray' does not exist and so has been treated as a topic
colCummaxs html
Rd warning: C:/Users/bioctesting/bbs-3.11-bioc-testing/tmpdir/RtmpcDAkKg/R.INSTALL9e03c5e5914/DelayedMatrixStats/man/colCummaxs.Rd:87: file link 'getAutoBlockSize' in package 'DelayedArray' does not exist and so has been treated as a topic
Rd warning: C:/Users/bioctesting/bbs-3.11-bioc-testing/tmpdir/RtmpcDAkKg/R.INSTALL9e03c5e5914/DelayedMatrixStats/man/colCummaxs.Rd:133: file link 'cumprod' in package 'base' does not exist and so has been treated as a topic
Rd warning: C:/Users/bioctesting/bbs-3.11-bioc-testing/tmpdir/RtmpcDAkKg/R.INSTALL9e03c5e5914/DelayedMatrixStats/man/colCummaxs.Rd:134: file link 'cummin' in package 'base' does not exist and so has been treated as a topic
Rd warning: C:/Users/bioctesting/bbs-3.11-bioc-testing/tmpdir/RtmpcDAkKg/R.INSTALL9e03c5e5914/DelayedMatrixStats/man/colCummaxs.Rd:134: file link 'cummax' in package 'base' does not exist and so has been treated as a topic
colDiffs html
Rd warning: C:/Users/bioctesting/bbs-3.11-bioc-testing/tmpdir/RtmpcDAkKg/R.INSTALL9e03c5e5914/DelayedMatrixStats/man/colDiffs.Rd:51: file link 'getAutoBlockSize' in package 'DelayedArray' does not exist and so has been treated as a topic
colIQRDiffs html
Rd warning: C:/Users/bioctesting/bbs-3.11-bioc-testing/tmpdir/RtmpcDAkKg/R.INSTALL9e03c5e5914/DelayedMatrixStats/man/colIQRDiffs.Rd:117: file link 'var' in package 'stats' does not exist and so has been treated as a topic
Rd warning: C:/Users/bioctesting/bbs-3.11-bioc-testing/tmpdir/RtmpcDAkKg/R.INSTALL9e03c5e5914/DelayedMatrixStats/man/colIQRDiffs.Rd:108: file link 'getAutoBlockSize' in package 'DelayedArray' does not exist and so has been treated as a topic
Rd warning: C:/Users/bioctesting/bbs-3.11-bioc-testing/tmpdir/RtmpcDAkKg/R.INSTALL9e03c5e5914/DelayedMatrixStats/man/colIQRDiffs.Rd:172: file link 'var' in package 'stats' does not exist and so has been treated as a topic
colIQRs html
Rd warning: C:/Users/bioctesting/bbs-3.11-bioc-testing/tmpdir/RtmpcDAkKg/R.INSTALL9e03c5e5914/DelayedMatrixStats/man/colIQRs.Rd:41: file link 'getAutoBlockSize' in package 'DelayedArray' does not exist and so has been treated as a topic
colLogSumExps html
Rd warning: C:/Users/bioctesting/bbs-3.11-bioc-testing/tmpdir/RtmpcDAkKg/R.INSTALL9e03c5e5914/DelayedMatrixStats/man/colLogSumExps.Rd:49: file link 'getAutoBlockSize' in package 'DelayedArray' does not exist and so has been treated as a topic
colMads html
Rd warning: C:/Users/bioctesting/bbs-3.11-bioc-testing/tmpdir/RtmpcDAkKg/R.INSTALL9e03c5e5914/DelayedMatrixStats/man/colMads.Rd:73: file link 'getAutoBlockSize' in package 'DelayedArray' does not exist and so has been treated as a topic
colMeans2 html
Rd warning: C:/Users/bioctesting/bbs-3.11-bioc-testing/tmpdir/RtmpcDAkKg/R.INSTALL9e03c5e5914/DelayedMatrixStats/man/colMeans2.Rd:59: file link 'getAutoBlockSize' in package 'DelayedArray' does not exist and so has been treated as a topic
colMedians html
Rd warning: C:/Users/bioctesting/bbs-3.11-bioc-testing/tmpdir/RtmpcDAkKg/R.INSTALL9e03c5e5914/DelayedMatrixStats/man/colMedians.Rd:47: file link 'getAutoBlockSize' in package 'DelayedArray' does not exist and so has been treated as a topic
colOrderStats html
Rd warning: C:/Users/bioctesting/bbs-3.11-bioc-testing/tmpdir/RtmpcDAkKg/R.INSTALL9e03c5e5914/DelayedMatrixStats/man/colOrderStats.Rd:46: file link 'getAutoBlockSize' in package 'DelayedArray' does not exist and so has been treated as a topic
colProds html
Rd warning: C:/Users/bioctesting/bbs-3.11-bioc-testing/tmpdir/RtmpcDAkKg/R.INSTALL9e03c5e5914/DelayedMatrixStats/man/colProds.Rd:52: file link 'getAutoBlockSize' in package 'DelayedArray' does not exist and so has been treated as a topic
Rd warning: C:/Users/bioctesting/bbs-3.11-bioc-testing/tmpdir/RtmpcDAkKg/R.INSTALL9e03c5e5914/DelayedMatrixStats/man/colProds.Rd:78: file link 'is.nan' in package 'base' does not exist and so has been treated as a topic
colQuantiles html
Rd warning: C:/Users/bioctesting/bbs-3.11-bioc-testing/tmpdir/RtmpcDAkKg/R.INSTALL9e03c5e5914/DelayedMatrixStats/man/colQuantiles.Rd:55: file link 'getAutoBlockSize' in package 'DelayedArray' does not exist and so has been treated as a topic
colRanks html
Rd warning: C:/Users/bioctesting/bbs-3.11-bioc-testing/tmpdir/RtmpcDAkKg/R.INSTALL9e03c5e5914/DelayedMatrixStats/man/colRanks.Rd:56: file link 'getAutoBlockSize' in package 'DelayedArray' does not exist and so has been treated as a topic
colSums2 html
Rd warning: C:/Users/bioctesting/bbs-3.11-bioc-testing/tmpdir/RtmpcDAkKg/R.INSTALL9e03c5e5914/DelayedMatrixStats/man/colSums2.Rd:59: file link 'getAutoBlockSize' in package 'DelayedArray' does not exist and so has been treated as a topic
colTabulates html
Rd warning: C:/Users/bioctesting/bbs-3.11-bioc-testing/tmpdir/RtmpcDAkKg/R.INSTALL9e03c5e5914/DelayedMatrixStats/man/colTabulates.Rd:42: file link 'getAutoBlockSize' in package 'DelayedArray' does not exist and so has been treated as a topic
colVars html
Rd warning: C:/Users/bioctesting/bbs-3.11-bioc-testing/tmpdir/RtmpcDAkKg/R.INSTALL9e03c5e5914/DelayedMatrixStats/man/colVars.Rd:51: file link 'getAutoBlockSize' in package 'DelayedArray' does not exist and so has been treated as a topic
colWeightedMads html
Rd warning: C:/Users/bioctesting/bbs-3.11-bioc-testing/tmpdir/RtmpcDAkKg/R.INSTALL9e03c5e5914/DelayedMatrixStats/man/colWeightedMads.Rd:59: file link 'getAutoBlockSize' in package 'DelayedArray' does not exist and so has been treated as a topic
colWeightedMeans html
Rd warning: C:/Users/bioctesting/bbs-3.11-bioc-testing/tmpdir/RtmpcDAkKg/R.INSTALL9e03c5e5914/DelayedMatrixStats/man/colWeightedMeans.Rd:47: file link 'getAutoBlockSize' in package 'DelayedArray' does not exist and so has been treated as a topic
colWeightedMedians html
Rd warning: C:/Users/bioctesting/bbs-3.11-bioc-testing/tmpdir/RtmpcDAkKg/R.INSTALL9e03c5e5914/DelayedMatrixStats/man/colWeightedMedians.Rd:47: file link 'getAutoBlockSize' in package 'DelayedArray' does not exist and so has been treated as a topic
colWeightedVars html
Rd warning: C:/Users/bioctesting/bbs-3.11-bioc-testing/tmpdir/RtmpcDAkKg/R.INSTALL9e03c5e5914/DelayedMatrixStats/man/colWeightedVars.Rd:66: file link 'getAutoBlockSize' in package 'DelayedArray' does not exist and so has been treated as a topic
Rd warning: C:/Users/bioctesting/bbs-3.11-bioc-testing/tmpdir/RtmpcDAkKg/R.INSTALL9e03c5e5914/DelayedMatrixStats/man/colWeightedVars.Rd:115: file link 'var' in package 'stats' does not exist and so has been treated as a topic
from_DelayedArray_to_simple_seed_class
html
rowblock_APPLY html
seedClass html
subset_by_Nindex html
** building package indices
** installing vignettes
** testing if installed package can be loaded from temporary location
** testing if installed package can be loaded from final location
** testing if installed package keeps a record of temporary installation path
install for x64
* installing *source* package 'DelayedMatrixStats' ...
** testing if installed package can be loaded
* MD5 sums
packaged installation of 'DelayedMatrixStats' as DelayedMatrixStats_1.9.0.zip
* DONE (DelayedMatrixStats)