| Back to "Blame Jeroen" build/check report for BioC 3.11 | 
This page was generated on 2020-04-14 03:20:14 -0400 (Tue, 14 Apr 2020).
| These builds are using Rtools40 and R-testing by Jeroen Ooms (available at https://cran.r-project.org/bin/windows/testing/rtools40.html) | 
| TO THE DEVELOPERS/MAINTAINERS OF THE SingleCellExperiment PACKAGE: Please make sure to use the following settings in order to reproduce any error or warning you see on this page. | 
| Package 78/89 | Hostname | OS / Arch | INSTALL | BUILD | CHECK | BUILD BIN | |||||
| SingleCellExperiment 1.9.3 Davide Risso 
 | tokay2 | Windows Server 2012 R2 Standard / x64 | OK | OK | WARNINGS | [ OK ] | 
| Package: SingleCellExperiment | 
| Version: 1.9.3 | 
| Command: rm -rf SingleCellExperiment.buildbin-libdir && mkdir SingleCellExperiment.buildbin-libdir && C:\Users\bioctesting\bbs-3.11-bioc-testing\R\bin\R.exe CMD INSTALL --merge-multiarch --build --library=SingleCellExperiment.buildbin-libdir SingleCellExperiment_1.9.3.tar.gz | 
| StartedAt: 2020-04-14 00:33:59 -0400 (Tue, 14 Apr 2020) | 
| EndedAt: 2020-04-14 00:35:12 -0400 (Tue, 14 Apr 2020) | 
| EllapsedTime: 73.7 seconds | 
| RetCode: 0 | 
| Status: OK | 
| PackageFile: SingleCellExperiment_1.9.3.zip | 
| PackageFileSize: 1.5 MiB | 
##############################################################################
##############################################################################
###
### Running command:
###
###   rm -rf SingleCellExperiment.buildbin-libdir && mkdir SingleCellExperiment.buildbin-libdir && C:\Users\bioctesting\bbs-3.11-bioc-testing\R\bin\R.exe CMD INSTALL --merge-multiarch --build --library=SingleCellExperiment.buildbin-libdir SingleCellExperiment_1.9.3.tar.gz
###
##############################################################################
##############################################################################
install for i386
* installing *source* package 'SingleCellExperiment' ...
** using staged installation
** R
** inst
** byte-compile and prepare package for lazy loading
** help
*** installing help indices
  converting help for package 'SingleCellExperiment'
    finding HTML links ... done
    LEM-combine                             html  
    LEM-getset                              html  
    LEM-misc                                html  
    LEM-subset                              html  
    LinearEmbeddingMatrix                   html  
    SingleCellExperiment                    html  
    finding level-2 HTML links ... done
    altExps                                 html  
    assays                                  html  
    colLabels                               html  
    combine                                 html  
Rd warning: C:/Users/bioctesting/bbs-3.11-bioc-testing/tmpdir/RtmpKY8prq/R.INSTALLf4821f36ad7/SingleCellExperiment/man/combine.Rd:27: file link 'rbind' in package 'base' does not exist and so has been treated as a topic
    defunct                                 html  
    internals                               html  
    miscellaneous                           html  
    reducedDims                             html  
    sizeFactors                             html  
    splitAltExps                            html  
    swapAltExp                              html  
    updateObject                            html  
** building package indices
** installing vignettes
** testing if installed package can be loaded from temporary location
** testing if installed package can be loaded from final location
** testing if installed package keeps a record of temporary installation path
install for x64
* installing *source* package 'SingleCellExperiment' ...
** testing if installed package can be loaded
* MD5 sums
packaged installation of 'SingleCellExperiment' as SingleCellExperiment_1.9.3.zip
* DONE (SingleCellExperiment)