| Package STATUS - Package status is indicated by one of the following glyphs: | 
|  -  TIMEOUT  | 
BUILD, CHECK or BUILD BIN of package took more than 40 minutes | 
|  -  ERROR  | 
BUILD, CHECK or BUILD BIN of package returned an error | 
|  -  WARNINGS  | 
CHECK of package produced warnings | 
|  -  OK  | 
BUILD, CHECK or BUILD BIN of package was OK | 
|  - skipped  | 
CHECK or BUILD BIN of package was skipped because the BUILD step failed (or because something bad happened with the Build System itself) | 
| Click on any glyph in the report below to see the status details (command output). | 
| lamb1 | 
Linux (SUSE 10.1) / x86_64  |  |  |  | 
| [lemming] | 
Windows Server 2003 (32-bit) / x64  |  |  |  | 
| pitt | 
Mac OS X Tiger (10.4.11) / i386  |  |  |  | 
| affydata 1.11.3 | Laurent |  OK  |  OK  |  OK  | 
| AffymetrixDataTestFiles 0.1.1 | Henrik Bengtsson |  OK  |  OK  |  OK  | 
| ALL 1.4.3 | Xiaochun Li |  OK  |  OK  |  OK  | 
| ALLMLL 1.2.2 | B. M. Bolstad |  OK  |  OK  |  OK  | 
| AmpAffyExample 1.2.2 | Rafael A. Irizarry |  OK  |  OK  |  OK  | 
| beta7 0.6.0 | Jean Yang |  OK  |  OK  |  OK  | 
| bronchialIL13 1.0-3 | Vince Carey |  OK  |  OK  |  OK  | 
| CCl4 1.0.7 | Audrey Kauffmann |  OK  |  OK  |  OK  | 
| CLL 1.2.4 | Robert Gentleman |  OK  |  OK  |  OK  | 
| colonCA 1.4.2 | W Sylvia Merk |  OK  |  OK  |  OK  | 
| davidTiling 1.2.5 | Wolfgang Huber |  OK  |  OK  |  OK  | 
| ecoliLeucine 1.2.1 | Laurent Gautier |  OK  |  OK  |  OK  | 
| encoDnaseI 0.0-13 | VJ Carey |  ERROR  |  skipped  |  skipped  | 
| estrogen 1.8.2 | R. Gentleman |  OK  |  OK  |  OK  | 
| faahKO 1.2.1 | Colin A. Smith |  OK  |  OK  |  OK  | 
| facsDorit 1.4.0 | Florian Hahne |  OK  |  OK  |  OK  | 
| fibroEset 1.4.2 | Sylvia Merk |  OK  |  OK  |  OK  | 
| gaschYHS 1.0.0 | Vince Carey |  OK  |  OK  |  OK  | 
| GGdata 0.0-12 | VJ Carey |  OK  |  ERROR  |  OK  | 
| golubEsets 1.4.4 | Vince Carey |  OK  |  OK  |  OK  | 
| hapmap100khind 1.3 | Benilton Carvalho |  OK  |  OK  |  OK  | 
| hapmap100kxba 1.3 | Benilton Carvalho |  OK  |  OK  |  OK  | 
| hapmap500knsp 1.3 | Benilton Carvalho |  OK  |  OK  |  OK  | 
| hapmap500ksty 1.3 | Benilton Carvalho |  OK  |  OK  |  OK  | 
| hapmapsnp5 1.3 | Benilton Carvalho |  OK  |  OK  |  OK  | 
| hapmapsnp6 1.3 | Benilton Carvalho |  OK  |  OK  |  OK  | 
| harbChIP 0.0.4 | VJ Carey |  OK  |  OK  |  OK  | 
| HEEBOdata 1.0.0 | Agnes Paquet |  OK  |  OK  |  OK  | 
| hgu2beta7 1.2.1 | Biocore Team c/o BioC user list |  OK  |  OK  |  OK  | 
| HIVcDNAvantWout03 1.2.0 | Chris Fraley |  OK  |  OK  |  OK  | 
| Iyer517 1.4.2 | Vince Carey |  OK  |  OK  |  OK  | 
| kidpack 1.5.1 | Wolfgang Huber |  OK  |  OK  |  OK  | 
| lumiBarnes 1.3.3 | Pan Du |  OK  |  OK  |  OK  | 
| lungExpression 0.0.6 | Robert Scharpf |  OK  |  OK  |  OK  | 
| maqcExpression4plex 1.2 | Benilton Carvalho |  OK  |  OK  |  OK  | 
| MAQCsubset 1.0.11 | VJ Carey |  OK  |  WARNINGS  |  OK  | 
| MAQCsubsetAFX 1.0.0 | Laurent Gatto |  OK  |  OK  |  OK  | 
| MAQCsubsetILM 1.0.0 | Laurent Gatto |  OK  |  OK  |  OK  | 
| MEEBOdata 1.0.0 | Agnes Paquet |  OK  |  OK  |  OK  | 
| msdata 0.1.1 | Steffen Neumann |  OK  |  ERROR  |  OK  | 
| Neve2006 0.1.5 | VJ Carey |  OK  |  OK  |  OK  | 
| ppiData 0.1.10 | Tony Chiang |  OK  |  OK  |  OK  | 
| ProData 0.4.1 | Xiaochun Li |  OK  |  OK  |  OK  | 
| pumadata 1.0.0 | Richard Pearson |  OK  |  OK  |  OK  | 
| rfcdmin 1.6.5 | N. Le Meur |  OK  |  OK  |  OK  | 
| SNAData 1.8.0 | Denise Scholtens |  OK  |  OK  |  OK  | 
| SpikeIn 1.4.1 | Rafael A. Irizarry |  OK  |  OK  |  OK  | 
| SpikeInSubset 1.2.6 | Rafael A. Irizarry |  OK  |  OK  |  OK  | 
| stjudem 1.2.0 | Joern Toedling |  OK  |  OK  |  OK  | 
| tinesath1cdf 1.0.2 | Tine Casneuf |  OK  |  OK  |  OK  | 
| tinesath1probe 1.0.2 | Tine Casneuf |  OK  |  OK  |  OK  | 
| XhybCasneuf 1.0.0 | Tineke Casneuf |  OK  |  OK  |  OK  | 
| yeastCC 1.2.6 | Sandrine Dudoit |  OK  |  OK  |  OK  | 
| yeastExpData 0.9.11 | R. Gentleman |  ERROR  |  skipped  |  skipped  | 
| yeastGSData 0.1.0 | R. Gentleman |  OK  |  OK  |  OK  |