| rfcdmin 1.6.5 N. Le Meur
 
 | Snapshot Date: 2008-04-10 00:02:38 -0700 (Thu, 10 Apr 2008) |  | URL: https://hedgehog.fhcrc.org/bioc-data/trunk/experiment/pkgs/rfcdmin |  | Last Changed Rev: 456 / Revision: 624 |  | Last Changed Date: 2007-09-11 16:51:21 -0700 (Tue, 11 Sep 2007) | 
 | lamb1 | Linux (SUSE 10.1) / x86_64 | OK | OK |  | 
| lemming | Windows Server 2003 (32-bit) / x64 | OK | OK | [ OK ] | 
| pitt | Mac OS X Tiger (10.4.11) / i386 | OK | OK | OK | 
installing R.css in D:/biocbld/bbs-2.1-data-experiment/meat/rfcdmin.buildbin-libdir
Using auto-selected zip options 'rfcdmin-ZIPDATA=zip'
---------- Making package rfcdmin ------------
  adding build stamp to DESCRIPTION
  no R files in this package
  installing inst files
  installing data files
  installing man source files
  installing indices
  zipping data
  installing help
 >>> Building/Updating help pages for package 'rfcdmin'
     Formats: text html latex example chm 
  FCSRobj.currentmin                text    html    latex   example chm
  FCSRobjmin                        text    html    latex   example chm
  MC.053min                         text    html    latex   example chm
  PRIM.example.data                 text    html    latex   example chm
  PRIM.real.data.min                text    html    latex   example chm
  PerPosROCmin                      text    html    latex   example chm
  SEB-NP22.fcs                      text    html    latex   example chm
  VRCmin                            text    html    latex   example chm
  facscan256.fcs                    text    html    latex   example chm
  flowcyt.data                      text    html    latex   example chm
  flowcyt.fcs                       text    html    latex   example chm
  flowcyt.fluors                    text    html    latex   example chm
Microsoft HTML Help Compiler 4.74.8702
Compiling d:\biocbld\bbs-2.1-data-experiment\meat\R.INSTALL.2912\rfcdmin\chm\rfcdmin.chm
Compile time: 0 minutes, 0 seconds
13	Topics
81	Local links
0	Internet links
1	Graphic
Created d:\biocbld\bbs-2.1-data-experiment\meat\R.INSTALL.2912\rfcdmin\chm\rfcdmin.chm, 36,308 bytes
Compression decreased file by 28,074 bytes.
  adding MD5 sums
packaged installation of package 'rfcdmin' as rfcdmin_1.6.5.zip
* DONE (rfcdmin)