| Back to the "Multiple platform build/check report" | 
| Package 18/55 | Hostname | OS / Arch | BUILD | CHECK | BUILD BIN | ||||
| gaschYHS 1.0.0 Vince Carey 
 | lamb1 | Linux (SUSE 10.1) / x86_64 | OK | OK | |||||
| lemming | Windows Server 2003 (32-bit) / x64 | [ OK ] | OK | OK | |||||
| pitt | Mac OS X Tiger (10.4.11) / i386 | OK | OK | OK | 
| Package: gaschYHS | 
| Version: 1.0.0 | 
| Command: D:\biocbld\bbs-2.1-bioc\R\bin\R.exe CMD build gaschYHS | 
| StartedAt: 2008-04-10 01:34:24 -0700 (Thu, 10 Apr 2008) | 
| EndedAt: 2008-04-10 01:34:30 -0700 (Thu, 10 Apr 2008) | 
| EllapsedTime: 5.5 seconds | 
| RetCode: 0 | 
| Status: OK | 
| PackageFile: gaschYHS_1.0.0.tar.gz | 
| PackageFileSize: 1.756 MiB | 
* checking for file 'gaschYHS/DESCRIPTION' ... OK * preparing 'gaschYHS': * checking DESCRIPTION meta-information ... OK * removing junk files * checking for LF line-endings in source and make files * checking for empty or unneeded directories * building 'gaschYHS_1.0.0.tar.gz'