| gaschYHS 1.0.0 Vince Carey
 
 | Snapshot Date: 2008-04-10 00:02:38 -0700 (Thu, 10 Apr 2008) |  | URL: https://hedgehog.fhcrc.org/bioc-data/trunk/experiment/pkgs/gaschYHS |  | Last Changed Rev: 163 / Revision: 624 |  | Last Changed Date: 2006-10-10 12:38:08 -0700 (Tue, 10 Oct 2006) | 
 | lamb1 | Linux (SUSE 10.1) / x86_64 | OK | OK |  | 
| lemming | Windows Server 2003 (32-bit) / x64 | OK | OK | [ OK ] | 
| pitt | Mac OS X Tiger (10.4.11) / i386 | OK | OK | OK | 
installing R.css in D:/biocbld/bbs-2.1-data-experiment/meat/gaschYHS.buildbin-libdir
Using auto-selected zip options 'gaschYHS-ZIPDATA=zip'
---------- Making package gaschYHS ------------
  adding build stamp to DESCRIPTION
  no R files in this package
  installing data files
  installing man source files
  installing indices
  zipping data
  installing help
 >>> Building/Updating help pages for package 'gaschYHS'
     Formats: text html latex example chm 
  gaschYHS                          text    html    latex   example chm
Microsoft HTML Help Compiler 4.74.8702
Compiling d:\biocbld\bbs-2.1-data-experiment\meat\R.INSTALL.2300\gaschYHS\chm\gaschYHS.chm
Compile time: 0 minutes, 0 seconds
2	Topics
2	Local links
1	Internet link
1	Graphic
Created d:\biocbld\bbs-2.1-data-experiment\meat\R.INSTALL.2300\gaschYHS\chm\gaschYHS.chm, 16,355 bytes
Compression increased file by 8,780 bytes.
  adding MD5 sums
packaged installation of package 'gaschYHS' as gaschYHS_1.0.0.zip
* DONE (gaschYHS)