| harbChIP 0.0.4 VJ Carey
 
 | Snapshot Date: 2008-04-10 00:02:38 -0700 (Thu, 10 Apr 2008) |  | URL: https://hedgehog.fhcrc.org/bioc-data/trunk/experiment/pkgs/harbChIP |  | Last Changed Rev: 564 / Revision: 624 |  | Last Changed Date: 2008-02-19 02:52:25 -0800 (Tue, 19 Feb 2008) | 
 | lamb1 | Linux (SUSE 10.1) / x86_64 | OK | OK |  | 
| lemming | Windows Server 2003 (32-bit) / x64 | [ OK ] | OK | OK | 
| pitt | Mac OS X Tiger (10.4.11) / i386 | OK | OK | OK | 
* checking for file 'harbChIP/DESCRIPTION' ... OK
* preparing 'harbChIP':
* checking DESCRIPTION meta-information ... OK
* installing the package to re-build vignettes
installing R.css in D:/biocbld/bbs-2.1-data-experiment/tmpdir/Rinst424892895
---------- Making package harbChIP ------------
  adding build stamp to DESCRIPTION
  installing NAMESPACE file and metadata
  installing R files
  installing inst files
  installing data files
  installing man source files
  installing indices
Loading required package: methods
  not zipping data
  installing help
 >>> Building/Updating help pages for package 'harbChIP'
     Formats: text html latex example chm 
  allhex                            text    html    latex   example chm
  buildUpstreamSeqs2                text    html    latex   example chm
  chkMotif4TF                       text    html    latex   example chm
  harbChIP                          text    html    latex   example chm
  sceUpstream                       text    html    latex   example chm
  upstreamSeqs-class                text    html    latex   example chm
Microsoft HTML Help Compiler 4.74.8702
Compiling d:\biocbld\bbs-2.1-data-experiment\meat\harbChIP\chm\harbChIP.chm
Compile time: 0 minutes, 0 seconds
7	Topics
24	Local links
0	Internet links
1	Graphic
Created d:\biocbld\bbs-2.1-data-experiment\meat\harbChIP\chm\harbChIP.chm, 20,931 bytes
Compression decreased file by 1,487 bytes.
  adding MD5 sums
* DONE (harbChIP)
* creating vignettes ... OK
* removing junk files
* checking for LF line-endings in source and make files
* checking for empty or unneeded directories
* building 'harbChIP_0.0.4.tar.gz'