Neve2006 0.1.5 VJ Carey
 | Snapshot Date: 2008-04-10 00:02:38 -0700 (Thu, 10 Apr 2008) |  | URL: https://hedgehog.fhcrc.org/bioc-data/trunk/experiment/pkgs/Neve2006 |  | Last Changed Rev: 460 / Revision: 624 |  | Last Changed Date: 2007-09-14 13:35:38 -0700 (Fri, 14 Sep 2007) |  
  | lamb1  | Linux (SUSE 10.1) / x86_64  |  OK  |  OK  |  | 
| lemming  | Windows Server 2003 (32-bit) / x64  |  OK  |  OK  | [ OK ] | 
| pitt  | Mac OS X Tiger (10.4.11) / i386  |  OK  |  OK  |  OK  | 
installing R.css in D:/biocbld/bbs-2.1-data-experiment/meat/Neve2006.buildbin-libdir
Using auto-selected zip options 'Neve2006-ZIPDATA=zip'
---------- Making package Neve2006 ------------
  adding build stamp to DESCRIPTION
  installing R files
  installing inst files
  installing data files
  preparing package Neve2006 for lazy loading
Loading required package: tools
Loading required package: Biobase
Welcome to Bioconductor
  Vignettes contain introductory material. To view, type
  'openVignette()'. To cite Bioconductor, see
  'citation("Biobase")' and for packages 'citation(pkgname)'.
Loading required package: hgu133a
Loading required package: annotate
Loading required package: AnnotationDbi
Loading required package: DBI
Loading required package: RSQLite
Loading required package: xtable
  installing man source files
  installing indices
  zipping data
  installing help
 >>> Building/Updating help pages for package 'Neve2006'
     Formats: text html latex example chm 
  cghExSet-class                    text    html    latex   example chm
  logRatios                         text    html    latex   example chm
  neveCGHmatch                      text    html    latex   example chm
Microsoft HTML Help Compiler 4.74.8702
Compiling d:\biocbld\bbs-2.1-data-experiment\meat\R.INSTALL.5828\Neve2006\chm\Neve2006.chm
Compile time: 0 minutes, 0 seconds
4	Topics
21	Local links
0	Internet links
1	Graphic
Created d:\biocbld\bbs-2.1-data-experiment\meat\R.INSTALL.5828\Neve2006\chm\Neve2006.chm, 19,701 bytes
Compression increased file by 991 bytes.
  adding MD5 sums
packaged installation of package 'Neve2006' as Neve2006_0.1.5.zip
* DONE (Neve2006)