ALL 1.4.3 Xiaochun Li
 | Snapshot Date: 2008-04-10 00:02:38 -0700 (Thu, 10 Apr 2008) |  | URL: https://hedgehog.fhcrc.org/bioc-data/trunk/experiment/pkgs/ALL |  | Last Changed Rev: 329 / Revision: 624 |  | Last Changed Date: 2007-06-05 09:16:51 -0700 (Tue, 05 Jun 2007) |  
  | lamb1  | Linux (SUSE 10.1) / x86_64  |  OK  |  OK  |  | 
| lemming  | Windows Server 2003 (32-bit) / x64  |  OK  |  OK  | [ OK ] | 
| pitt  | Mac OS X Tiger (10.4.11) / i386  |  OK  |  OK  |  OK  | 
installing R.css in D:/biocbld/bbs-2.1-data-experiment/meat/ALL.buildbin-libdir
Using auto-selected zip options 'ALL-ZIPDATA=zip'
---------- Making package ALL ------------
  adding build stamp to DESCRIPTION
  installing R files
  installing inst files
  installing data files
  installing man source files
  installing indices
Loading required package: methods
  zipping data
  installing help
 >>> Building/Updating help pages for package 'ALL'
     Formats: text html latex example chm 
  ALL                               text    html    latex   example chm
  tojulian                          text    html    latex   example chm
Microsoft HTML Help Compiler 4.74.8702
Compiling d:\biocbld\bbs-2.1-data-experiment\meat\R.INSTALL.4464\ALL\chm\ALL.chm
Compile time: 0 minutes, 0 seconds
3	Topics
4	Local links
0	Internet links
1	Graphic
Created d:\biocbld\bbs-2.1-data-experiment\meat\R.INSTALL.4464\ALL\chm\ALL.chm, 19,518 bytes
Compression increased file by 7,896 bytes.
  adding MD5 sums
packaged installation of package 'ALL' as ALL_1.4.3.zip
* DONE (ALL)