Back to Multiple platform build/check report for BioC 3.22:   simplified   long
ABCDEFGHIJKLMNOPQ[R]STUVWXYZ

This page was generated on 2025-10-07 12:03 -0400 (Tue, 07 Oct 2025).

HostnameOSArch (*)R versionInstalled pkgs
nebbiolo2Linux (Ubuntu 24.04.3 LTS)x86_644.5.1 Patched (2025-08-23 r88802) -- "Great Square Root" 4853
lconwaymacOS 12.7.1 Montereyx86_644.5.1 Patched (2025-09-10 r88807) -- "Great Square Root" 4640
kjohnson3macOS 13.7.7 Venturaarm644.5.1 Patched (2025-09-10 r88807) -- "Great Square Root" 4585
taishanLinux (openEuler 24.03 LTS)aarch644.5.0 (2025-04-11) -- "How About a Twenty-Six" 4584
Click on any hostname to see more info about the system (e.g. compilers)      (*) as reported by 'uname -p', except on Windows and Mac OS X

All results for package rtracklayer


To the developers/maintainers of the rtracklayer package:
- Allow up to 24 hours (and sometimes 48 hours) for your latest push to git@git.bioconductor.org:packages/rtracklayer.git to reflect on this report. See Troubleshooting Build Report for more information.
- Use the following Renviron settings to reproduce errors and warnings.
- If 'R CMD check' started to fail recently on the Linux builder(s) over a missing dependency, add the missing dependency to 'Suggests:' in your DESCRIPTION file. See Renviron.bioc for more information.

raw results

Package 1850/2341HostnameOS / ArchINSTALLBUILDCHECKBUILD BIN
rtracklayer 1.69.1  (landing page)
Michael Lawrence
Snapshot Date: 2025-10-06 13:45 -0400 (Mon, 06 Oct 2025)
git_url: https://git.bioconductor.org/packages/rtracklayer
git_branch: devel
git_last_commit: 8268289
git_last_commit_date: 2025-09-29 08:29:33 -0400 (Mon, 29 Sep 2025)
nebbiolo2Linux (Ubuntu 24.04.3 LTS) / x86_64  OK    OK    WARNINGS  UNNEEDED, same version is already published
lconwaymacOS 12.7.1 Monterey / x86_64  OK    OK    WARNINGS    OK  UNNEEDED, same version is already published
kjohnson3macOS 13.7.7 Ventura / arm64  OK    OK    WARNINGS    OK  UNNEEDED, same version is already published
taishanLinux (openEuler 24.03 LTS) / aarch64  OK    OK    WARNINGS  



Results for Bioconductor software packages that depend directly on package rtracklayer

QUICK STATSOS / ArchINSTALLBUILDCHECKBUILD BIN
nebbiolo2Linux (Ubuntu 24.04.3 LTS) / x86_64
02178
010170
0837125
lconwaymacOS 12.7.1 Monterey / x86_64
03177
012168
0735126
00168
kjohnson3macOS 13.7.7 Ventura / arm64
04176
013167
01032125
00167
taishanLinux (openEuler 24.03 LTS) / aarch64
04176
325152
41830100
Package 1/180HostnameOS / ArchINSTALLBUILDCHECKBUILD BIN
AnnotationHubData 1.39.2  (landing page)
Bioconductor Package Maintainer
git_last_commit: 191ff77
git_last_commit_date: 2025-06-21 01:04:11 -0400
nebbiolo2Linux (Ubuntu 24.04.3 LTS) / x86_64  OK    OK    WARNINGS  UNNEEDED, same version is already published
lconwaymacOS 12.7.1 Monterey / x86_64  OK    OK    WARNINGS    OK  UNNEEDED, same version is already published
kjohnson3macOS 13.7.7 Ventura / arm64  OK    OK    WARNINGS    OK  UNNEEDED, same version is already published
taishanLinux (openEuler 24.03 LTS) / aarch64  OK    OK    WARNINGS  
Package 2/180HostnameOS / ArchINSTALLBUILDCHECKBUILD BIN
annotatr 1.35.1  (landing page)
Raymond G. Cavalcante
git_last_commit: 1a8c4a5
git_last_commit_date: 2025-06-21 16:48:31 -0400
nebbiolo2Linux (Ubuntu 24.04.3 LTS) / x86_64  OK    OK    ERROR  
lconwaymacOS 12.7.1 Monterey / x86_64  OK    OK    ERROR    OK  
kjohnson3macOS 13.7.7 Ventura / arm64  OK    OK    ERROR    OK  
taishanLinux (openEuler 24.03 LTS) / aarch64  OK    OK    ERROR  
Package 3/180HostnameOS / ArchINSTALLBUILDCHECKBUILD BIN
APAlyzer 1.23.0  (landing page)
Ruijia Wang
git_last_commit: 1bff29d
git_last_commit_date: 2025-04-15 11:48:46 -0400
nebbiolo2Linux (Ubuntu 24.04.3 LTS) / x86_64  OK    OK    ERROR  
lconwaymacOS 12.7.1 Monterey / x86_64  OK    OK    ERROR    OK  
kjohnson3macOS 13.7.7 Ventura / arm64  OK    OK    ERROR    OK  
taishanLinux (openEuler 24.03 LTS) / aarch64  OK    OK    TIMEOUT  
Package 4/180HostnameOS / ArchINSTALLBUILDCHECKBUILD BIN
ATACseqQC 1.33.1  (landing page)
Jianhong Ou
git_last_commit: 3e4fc42
git_last_commit_date: 2025-05-05 09:53:40 -0400
nebbiolo2Linux (Ubuntu 24.04.3 LTS) / x86_64  OK    OK    OK  UNNEEDED, same version is already published
lconwaymacOS 12.7.1 Monterey / x86_64  OK    OK    OK    OK  UNNEEDED, same version is already published
kjohnson3macOS 13.7.7 Ventura / arm64  OK    OK    OK    OK  UNNEEDED, same version is already published
taishanLinux (openEuler 24.03 LTS) / aarch64  OK    ERROR  skipped
Package 5/180HostnameOS / ArchINSTALLBUILDCHECKBUILD BIN
ATACseqTFEA 1.11.1  (landing page)
Jianhong Ou
git_last_commit: fc5eeae
git_last_commit_date: 2025-07-22 18:44:40 -0400
nebbiolo2Linux (Ubuntu 24.04.3 LTS) / x86_64  OK    OK    OK  UNNEEDED, same version is already published
lconwaymacOS 12.7.1 Monterey / x86_64  OK    OK    OK    OK  UNNEEDED, same version is already published
kjohnson3macOS 13.7.7 Ventura / arm64  OK    OK    OK    OK  UNNEEDED, same version is already published
taishanLinux (openEuler 24.03 LTS) / aarch64  OK    OK    OK  
Package 6/180HostnameOS / ArchINSTALLBUILDCHECKBUILD BIN
ballgown 2.41.1  (landing page)
Jack Fu
git_last_commit: b6d07d9
git_last_commit_date: 2025-07-22 22:14:37 -0400
nebbiolo2Linux (Ubuntu 24.04.3 LTS) / x86_64  OK    OK    OK  UNNEEDED, same version is already published
lconwaymacOS 12.7.1 Monterey / x86_64  OK    OK    OK    OK  UNNEEDED, same version is already published
kjohnson3macOS 13.7.7 Ventura / arm64  OK    OK    OK    OK  UNNEEDED, same version is already published
taishanLinux (openEuler 24.03 LTS) / aarch64  OK    OK    OK  
Package 7/180HostnameOS / ArchINSTALLBUILDCHECKBUILD BIN
bedbaser 1.1.2  (landing page)
Andres Wokaty
git_last_commit: 7a7e805
git_last_commit_date: 2025-07-16 11:48:23 -0400
nebbiolo2Linux (Ubuntu 24.04.3 LTS) / x86_64  OK    ERROR  skipped
lconwaymacOS 12.7.1 Monterey / x86_64  OK    ERROR  skippedskipped
kjohnson3macOS 13.7.7 Ventura / arm64  OK    ERROR  skippedskipped
taishanLinux (openEuler 24.03 LTS) / aarch64  OK    ERROR  skipped
Package 8/180HostnameOS / ArchINSTALLBUILDCHECKBUILD BIN
BgeeCall 1.25.0  (landing page)
Julien Wollbrett
git_last_commit: ff8547a
git_last_commit_date: 2025-07-21 14:19:08 -0400
nebbiolo2Linux (Ubuntu 24.04.3 LTS) / x86_64  OK    OK    OK  UNNEEDED, same version is already published
lconwaymacOS 12.7.1 Monterey / x86_64  OK    OK    OK    OK  UNNEEDED, same version is already published
kjohnson3macOS 13.7.7 Ventura / arm64  OK    OK    OK    OK  UNNEEDED, same version is already published
taishanLinux (openEuler 24.03 LTS) / aarch64  OK    OK    TIMEOUT  
Package 9/180HostnameOS / ArchINSTALLBUILDCHECKBUILD BIN
BindingSiteFinder 2.7.1  (landing page)
Mirko Brüggemann
git_last_commit: c9c0024
git_last_commit_date: 2025-06-21 19:17:25 -0400
nebbiolo2Linux (Ubuntu 24.04.3 LTS) / x86_64  OK    OK    OK  UNNEEDED, same version is already published
lconwaymacOS 12.7.1 Monterey / x86_64  OK    OK    OK    OK  UNNEEDED, same version is already published
kjohnson3macOS 13.7.7 Ventura / arm64  OK    OK    OK    OK  UNNEEDED, same version is already published
taishanLinux (openEuler 24.03 LTS) / aarch64  OK    OK    TIMEOUT  
Package 10/180HostnameOS / ArchINSTALLBUILDCHECKBUILD BIN
biscuiteer 1.23.0  (landing page)
Jacob Morrison
git_last_commit: 700b6be
git_last_commit_date: 2025-04-15 11:51:53 -0400
nebbiolo2Linux (Ubuntu 24.04.3 LTS) / x86_64  OK    OK    WARNINGS  UNNEEDED, same version is already published
lconwaymacOS 12.7.1 Monterey / x86_64  OK    OK    WARNINGS    OK  UNNEEDED, same version is already published
kjohnson3macOS 13.7.7 Ventura / arm64  OK    OK    WARNINGS    OK  UNNEEDED, same version is already published
taishanLinux (openEuler 24.03 LTS) / aarch64  OK    OK    WARNINGS  
Package 11/180HostnameOS / ArchINSTALLBUILDCHECKBUILD BIN
BiSeq 1.49.1  (landing page)
Katja Hebestreit
git_last_commit: 3b6b7d2
git_last_commit_date: 2025-07-24 18:21:35 -0400
nebbiolo2Linux (Ubuntu 24.04.3 LTS) / x86_64  OK    OK    OK  UNNEEDED, same version is already published
lconwaymacOS 12.7.1 Monterey / x86_64  OK    OK    OK    OK  UNNEEDED, same version is already published
kjohnson3macOS 13.7.7 Ventura / arm64  OK    OK    OK    OK  UNNEEDED, same version is already published
taishanLinux (openEuler 24.03 LTS) / aarch64  OK    OK    OK  
Package 12/180HostnameOS / ArchINSTALLBUILDCHECKBUILD BIN
branchpointer 1.35.1  (landing page)
Beth Signal
git_last_commit: 2b05809
git_last_commit_date: 2025-07-22 22:16:20 -0400
nebbiolo2Linux (Ubuntu 24.04.3 LTS) / x86_64  OK    ERROR  skipped
lconwaymacOS 12.7.1 Monterey / x86_64  OK    ERROR  skippedskipped
kjohnson3macOS 13.7.7 Ventura / arm64  OK    ERROR  skippedskipped
taishanLinux (openEuler 24.03 LTS) / aarch64  OK    ERROR  skipped
Package 13/180HostnameOS / ArchINSTALLBUILDCHECKBUILD BIN
BSgenome 1.77.2  (landing page)
Hervé Pagès
git_last_commit: 246fe80
git_last_commit_date: 2025-09-12 21:51:31 -0400
nebbiolo2Linux (Ubuntu 24.04.3 LTS) / x86_64  OK    OK    WARNINGS  UNNEEDED, same version is already published
lconwaymacOS 12.7.1 Monterey / x86_64  OK    OK    WARNINGS    OK  UNNEEDED, same version is already published
kjohnson3macOS 13.7.7 Ventura / arm64  OK    OK    WARNINGS    OK  UNNEEDED, same version is already published
taishanLinux (openEuler 24.03 LTS) / aarch64  OK    OK    ERROR  
Package 14/180HostnameOS / ArchINSTALLBUILDCHECKBUILD BIN
BSgenomeForge 1.9.2  (landing page)
Hervé Pagès
git_last_commit: 0dda210
git_last_commit_date: 2025-09-22 19:53:02 -0400
nebbiolo2Linux (Ubuntu 24.04.3 LTS) / x86_64  OK    OK    OK  UNNEEDED, same version is already published
lconwaymacOS 12.7.1 Monterey / x86_64  OK    OK    OK    OK  UNNEEDED, same version is already published
kjohnson3macOS 13.7.7 Ventura / arm64  OK    OK    OK    OK  UNNEEDED, same version is already published
taishanLinux (openEuler 24.03 LTS) / aarch64  OK    OK    OK  
Package 15/180HostnameOS / ArchINSTALLBUILDCHECKBUILD BIN
CAGEfightR 1.29.1  (landing page)
Malte Thodberg
git_last_commit: 6331b70
git_last_commit_date: 2025-06-21 20:25:57 -0400
nebbiolo2Linux (Ubuntu 24.04.3 LTS) / x86_64  OK    OK    OK  UNNEEDED, same version is already published
lconwaymacOS 12.7.1 Monterey / x86_64  OK    OK    OK    OK  UNNEEDED, same version is already published
kjohnson3macOS 13.7.7 Ventura / arm64  OK    OK    OK    OK  UNNEEDED, same version is already published
taishanLinux (openEuler 24.03 LTS) / aarch64  OK    OK    OK  
Package 16/180HostnameOS / ArchINSTALLBUILDCHECKBUILD BIN
CAGEr 2.15.1  (landing page)
Charles Plessy
git_last_commit: b05b175
git_last_commit_date: 2025-06-22 03:10:05 -0400
nebbiolo2Linux (Ubuntu 24.04.3 LTS) / x86_64  OK    OK    OK  UNNEEDED, same version is already published
lconwaymacOS 12.7.1 Monterey / x86_64  OK    OK    OK    OK  UNNEEDED, same version is already published
kjohnson3macOS 13.7.7 Ventura / arm64  OK    OK    OK    OK  UNNEEDED, same version is already published
taishanLinux (openEuler 24.03 LTS) / aarch64  OK    OK    ERROR  
Package 17/180HostnameOS / ArchINSTALLBUILDCHECKBUILD BIN
casper 2.43.1  (landing page)
David Rossell
git_last_commit: 84dd615
git_last_commit_date: 2025-07-22 22:18:02 -0400
nebbiolo2Linux (Ubuntu 24.04.3 LTS) / x86_64  OK    OK    WARNINGS  UNNEEDED, same version is already published
lconwaymacOS 12.7.1 Monterey / x86_64  OK    ERROR  skippedskipped
kjohnson3macOS 13.7.7 Ventura / arm64  OK    ERROR  skippedskipped
taishanLinux (openEuler 24.03 LTS) / aarch64  OK    OK    WARNINGS  
Package 18/180HostnameOS / ArchINSTALLBUILDCHECKBUILD BIN
CexoR 1.47.1  (landing page)
Pedro Madrigal
git_last_commit: a1cdc3b
git_last_commit_date: 2025-07-22 18:51:24 -0400
nebbiolo2Linux (Ubuntu 24.04.3 LTS) / x86_64  OK    OK    OK  UNNEEDED, same version is already published
lconwaymacOS 12.7.1 Monterey / x86_64  OK    OK    OK    OK  UNNEEDED, same version is already published
kjohnson3macOS 13.7.7 Ventura / arm64  OK    OK    OK    OK  UNNEEDED, same version is already published
taishanLinux (openEuler 24.03 LTS) / aarch64  OK    OK    OK  
Package 19/180HostnameOS / ArchINSTALLBUILDCHECKBUILD BIN
ChIPanalyser 1.31.0  (landing page)
Patrick C.N. Martin
git_last_commit: 27504b9
git_last_commit_date: 2025-09-03 14:37:38 -0400
nebbiolo2Linux (Ubuntu 24.04.3 LTS) / x86_64  OK    OK    OK  UNNEEDED, same version is already published
lconwaymacOS 12.7.1 Monterey / x86_64  OK    OK    OK    OK  UNNEEDED, same version is already published
kjohnson3macOS 13.7.7 Ventura / arm64  OK    OK    OK    OK  UNNEEDED, same version is already published
taishanLinux (openEuler 24.03 LTS) / aarch64  OK    OK    OK  
Package 20/180HostnameOS / ArchINSTALLBUILDCHECKBUILD BIN
ChIPComp 1.39.1  (landing page)
Li Chen
git_last_commit: 0538414
git_last_commit_date: 2025-07-22 18:52:43 -0400
nebbiolo2Linux (Ubuntu 24.04.3 LTS) / x86_64  OK    OK    OK  UNNEEDED, same version is already published
lconwaymacOS 12.7.1 Monterey / x86_64  OK    OK    OK    OK  UNNEEDED, same version is already published
kjohnson3macOS 13.7.7 Ventura / arm64  OK    OK    OK    OK  UNNEEDED, same version is already published
taishanLinux (openEuler 24.03 LTS) / aarch64  OK    OK    OK  
Package 21/180HostnameOS / ArchINSTALLBUILDCHECKBUILD BIN
chipenrich 2.33.1  (landing page)
Kai Wang
git_last_commit: e78665b
git_last_commit_date: 2025-07-22 22:23:22 -0400
nebbiolo2Linux (Ubuntu 24.04.3 LTS) / x86_64  OK    OK    OK  UNNEEDED, same version is already published
lconwaymacOS 12.7.1 Monterey / x86_64  OK    OK    OK    OK  UNNEEDED, same version is already published
kjohnson3macOS 13.7.7 Ventura / arm64  OK    OK    OK    OK  UNNEEDED, same version is already published
taishanLinux (openEuler 24.03 LTS) / aarch64  OK    OK    OK  
Package 22/180HostnameOS / ArchINSTALLBUILDCHECKBUILD BIN
ChIPpeakAnno 3.43.1  (landing page)
Jianhong Ou
git_last_commit: b1cad5f
git_last_commit_date: 2025-07-11 09:55:39 -0400
nebbiolo2Linux (Ubuntu 24.04.3 LTS) / x86_64  OK    OK    OK  UNNEEDED, same version is already published
lconwaymacOS 12.7.1 Monterey / x86_64  OK    OK    OK    OK  UNNEEDED, same version is already published
kjohnson3macOS 13.7.7 Ventura / arm64  OK    OK    OK    OK  UNNEEDED, same version is already published
taishanLinux (openEuler 24.03 LTS) / aarch64  OK    OK    OK  
Package 23/180HostnameOS / ArchINSTALLBUILDCHECKBUILD BIN
ChIPseeker 1.45.0  (landing page)
Guangchuang Yu
git_last_commit: 3fa2bfb
git_last_commit_date: 2025-04-15 10:31:07 -0400
nebbiolo2Linux (Ubuntu 24.04.3 LTS) / x86_64  OK    OK    OK  UNNEEDED, same version is already published
lconwaymacOS 12.7.1 Monterey / x86_64  OK    OK    OK    OK  UNNEEDED, same version is already published
kjohnson3macOS 13.7.7 Ventura / arm64  OK    OK    OK    OK  UNNEEDED, same version is already published
taishanLinux (openEuler 24.03 LTS) / aarch64  OK    OK    OK  
Package 24/180HostnameOS / ArchINSTALLBUILDCHECKBUILD BIN
ChromHeatMap 1.63.0  (landing page)
Tim F. Rayner
git_last_commit: ec39bbd
git_last_commit_date: 2025-04-15 09:46:06 -0400
nebbiolo2Linux (Ubuntu 24.04.3 LTS) / x86_64  OK    OK    OK  UNNEEDED, same version is already published
lconwaymacOS 12.7.1 Monterey / x86_64  OK    OK    OK    OK  UNNEEDED, same version is already published
kjohnson3macOS 13.7.7 Ventura / arm64  OK    OK    OK    OK  UNNEEDED, same version is already published
taishanLinux (openEuler 24.03 LTS) / aarch64  OK    OK    OK  
Package 25/180HostnameOS / ArchINSTALLBUILDCHECKBUILD BIN
ChromSCape 1.19.1  (landing page)
Pacome Prompsy
git_last_commit: a4985c2
git_last_commit_date: 2025-08-01 10:39:23 -0400
nebbiolo2Linux (Ubuntu 24.04.3 LTS) / x86_64  OK    OK    WARNINGS  UNNEEDED, same version is already published
lconwaymacOS 12.7.1 Monterey / x86_64  OK    OK    WARNINGS    OK  UNNEEDED, same version is already published
kjohnson3macOS 13.7.7 Ventura / arm64  OK    OK    WARNINGS    OK  UNNEEDED, same version is already published
taishanLinux (openEuler 24.03 LTS) / aarch64  OK    OK    WARNINGS  
Package 26/180HostnameOS / ArchINSTALLBUILDCHECKBUILD BIN
circRNAprofiler 1.23.1  (landing page)
Simona Aufiero
git_last_commit: 0e1b534
git_last_commit_date: 2025-05-06 12:30:34 -0400
nebbiolo2Linux (Ubuntu 24.04.3 LTS) / x86_64  OK    OK    ERROR  
lconwaymacOS 12.7.1 Monterey / x86_64  OK    OK    OK    OK  UNNEEDED, same version is already published
kjohnson3macOS 13.7.7 Ventura / arm64  OK    OK    OK    OK  UNNEEDED, same version is already published
taishanLinux (openEuler 24.03 LTS) / aarch64  OK    OK    ERROR  
Package 27/180HostnameOS / ArchINSTALLBUILDCHECKBUILD BIN
cliProfiler 1.15.0  (landing page)
You Zhou
git_last_commit: 7e1f37b
git_last_commit_date: 2025-04-15 12:40:26 -0400
nebbiolo2Linux (Ubuntu 24.04.3 LTS) / x86_64  OK    OK    OK  UNNEEDED, same version is already published
lconwaymacOS 12.7.1 Monterey / x86_64  OK    OK    OK    OK  UNNEEDED, same version is already published
kjohnson3macOS 13.7.7 Ventura / arm64  OK    OK    OK    OK  UNNEEDED, same version is already published
taishanLinux (openEuler 24.03 LTS) / aarch64  OK    ERROR  skipped
Package 28/180HostnameOS / ArchINSTALLBUILDCHECKBUILD BIN
CNEr 1.45.2  (landing page)
Boris Lenhard Damir Baranasic
git_last_commit: a1ee436
git_last_commit_date: 2025-08-05 09:16:50 -0400
nebbiolo2Linux (Ubuntu 24.04.3 LTS) / x86_64  OK    OK    WARNINGS  UNNEEDED, same version is already published
lconwaymacOS 12.7.1 Monterey / x86_64  OK    OK    WARNINGS    OK  UNNEEDED, same version is already published
kjohnson3macOS 13.7.7 Ventura / arm64  OK    OK    ERROR    OK  
taishanLinux (openEuler 24.03 LTS) / aarch64  OK    OK    WARNINGS  
Package 29/180HostnameOS / ArchINSTALLBUILDCHECKBUILD BIN
consensusSeekeR 1.37.1  (landing page)
Astrid Deschênes
git_last_commit: 56b21cf
git_last_commit_date: 2025-07-24 19:13:25 -0400
nebbiolo2Linux (Ubuntu 24.04.3 LTS) / x86_64  OK    OK    OK  UNNEEDED, same version is already published
lconwaymacOS 12.7.1 Monterey / x86_64  OK    OK    OK    OK  UNNEEDED, same version is already published
kjohnson3macOS 13.7.7 Ventura / arm64  OK    OK    OK    OK  UNNEEDED, same version is already published
taishanLinux (openEuler 24.03 LTS) / aarch64  OK    OK    OK  
Package 30/180HostnameOS / ArchINSTALLBUILDCHECKBUILD BIN
conumee 1.43.1  (landing page)
Volker Hovestadt
git_last_commit: a54093b
git_last_commit_date: 2025-07-24 19:14:19 -0400
nebbiolo2Linux (Ubuntu 24.04.3 LTS) / x86_64  OK    OK    OK  UNNEEDED, same version is already published
lconwaymacOS 12.7.1 Monterey / x86_64  OK    OK    OK    OK  UNNEEDED, same version is already published
kjohnson3macOS 13.7.7 Ventura / arm64  OK    OK    OK    OK  UNNEEDED, same version is already published
taishanLinux (openEuler 24.03 LTS) / aarch64  OK    OK    OK  
Package 31/180HostnameOS / ArchINSTALLBUILDCHECKBUILD BIN
CoverageView 1.47.0  (landing page)
Ernesto Lowy
git_last_commit: d613dda
git_last_commit_date: 2025-04-15 10:30:35 -0400
nebbiolo2Linux (Ubuntu 24.04.3 LTS) / x86_64  OK    OK    WARNINGS  UNNEEDED, same version is already published
lconwaymacOS 12.7.1 Monterey / x86_64  OK    OK    WARNINGS    OK  UNNEEDED, same version is already published
kjohnson3macOS 13.7.7 Ventura / arm64  OK    OK    WARNINGS    OK  UNNEEDED, same version is already published
taishanLinux (openEuler 24.03 LTS) / aarch64  OK    OK    WARNINGS  
Package 32/180HostnameOS / ArchINSTALLBUILDCHECKBUILD BIN
crisprDesign 1.11.1  (landing page)
Jean-Philippe Fortin
git_last_commit: eb7b7de
git_last_commit_date: 2025-07-17 20:07:40 -0400
nebbiolo2Linux (Ubuntu 24.04.3 LTS) / x86_64  OK    OK    OK  UNNEEDED, same version is already published
lconwaymacOS 12.7.1 Monterey / x86_64  OK    OK    OK    OK  UNNEEDED, same version is already published
kjohnson3macOS 13.7.7 Ventura / arm64  OK    OK    OK    OK  UNNEEDED, same version is already published
taishanLinux (openEuler 24.03 LTS) / aarch64  OK    OK    ERROR  
Package 33/180HostnameOS / ArchINSTALLBUILDCHECKBUILD BIN
crupR 1.1.1  (landing page)
Persia Akbari Omgba
git_last_commit: 0586528
git_last_commit_date: 2025-07-31 14:46:59 -0400
nebbiolo2Linux (Ubuntu 24.04.3 LTS) / x86_64  OK    OK    OK  UNNEEDED, same version is already published
lconwaymacOS 12.7.1 Monterey / x86_64  OK    OK    OK    OK  UNNEEDED, same version is already published
kjohnson3macOS 13.7.7 Ventura / arm64  OK    OK    OK    OK  UNNEEDED, same version is already published
taishanLinux (openEuler 24.03 LTS) / aarch64  OK    OK    OK  
Package 34/180HostnameOS / ArchINSTALLBUILDCHECKBUILD BIN
CSSQ 1.21.0  (landing page)
Fan Lab at Georgia Institute of Technology
git_last_commit: 2b891b4
git_last_commit_date: 2025-04-15 11:53:04 -0400
nebbiolo2Linux (Ubuntu 24.04.3 LTS) / x86_64  OK    OK    OK  UNNEEDED, same version is already published
lconwaymacOS 12.7.1 Monterey / x86_64  OK    OK    OK    OK  UNNEEDED, same version is already published
kjohnson3macOS 13.7.7 Ventura / arm64  OK    OK    OK    OK  UNNEEDED, same version is already published
taishanLinux (openEuler 24.03 LTS) / aarch64  OK    OK    OK  
Package 35/180HostnameOS / ArchINSTALLBUILDCHECKBUILD BIN
cummeRbund 2.51.0  (landing page)
Loyal A. Goff
git_last_commit: b8ee61a
git_last_commit_date: 2025-04-15 10:10:47 -0400
nebbiolo2Linux (Ubuntu 24.04.3 LTS) / x86_64  OK    ERROR  skipped
lconwaymacOS 12.7.1 Monterey / x86_64  OK    ERROR  skippedskipped
kjohnson3macOS 13.7.7 Ventura / arm64  OK    ERROR  skippedskipped
taishanLinux (openEuler 24.03 LTS) / aarch64  OK    ERROR  skipped
Package 36/180HostnameOS / ArchINSTALLBUILDCHECKBUILD BIN
customProDB 1.49.0  (landing page)
Xiaojing Wang
git_last_commit: 2d2db50
git_last_commit_date: 2025-04-15 10:24:39 -0400
nebbiolo2Linux (Ubuntu 24.04.3 LTS) / x86_64  OK    OK    ERROR  
lconwaymacOS 12.7.1 Monterey / x86_64  OK    OK    ERROR    OK  
kjohnson3macOS 13.7.7 Ventura / arm64  OK    OK    ERROR    OK  
taishanLinux (openEuler 24.03 LTS) / aarch64  OK    OK    ERROR  
Package 37/180HostnameOS / ArchINSTALLBUILDCHECKBUILD BIN
derfinder 1.43.1  (landing page)
Leonardo Collado-Torres
git_last_commit: 6a63646
git_last_commit_date: 2025-07-25 18:41:35 -0400
nebbiolo2Linux (Ubuntu 24.04.3 LTS) / x86_64  OK    OK    OK  UNNEEDED, same version is already published
lconwaymacOS 12.7.1 Monterey / x86_64  OK    OK    OK    OK  UNNEEDED, same version is already published
kjohnson3macOS 13.7.7 Ventura / arm64  OK    OK    OK    OK  UNNEEDED, same version is already published
taishanLinux (openEuler 24.03 LTS) / aarch64  OK    OK    OK  
Package 38/180HostnameOS / ArchINSTALLBUILDCHECKBUILD BIN
DEScan2 1.29.2  (landing page)
Dario Righelli
git_last_commit: 5cf995e
git_last_commit_date: 2025-07-31 17:55:50 -0400
nebbiolo2Linux (Ubuntu 24.04.3 LTS) / x86_64  OK    OK    OK  UNNEEDED, same version is already published
lconwaymacOS 12.7.1 Monterey / x86_64  OK    OK    OK    OK  UNNEEDED, same version is already published
kjohnson3macOS 13.7.7 Ventura / arm64  OK    OK    OK    OK  UNNEEDED, same version is already published
taishanLinux (openEuler 24.03 LTS) / aarch64  OK    OK    OK  
Package 39/180HostnameOS / ArchINSTALLBUILDCHECKBUILD BIN
diffHic 1.41.0  (landing page)
Aaron Lun , Gordon Smyth , Hannah Coughlin
git_last_commit: 4516407
git_last_commit_date: 2025-04-15 10:50:41 -0400
nebbiolo2Linux (Ubuntu 24.04.3 LTS) / x86_64  OK    OK    OK  UNNEEDED, same version is already published
lconwaymacOS 12.7.1 Monterey / x86_64  OK    OK    OK    OK  UNNEEDED, same version is already published
kjohnson3macOS 13.7.7 Ventura / arm64  OK    OK    OK    OK  UNNEEDED, same version is already published
taishanLinux (openEuler 24.03 LTS) / aarch64  OK    OK    OK  
Package 40/180HostnameOS / ArchINSTALLBUILDCHECKBUILD BIN
diffUTR 1.17.0  (landing page)
Pierre-Luc Germain
git_last_commit: 6ce8365
git_last_commit_date: 2025-04-15 12:30:16 -0400
nebbiolo2Linux (Ubuntu 24.04.3 LTS) / x86_64  OK    OK    OK  UNNEEDED, same version is already published
lconwaymacOS 12.7.1 Monterey / x86_64  OK    OK    OK    OK  UNNEEDED, same version is already published
kjohnson3macOS 13.7.7 Ventura / arm64  OK    OK    OK    OK  UNNEEDED, same version is already published
taishanLinux (openEuler 24.03 LTS) / aarch64  OK    OK    OK  
Package 41/180HostnameOS / ArchINSTALLBUILDCHECKBUILD BIN
DMCFB 1.23.0  (landing page)
Farhad Shokoohi
git_last_commit: 733aae6
git_last_commit_date: 2025-04-15 11:51:00 -0400
nebbiolo2Linux (Ubuntu 24.04.3 LTS) / x86_64  OK    OK    OK  UNNEEDED, same version is already published
lconwaymacOS 12.7.1 Monterey / x86_64  OK    OK    OK    OK  UNNEEDED, same version is already published
kjohnson3macOS 13.7.7 Ventura / arm64  OK    OK    OK    OK  UNNEEDED, same version is already published
taishanLinux (openEuler 24.03 LTS) / aarch64  OK    OK    OK  
Package 42/180HostnameOS / ArchINSTALLBUILDCHECKBUILD BIN
DMCHMM 1.31.0  (landing page)
Farhad Shokoohi
git_last_commit: 0b5ee5c
git_last_commit_date: 2025-04-15 11:13:46 -0400
nebbiolo2Linux (Ubuntu 24.04.3 LTS) / x86_64  OK    OK    OK  UNNEEDED, same version is already published
lconwaymacOS 12.7.1 Monterey / x86_64  OK    OK    OK    OK  UNNEEDED, same version is already published
kjohnson3macOS 13.7.7 Ventura / arm64  OK    OK    OK    OK  UNNEEDED, same version is already published
taishanLinux (openEuler 24.03 LTS) / aarch64  OK    OK    OK  
Package 43/180HostnameOS / ArchINSTALLBUILDCHECKBUILD BIN
dmrseq 1.29.2  (landing page)
Keegan Korthauer
git_last_commit: d13ca0a
git_last_commit_date: 2025-07-22 22:49:52 -0400
nebbiolo2Linux (Ubuntu 24.04.3 LTS) / x86_64  OK    OK    OK  UNNEEDED, same version is already published
lconwaymacOS 12.7.1 Monterey / x86_64  OK    OK    OK    OK  UNNEEDED, same version is already published
kjohnson3macOS 13.7.7 Ventura / arm64  OK    OK    OK    OK  UNNEEDED, same version is already published
taishanLinux (openEuler 24.03 LTS) / aarch64  OK    OK    OK  
Package 44/180HostnameOS / ArchINSTALLBUILDCHECKBUILD BIN
DuplexDiscovereR 1.3.4  (landing page)
Egor Semenchenko
git_last_commit: 7e5c418
git_last_commit_date: 2025-10-06 09:18:34 -0400
nebbiolo2Linux (Ubuntu 24.04.3 LTS) / x86_64  OK    OK    OK  YES
lconwaymacOS 12.7.1 Monterey / x86_64  OK    OK    OK    OK  YES
kjohnson3macOS 13.7.7 Ventura / arm64  OK    OK    OK    OK  YES
taishanLinux (openEuler 24.03 LTS) / aarch64  OK    OK    OK  
Package 45/180HostnameOS / ArchINSTALLBUILDCHECKBUILD BIN
easylift 1.7.0  (landing page)
Abdullah Al Nahid
git_last_commit: c67c566
git_last_commit_date: 2025-04-15 13:20:46 -0400
nebbiolo2Linux (Ubuntu 24.04.3 LTS) / x86_64  OK    OK    OK  UNNEEDED, same version is already published
lconwaymacOS 12.7.1 Monterey / x86_64  OK    OK    OK    OK  UNNEEDED, same version is already published
kjohnson3macOS 13.7.7 Ventura / arm64  OK    OK    OK    OK  UNNEEDED, same version is already published
taishanLinux (openEuler 24.03 LTS) / aarch64  OK    OK    OK  
Package 46/180HostnameOS / ArchINSTALLBUILDCHECKBUILD BIN
ELMER 2.33.1  (landing page)
Tiago Chedraoui Silva
git_last_commit: fa33cdb
git_last_commit_date: 2025-07-22 19:32:00 -0400
nebbiolo2Linux (Ubuntu 24.04.3 LTS) / x86_64  OK    OK    OK  UNNEEDED, same version is already published
lconwaymacOS 12.7.1 Monterey / x86_64  OK    OK    OK    OK  UNNEEDED, same version is already published
kjohnson3macOS 13.7.7 Ventura / arm64  OK    OK    OK    OK  UNNEEDED, same version is already published
taishanLinux (openEuler 24.03 LTS) / aarch64  OK    OK    OK  
Package 47/180HostnameOS / ArchINSTALLBUILDCHECKBUILD BIN
enhancerHomologSearch 1.15.1  (landing page)
Jianhong Ou
git_last_commit: f17f717
git_last_commit_date: 2025-05-19 16:10:19 -0400
nebbiolo2Linux (Ubuntu 24.04.3 LTS) / x86_64  OK    OK    OK  UNNEEDED, same version is already published
lconwaymacOS 12.7.1 Monterey / x86_64  OK    OK    OK    OK  UNNEEDED, same version is already published
kjohnson3macOS 13.7.7 Ventura / arm64  OK    OK    OK    OK  UNNEEDED, same version is already published
taishanLinux (openEuler 24.03 LTS) / aarch64  OK    ERROR  skipped
Package 48/180HostnameOS / ArchINSTALLBUILDCHECKBUILD BIN
ensembldb 2.33.2  (landing page)
Johannes Rainer
git_last_commit: f5079f3
git_last_commit_date: 2025-08-18 07:37:08 -0400
nebbiolo2Linux (Ubuntu 24.04.3 LTS) / x86_64  OK    OK    OK  UNNEEDED, same version is already published
lconwaymacOS 12.7.1 Monterey / x86_64  OK    OK    OK    OK  UNNEEDED, same version is already published
kjohnson3macOS 13.7.7 Ventura / arm64  OK    OK    OK    OK  UNNEEDED, same version is already published
taishanLinux (openEuler 24.03 LTS) / aarch64  OK    OK    OK  
Package 49/180HostnameOS / ArchINSTALLBUILDCHECKBUILD BIN
EpiCompare 1.13.2  (landing page)
Hiranyamaya Dash
git_last_commit: 242aa67
git_last_commit_date: 2025-09-23 11:34:19 -0400
nebbiolo2Linux (Ubuntu 24.04.3 LTS) / x86_64  OK    OK    OK  UNNEEDED, same version is already published
lconwaymacOS 12.7.1 Monterey / x86_64  OK    OK    OK    OK  UNNEEDED, same version is already published
kjohnson3macOS 13.7.7 Ventura / arm64  OK    OK    OK    OK  UNNEEDED, same version is already published
taishanLinux (openEuler 24.03 LTS) / aarch64  OK    OK    ERROR  
Package 50/180HostnameOS / ArchINSTALLBUILDCHECKBUILD BIN
epidecodeR 1.17.0  (landing page)
Kandarp Joshi
git_last_commit: 30001ed
git_last_commit_date: 2025-04-15 12:25:32 -0400
nebbiolo2Linux (Ubuntu 24.04.3 LTS) / x86_64  OK    OK    OK  UNNEEDED, same version is already published
lconwaymacOS 12.7.1 Monterey / x86_64  OK    OK    OK    OK  UNNEEDED, same version is already published
kjohnson3macOS 13.7.7 Ventura / arm64  OK    OK    OK    OK  UNNEEDED, same version is already published
taishanLinux (openEuler 24.03 LTS) / aarch64  OK    OK    OK  
Package 51/180HostnameOS / ArchINSTALLBUILDCHECKBUILD BIN
epigraHMM 1.17.3  (landing page)
Pedro Baldoni
git_last_commit: 4d03bb7
git_last_commit_date: 2025-09-15 17:35:46 -0400
nebbiolo2Linux (Ubuntu 24.04.3 LTS) / x86_64  OK    OK    WARNINGS  UNNEEDED, same version is already published
lconwaymacOS 12.7.1 Monterey / x86_64  OK    OK    WARNINGS    OK  UNNEEDED, same version is already published
kjohnson3macOS 13.7.7 Ventura / arm64  OK    OK    WARNINGS    OK  UNNEEDED, same version is already published
taishanLinux (openEuler 24.03 LTS) / aarch64  OK    ERROR  skipped
Package 52/180HostnameOS / ArchINSTALLBUILDCHECKBUILD BIN
epimutacions 1.13.0  (landing page)
Dolors Pelegri-Siso
git_last_commit: fa459c5
git_last_commit_date: 2025-04-15 12:49:38 -0400
nebbiolo2Linux (Ubuntu 24.04.3 LTS) / x86_64  OK    OK    OK  UNNEEDED, same version is already published
lconwaymacOS 12.7.1 Monterey / x86_64  OK    OK    OK    OK  UNNEEDED, same version is already published
kjohnson3macOS 13.7.7 Ventura / arm64  OK    OK    OK    OK  UNNEEDED, same version is already published
taishanLinux (openEuler 24.03 LTS) / aarch64  OK    OK    OK  
Package 53/180HostnameOS / ArchINSTALLBUILDCHECKBUILD BIN
esATAC 1.31.1  (landing page)
Zheng Wei
git_last_commit: 999ba9f
git_last_commit_date: 2025-07-23 01:35:39 -0400
nebbiolo2Linux (Ubuntu 24.04.3 LTS) / x86_64  OK    OK    OK  UNNEEDED, same version is already published
lconwaymacOS 12.7.1 Monterey / x86_64  OK    OK    OK    OK  UNNEEDED, same version is already published
kjohnson3macOS 13.7.7 Ventura / arm64  OK    OK    OK    OK  UNNEEDED, same version is already published
taishanLinux (openEuler 24.03 LTS) / aarch64  OK    OK    OK  
Package 54/180HostnameOS / ArchINSTALLBUILDCHECKBUILD BIN
ExCluster 1.27.0  (landing page)
R. Matthew Tanner
git_last_commit: 869c105
git_last_commit_date: 2025-04-15 11:37:30 -0400
nebbiolo2Linux (Ubuntu 24.04.3 LTS) / x86_64  OK    OK    OK  UNNEEDED, same version is already published
lconwaymacOS 12.7.1 Monterey / x86_64  OK    OK    OK    OK  UNNEEDED, same version is already published
kjohnson3macOS 13.7.7 Ventura / arm64  OK    OK    OK    OK  UNNEEDED, same version is already published
taishanLinux (openEuler 24.03 LTS) / aarch64  OK    OK    OK  
Package 55/180HostnameOS / ArchINSTALLBUILDCHECKBUILD BIN
extraChIPs 1.13.2  (landing page)
Stevie Pederson
git_last_commit: 4a122fd
git_last_commit_date: 2025-06-29 21:08:26 -0400
nebbiolo2Linux (Ubuntu 24.04.3 LTS) / x86_64  OK    ERROR  skipped
lconwaymacOS 12.7.1 Monterey / x86_64  OK    ERROR  skippedskipped
kjohnson3macOS 13.7.7 Ventura / arm64  OK    ERROR  skippedskipped
taishanLinux (openEuler 24.03 LTS) / aarch64  OK    ERROR  skipped
Package 56/180HostnameOS / ArchINSTALLBUILDCHECKBUILD BIN
factR 1.11.0  (landing page)
Fursham Hamid
git_last_commit: f039609
git_last_commit_date: 2025-04-15 12:53:05 -0400
nebbiolo2Linux (Ubuntu 24.04.3 LTS) / x86_64  OK    OK    OK  UNNEEDED, same version is already published
lconwaymacOS 12.7.1 Monterey / x86_64  OK    OK    OK    OK  UNNEEDED, same version is already published
kjohnson3macOS 13.7.7 Ventura / arm64  OK    OK    OK    OK  UNNEEDED, same version is already published
taishanLinux (openEuler 24.03 LTS) / aarch64  OK    ERROR  skipped
Package 57/180HostnameOS / ArchINSTALLBUILDCHECKBUILD BIN
fcScan 1.23.0  (landing page)
Pierre Khoueiry Abdullah El-Kurdi
git_last_commit: bdd0440
git_last_commit_date: 2025-04-15 11:48:51 -0400
nebbiolo2Linux (Ubuntu 24.04.3 LTS) / x86_64  OK    OK    OK  UNNEEDED, same version is already published
lconwaymacOS 12.7.1 Monterey / x86_64  OK    OK    OK    OK  UNNEEDED, same version is already published
kjohnson3macOS 13.7.7 Ventura / arm64  OK    OK    OK    OK  UNNEEDED, same version is already published
taishanLinux (openEuler 24.03 LTS) / aarch64  OK    OK    OK  
Package 58/180HostnameOS / ArchINSTALLBUILDCHECKBUILD BIN
FindIT2 1.15.1  (landing page)
Guandong Shang
git_last_commit: 82d0b10
git_last_commit_date: 2025-07-22 19:49:08 -0400
nebbiolo2Linux (Ubuntu 24.04.3 LTS) / x86_64  OK    OK    OK  UNNEEDED, same version is already published
lconwaymacOS 12.7.1 Monterey / x86_64  OK    OK    OK    OK  UNNEEDED, same version is already published
kjohnson3macOS 13.7.7 Ventura / arm64  OK    OK    OK    OK  UNNEEDED, same version is already published
taishanLinux (openEuler 24.03 LTS) / aarch64  OK    OK    OK  
Package 59/180HostnameOS / ArchINSTALLBUILDCHECKBUILD BIN
FLAMES 2.3.5  (landing page)
Changqing Wang
git_last_commit: 5771592
git_last_commit_date: 2025-09-12 02:43:50 -0400
nebbiolo2Linux (Ubuntu 24.04.3 LTS) / x86_64  OK    OK    OK  UNNEEDED, same version is already published
lconwaymacOS 12.7.1 Monterey / x86_64  OK    OK    OK    OK  UNNEEDED, same version is already published
kjohnson3macOS 13.7.7 Ventura / arm64  OK    OK    OK    OK  UNNEEDED, same version is already published
taishanLinux (openEuler 24.03 LTS) / aarch64  ERROR    ERROR  skipped
Package 60/180HostnameOS / ArchINSTALLBUILDCHECKBUILD BIN
geneAttribution 1.35.1  (landing page)
Arthur Wuster
git_last_commit: b3fd827
git_last_commit_date: 2025-07-24 19:23:18 -0400
nebbiolo2Linux (Ubuntu 24.04.3 LTS) / x86_64  OK    OK    OK  UNNEEDED, same version is already published
lconwaymacOS 12.7.1 Monterey / x86_64  OK    OK    OK    OK  UNNEEDED, same version is already published
kjohnson3macOS 13.7.7 Ventura / arm64  OK    OK    OK    OK  UNNEEDED, same version is already published
taishanLinux (openEuler 24.03 LTS) / aarch64  OK    OK    OK  
Package 61/180HostnameOS / ArchINSTALLBUILDCHECKBUILD BIN
GeneStructureTools 1.29.0  (landing page)
Beth Signal
git_last_commit: 6d9702f
git_last_commit_date: 2025-04-15 11:19:16 -0400
nebbiolo2Linux (Ubuntu 24.04.3 LTS) / x86_64  OK    OK    OK  UNNEEDED, same version is already published
lconwaymacOS 12.7.1 Monterey / x86_64  OK    OK    OK    OK  UNNEEDED, same version is already published
kjohnson3macOS 13.7.7 Ventura / arm64  OK    OK    OK    OK  UNNEEDED, same version is already published
taishanLinux (openEuler 24.03 LTS) / aarch64  ERROR    ERROR  skipped
Package 62/180HostnameOS / ArchINSTALLBUILDCHECKBUILD BIN
geneXtendeR 1.35.0  (landing page)
Bohdan Khomtchouk
git_last_commit: 7cf0afc
git_last_commit_date: 2025-04-15 11:05:48 -0400
nebbiolo2Linux (Ubuntu 24.04.3 LTS) / x86_64  OK    OK    WARNINGS  UNNEEDED, same version is already published
lconwaymacOS 12.7.1 Monterey / x86_64  OK    OK    WARNINGS    OK  UNNEEDED, same version is already published
kjohnson3macOS 13.7.7 Ventura / arm64  OK    OK    WARNINGS    OK  UNNEEDED, same version is already published
taishanLinux (openEuler 24.03 LTS) / aarch64  OK    OK    WARNINGS  
Package 63/180HostnameOS / ArchINSTALLBUILDCHECKBUILD BIN
genomation 1.41.1  (landing page)
Altuna Akalin , Vedran Franke
git_last_commit: 9230c44
git_last_commit_date: 2025-07-24 19:24:03 -0400
nebbiolo2Linux (Ubuntu 24.04.3 LTS) / x86_64  OK    OK    WARNINGS  UNNEEDED, same version is already published
lconwaymacOS 12.7.1 Monterey / x86_64  OK    OK    WARNINGS    OK  UNNEEDED, same version is already published
kjohnson3macOS 13.7.7 Ventura / arm64  OK    OK    WARNINGS    OK  UNNEEDED, same version is already published
taishanLinux (openEuler 24.03 LTS) / aarch64  OK    OK    WARNINGS  
Package 64/180HostnameOS / ArchINSTALLBUILDCHECKBUILD BIN
GenomicFeatures 1.61.6  (landing page)
H. Pagès
git_last_commit: d83c94b
git_last_commit_date: 2025-07-28 20:33:19 -0400
nebbiolo2Linux (Ubuntu 24.04.3 LTS) / x86_64  OK    OK    OK  UNNEEDED, same version is already published
lconwaymacOS 12.7.1 Monterey / x86_64  OK    OK    OK    OK  UNNEEDED, same version is already published
kjohnson3macOS 13.7.7 Ventura / arm64  OK    OK    OK    OK  UNNEEDED, same version is already published
taishanLinux (openEuler 24.03 LTS) / aarch64  OK    OK    OK  
Package 65/180HostnameOS / ArchINSTALLBUILDCHECKBUILD BIN
GenomicFiles 1.45.2  (landing page)
Bioconductor Package Maintainer
git_last_commit: 53f71f2
git_last_commit_date: 2025-07-21 11:45:02 -0400
nebbiolo2Linux (Ubuntu 24.04.3 LTS) / x86_64  OK    OK    OK  UNNEEDED, same version is already published
lconwaymacOS 12.7.1 Monterey / x86_64  OK    OK    OK    OK  UNNEEDED, same version is already published
kjohnson3macOS 13.7.7 Ventura / arm64  OK    OK    OK    OK  UNNEEDED, same version is already published
taishanLinux (openEuler 24.03 LTS) / aarch64  OK    OK    OK  
Package 66/180HostnameOS / ArchINSTALLBUILDCHECKBUILD BIN
GenomicInteractions 1.43.1  (landing page)
Liz Ing-Simmons
git_last_commit: 4500b8f
git_last_commit_date: 2025-07-22 20:08:33 -0400
nebbiolo2Linux (Ubuntu 24.04.3 LTS) / x86_64  OK    OK    OK  UNNEEDED, same version is already published
lconwaymacOS 12.7.1 Monterey / x86_64  OK    OK    OK    OK  UNNEEDED, same version is already published
kjohnson3macOS 13.7.7 Ventura / arm64  OK    OK    OK    OK  UNNEEDED, same version is already published
taishanLinux (openEuler 24.03 LTS) / aarch64  OK    OK    OK  
Package 67/180HostnameOS / ArchINSTALLBUILDCHECKBUILD BIN
GenomicPlot 1.7.2  (landing page)
Shuye Pu
git_last_commit: 036997a
git_last_commit_date: 2025-07-22 20:25:27 -0400
nebbiolo2Linux (Ubuntu 24.04.3 LTS) / x86_64  OK    OK    OK  UNNEEDED, same version is already published
lconwaymacOS 12.7.1 Monterey / x86_64  OK    OK    OK    OK  UNNEEDED, same version is already published
kjohnson3macOS 13.7.7 Ventura / arm64  OK    OK    OK    OK  UNNEEDED, same version is already published
taishanLinux (openEuler 24.03 LTS) / aarch64  OK    OK    OK  
Package 68/180HostnameOS / ArchINSTALLBUILDCHECKBUILD BIN
ggbio 1.57.1  (landing page)
Michael Lawrence
git_last_commit: 245af34
git_last_commit_date: 2025-09-30 06:27:31 -0400
nebbiolo2Linux (Ubuntu 24.04.3 LTS) / x86_64  OK    OK    WARNINGS  UNNEEDED, same version is already published
lconwaymacOS 12.7.1 Monterey / x86_64  OK    OK    WARNINGS    OK  UNNEEDED, same version is already published
kjohnson3macOS 13.7.7 Ventura / arm64  OK    OK    WARNINGS    OK  UNNEEDED, same version is already published
taishanLinux (openEuler 24.03 LTS) / aarch64  OK    OK    WARNINGS  
Package 69/180HostnameOS / ArchINSTALLBUILDCHECKBUILD BIN
gmapR 1.51.1  (landing page)
Michael Lawrence
git_last_commit: 29973df
git_last_commit_date: 2025-07-31 12:27:48 -0400
nebbiolo2Linux (Ubuntu 24.04.3 LTS) / x86_64  OK    OK    WARNINGS  UNNEEDED, same version is already published
lconwaymacOS 12.7.1 Monterey / x86_64  OK    OK    WARNINGS    OK  UNNEEDED, same version is already published
kjohnson3macOS 13.7.7 Ventura / arm64  ERROR    ERROR  skippedskipped
taishanLinux (openEuler 24.03 LTS) / aarch64  OK    OK    WARNINGS  
Package 70/180HostnameOS / ArchINSTALLBUILDCHECKBUILD BIN
gmoviz 1.21.1  (landing page)
Kathleen Zeglinski
git_last_commit: 83285b0
git_last_commit_date: 2025-07-23 01:52:58 -0400
nebbiolo2Linux (Ubuntu 24.04.3 LTS) / x86_64  OK    OK    OK  UNNEEDED, same version is already published
lconwaymacOS 12.7.1 Monterey / x86_64  OK    OK    OK    OK  UNNEEDED, same version is already published
kjohnson3macOS 13.7.7 Ventura / arm64  OK    OK    OK    OK  UNNEEDED, same version is already published
taishanLinux (openEuler 24.03 LTS) / aarch64  OK    OK    OK  
Package 71/180HostnameOS / ArchINSTALLBUILDCHECKBUILD BIN
goseq 1.61.1  (landing page)
Federico Marini
git_last_commit: 1266825
git_last_commit_date: 2025-07-23 01:48:53 -0400
nebbiolo2Linux (Ubuntu 24.04.3 LTS) / x86_64  OK    OK    OK  UNNEEDED, same version is already published
lconwaymacOS 12.7.1 Monterey / x86_64  OK    OK    OK    OK  UNNEEDED, same version is already published
kjohnson3macOS 13.7.7 Ventura / arm64  OK    OK    OK    OK  UNNEEDED, same version is already published
taishanLinux (openEuler 24.03 LTS) / aarch64  OK    OK    OK  
Package 72/180HostnameOS / ArchINSTALLBUILDCHECKBUILD BIN
GOTHiC 1.45.1  (landing page)
Borbala Mifsud
git_last_commit: 957985e
git_last_commit_date: 2025-07-22 20:01:31 -0400
nebbiolo2Linux (Ubuntu 24.04.3 LTS) / x86_64  OK    OK    OK  UNNEEDED, same version is already published
lconwaymacOS 12.7.1 Monterey / x86_64  OK    OK    OK    OK  UNNEEDED, same version is already published
kjohnson3macOS 13.7.7 Ventura / arm64  OK    OK    OK    OK  UNNEEDED, same version is already published
taishanLinux (openEuler 24.03 LTS) / aarch64  OK    OK    ERROR  
Package 73/180HostnameOS / ArchINSTALLBUILDCHECKBUILD BIN
GreyListChIP 1.41.1  (landing page)
Matt Eldridge
git_last_commit: 4edd86c
git_last_commit_date: 2025-07-22 20:30:44 -0400
nebbiolo2Linux (Ubuntu 24.04.3 LTS) / x86_64  OK    OK    OK  UNNEEDED, same version is already published
lconwaymacOS 12.7.1 Monterey / x86_64  OK    OK    OK    OK  UNNEEDED, same version is already published
kjohnson3macOS 13.7.7 Ventura / arm64  OK    OK    OK    OK  UNNEEDED, same version is already published
taishanLinux (openEuler 24.03 LTS) / aarch64  OK    OK    OK  
Package 74/180HostnameOS / ArchINSTALLBUILDCHECKBUILD BIN
groHMM 1.43.1  (landing page)
Tulip Nandu
git_last_commit: 29bb2bc
git_last_commit_date: 2025-07-24 19:25:12 -0400
nebbiolo2Linux (Ubuntu 24.04.3 LTS) / x86_64  OK    OK    WARNINGS  UNNEEDED, same version is already published
lconwaymacOS 12.7.1 Monterey / x86_64  OK    OK    WARNINGS    OK  UNNEEDED, same version is already published
kjohnson3macOS 13.7.7 Ventura / arm64  OK    OK    WARNINGS    OK  UNNEEDED, same version is already published
taishanLinux (openEuler 24.03 LTS) / aarch64  OK    OK    WARNINGS  
Package 75/180HostnameOS / ArchINSTALLBUILDCHECKBUILD BIN
Guitar 2.25.0  (landing page)
Jia Meng
git_last_commit: ca65b2b
git_last_commit_date: 2025-04-15 10:53:43 -0400
nebbiolo2Linux (Ubuntu 24.04.3 LTS) / x86_64  OK    OK    OK  UNNEEDED, same version is already published
lconwaymacOS 12.7.1 Monterey / x86_64  OK    OK    OK    OK  UNNEEDED, same version is already published
kjohnson3macOS 13.7.7 Ventura / arm64  OK    OK    OK    OK  UNNEEDED, same version is already published
taishanLinux (openEuler 24.03 LTS) / aarch64  OK    OK    OK  
Package 76/180HostnameOS / ArchINSTALLBUILDCHECKBUILD BIN
Gviz 1.53.1  (landing page)
Robert Ivanek
git_last_commit: 4e222f2
git_last_commit_date: 2025-06-20 19:26:59 -0400
nebbiolo2Linux (Ubuntu 24.04.3 LTS) / x86_64  OK    OK    OK  UNNEEDED, same version is already published
lconwaymacOS 12.7.1 Monterey / x86_64  OK    OK    OK    OK  UNNEEDED, same version is already published
kjohnson3macOS 13.7.7 Ventura / arm64  OK    OK    OK    OK  UNNEEDED, same version is already published
taishanLinux (openEuler 24.03 LTS) / aarch64  OK    OK    OK  
Package 77/180HostnameOS / ArchINSTALLBUILDCHECKBUILD BIN
HelloRanges 1.35.2  (landing page)
Michael Lawrence
git_last_commit: d061967
git_last_commit_date: 2025-07-31 12:17:42 -0400
nebbiolo2Linux (Ubuntu 24.04.3 LTS) / x86_64  OK    OK    OK  UNNEEDED, same version is already published
lconwaymacOS 12.7.1 Monterey / x86_64  OK    OK    OK    OK  UNNEEDED, same version is already published
kjohnson3macOS 13.7.7 Ventura / arm64  OK    OK    OK    OK  UNNEEDED, same version is already published
taishanLinux (openEuler 24.03 LTS) / aarch64  OK    OK    OK  
Package 78/180HostnameOS / ArchINSTALLBUILDCHECKBUILD BIN
hiAnnotator 1.43.1  (landing page)
Nirav V Malani
git_last_commit: e641ca1
git_last_commit_date: 2025-07-14 12:36:23 -0400
nebbiolo2Linux (Ubuntu 24.04.3 LTS) / x86_64  OK    ERROR  skipped
lconwaymacOS 12.7.1 Monterey / x86_64  OK    ERROR  skippedskipped
kjohnson3macOS 13.7.7 Ventura / arm64  OK    ERROR  skippedskipped
taishanLinux (openEuler 24.03 LTS) / aarch64  OK    ERROR  skipped
Package 79/180HostnameOS / ArchINSTALLBUILDCHECKBUILD BIN
HicAggR 1.5.1  (landing page)
Olivier Cuvier
git_last_commit: f3138ce
git_last_commit_date: 2025-07-26 20:33:32 -0400
nebbiolo2Linux (Ubuntu 24.04.3 LTS) / x86_64  OK    OK    WARNINGS  UNNEEDED, same version is already published
lconwaymacOS 12.7.1 Monterey / x86_64  OK    OK    WARNINGS    OK  UNNEEDED, same version is already published
kjohnson3macOS 13.7.7 Ventura / arm64  OK    OK    WARNINGS    OK  UNNEEDED, same version is already published
taishanLinux (openEuler 24.03 LTS) / aarch64  OK    OK    WARNINGS  
Package 80/180HostnameOS / ArchINSTALLBUILDCHECKBUILD BIN
HiCDCPlus 1.17.0  (landing page)
Merve Sahin
git_last_commit: 3954db1
git_last_commit_date: 2025-04-15 12:20:00 -0400
nebbiolo2Linux (Ubuntu 24.04.3 LTS) / x86_64  OK    OK    OK  UNNEEDED, same version is already published
lconwaymacOS 12.7.1 Monterey / x86_64  OK    OK    OK    OK  UNNEEDED, same version is already published
kjohnson3macOS 13.7.7 Ventura / arm64  OK    OK    OK    OK  UNNEEDED, same version is already published
taishanLinux (openEuler 24.03 LTS) / aarch64  OK    OK    ERROR  
Package 81/180HostnameOS / ArchINSTALLBUILDCHECKBUILD BIN
HiCPotts 0.99.6  (landing page)
Itunu. Godwin Osuntoki
git_last_commit: 76c995c
git_last_commit_date: 2025-08-11 12:36:14 -0400
nebbiolo2Linux (Ubuntu 24.04.3 LTS) / x86_64  OK    OK    OK  UNNEEDED, same version is already published
lconwaymacOS 12.7.1 Monterey / x86_64  OK    OK    OK    OK  UNNEEDED, same version is already published
kjohnson3macOS 13.7.7 Ventura / arm64  OK    OK    OK    OK  UNNEEDED, same version is already published
taishanLinux (openEuler 24.03 LTS) / aarch64  OK    OK    OK  
Package 82/180HostnameOS / ArchINSTALLBUILDCHECKBUILD BIN
hicVennDiagram 1.7.3  (landing page)
Jianhong Ou
git_last_commit: c7105bc
git_last_commit_date: 2025-09-22 13:36:58 -0400
nebbiolo2Linux (Ubuntu 24.04.3 LTS) / x86_64  OK    OK    OK  UNNEEDED, same version is already published
lconwaymacOS 12.7.1 Monterey / x86_64  OK    OK    OK    OK  UNNEEDED, same version is already published
kjohnson3macOS 13.7.7 Ventura / arm64  OK    OK    OK    OK  UNNEEDED, same version is already published
taishanLinux (openEuler 24.03 LTS) / aarch64  OK    OK    OK  
Package 83/180HostnameOS / ArchINSTALLBUILDCHECKBUILD BIN
HiTC 1.53.1  (landing page)
Nicolas Servant
git_last_commit: f78211f
git_last_commit_date: 2025-07-22 20:53:58 -0400
nebbiolo2Linux (Ubuntu 24.04.3 LTS) / x86_64  OK    OK    WARNINGS  UNNEEDED, same version is already published
lconwaymacOS 12.7.1 Monterey / x86_64  OK    OK    WARNINGS    OK  UNNEEDED, same version is already published
kjohnson3macOS 13.7.7 Ventura / arm64  OK    OK    WARNINGS    OK  UNNEEDED, same version is already published
taishanLinux (openEuler 24.03 LTS) / aarch64  OK    ERROR  skipped
Package 84/180HostnameOS / ArchINSTALLBUILDCHECKBUILD BIN
icetea 1.27.1  (landing page)
Vivek Bhardwaj
git_last_commit: 94f284e
git_last_commit_date: 2025-07-23 19:14:12 -0400
nebbiolo2Linux (Ubuntu 24.04.3 LTS) / x86_64  OK    OK    WARNINGS  UNNEEDED, same version is already published
lconwaymacOS 12.7.1 Monterey / x86_64  OK    OK    WARNINGS    OK  UNNEEDED, same version is already published
kjohnson3macOS 13.7.7 Ventura / arm64  OK    OK    WARNINGS    OK  UNNEEDED, same version is already published
taishanLinux (openEuler 24.03 LTS) / aarch64  OK    OK    WARNINGS  
Package 85/180HostnameOS / ArchINSTALLBUILDCHECKBUILD BIN
IdeoViz 1.45.0  (landing page)
Shraddha Pai
git_last_commit: 54c2c2b
git_last_commit_date: 2025-04-15 10:34:53 -0400
nebbiolo2Linux (Ubuntu 24.04.3 LTS) / x86_64  OK    OK    WARNINGS  UNNEEDED, same version is already published
lconwaymacOS 12.7.1 Monterey / x86_64  OK    OK    WARNINGS    OK  UNNEEDED, same version is already published
kjohnson3macOS 13.7.7 Ventura / arm64  OK    OK    WARNINGS    OK  UNNEEDED, same version is already published
taishanLinux (openEuler 24.03 LTS) / aarch64  OK    OK    WARNINGS  
Package 86/180HostnameOS / ArchINSTALLBUILDCHECKBUILD BIN
igvR 1.29.0  (landing page)
Arkadiusz Gladki
git_last_commit: bdd35fc
git_last_commit_date: 2025-04-15 11:33:05 -0400
nebbiolo2Linux (Ubuntu 24.04.3 LTS) / x86_64  OK    OK    OK  UNNEEDED, same version is already published
lconwaymacOS 12.7.1 Monterey / x86_64  OK    OK    OK    OK  UNNEEDED, same version is already published
kjohnson3macOS 13.7.7 Ventura / arm64  OK    OK    OK    OK  UNNEEDED, same version is already published
taishanLinux (openEuler 24.03 LTS) / aarch64  OK    OK    OK  
Package 87/180HostnameOS / ArchINSTALLBUILDCHECKBUILD BIN
INSPEcT 1.39.1  (landing page)
Stefano de Pretis
git_last_commit: 9163233
git_last_commit_date: 2025-07-22 21:29:21 -0400
nebbiolo2Linux (Ubuntu 24.04.3 LTS) / x86_64  OK    OK    OK  UNNEEDED, same version is already published
lconwaymacOS 12.7.1 Monterey / x86_64  OK    OK    OK    OK  UNNEEDED, same version is already published
kjohnson3macOS 13.7.7 Ventura / arm64  OK    OK    OK    OK  UNNEEDED, same version is already published
taishanLinux (openEuler 24.03 LTS) / aarch64  OK    OK    OK  
Package 88/180HostnameOS / ArchINSTALLBUILDCHECKBUILD BIN
InTAD 1.29.1  (landing page)
Konstantin Okonechnikov
git_last_commit: 11ae3ff
git_last_commit_date: 2025-06-27 12:27:35 -0400
nebbiolo2Linux (Ubuntu 24.04.3 LTS) / x86_64  OK    OK    OK  UNNEEDED, same version is already published
lconwaymacOS 12.7.1 Monterey / x86_64  OK    OK    OK    OK  UNNEEDED, same version is already published
kjohnson3macOS 13.7.7 Ventura / arm64  OK    OK    OK    OK  UNNEEDED, same version is already published
taishanLinux (openEuler 24.03 LTS) / aarch64  OK    OK    OK  
Package 89/180HostnameOS / ArchINSTALLBUILDCHECKBUILD BIN
IsoformSwitchAnalyzeR 2.9.1  (landing page)
Kristoffer Vitting-Seerup
git_last_commit: 14077ce
git_last_commit_date: 2025-07-22 21:32:31 -0400
nebbiolo2Linux (Ubuntu 24.04.3 LTS) / x86_64  OK    OK    OK  UNNEEDED, same version is already published
lconwaymacOS 12.7.1 Monterey / x86_64  OK    OK    OK    OK  UNNEEDED, same version is already published
kjohnson3macOS 13.7.7 Ventura / arm64  OK    OK    OK    OK  UNNEEDED, same version is already published
taishanLinux (openEuler 24.03 LTS) / aarch64  OK    OK    OK  
Package 90/180HostnameOS / ArchINSTALLBUILDCHECKBUILD BIN
karyoploteR 1.35.3  (landing page)
Bernat Gel
git_last_commit: e4bd027
git_last_commit_date: 2025-06-21 02:09:56 -0400
nebbiolo2Linux (Ubuntu 24.04.3 LTS) / x86_64  OK    OK    OK  UNNEEDED, same version is already published
lconwaymacOS 12.7.1 Monterey / x86_64  OK    OK    OK    OK  UNNEEDED, same version is already published
kjohnson3macOS 13.7.7 Ventura / arm64  OK    OK    OK    OK  UNNEEDED, same version is already published
taishanLinux (openEuler 24.03 LTS) / aarch64  OK    OK    OK  
Package 91/180HostnameOS / ArchINSTALLBUILDCHECKBUILD BIN
m6Aboost 1.15.1  (landing page)
You Zhou
git_last_commit: e4e9e30
git_last_commit_date: 2025-06-27 12:23:07 -0400
nebbiolo2Linux (Ubuntu 24.04.3 LTS) / x86_64  OK    OK    OK  UNNEEDED, same version is already published
lconwaymacOS 12.7.1 Monterey / x86_64  OK    OK    OK    OK  UNNEEDED, same version is already published
kjohnson3macOS 13.7.7 Ventura / arm64  OK    OK    OK    OK  UNNEEDED, same version is already published
taishanLinux (openEuler 24.03 LTS) / aarch64  OK    ERROR  skipped
Package 92/180HostnameOS / ArchINSTALLBUILDCHECKBUILD BIN
MADSEQ 1.35.1  (landing page)
Yu Kong
git_last_commit: dbdc7a6
git_last_commit_date: 2025-07-07 12:29:00 -0400
nebbiolo2Linux (Ubuntu 24.04.3 LTS) / x86_64  ERROR    ERROR  skipped
lconwaymacOS 12.7.1 Monterey / x86_64  ERROR    ERROR  skippedskipped
kjohnson3macOS 13.7.7 Ventura / arm64  ERROR    ERROR  skippedskipped
taishanLinux (openEuler 24.03 LTS) / aarch64  ERROR    ERROR  skipped
Package 93/180HostnameOS / ArchINSTALLBUILDCHECKBUILD BIN
magpie 1.9.0  (landing page)
Daoyu Duan
git_last_commit: c5d9afd
git_last_commit_date: 2025-04-15 13:11:12 -0400
nebbiolo2Linux (Ubuntu 24.04.3 LTS) / x86_64  OK    OK    WARNINGS  UNNEEDED, same version is already published
lconwaymacOS 12.7.1 Monterey / x86_64  OK    OK    WARNINGS    OK  UNNEEDED, same version is already published
kjohnson3macOS 13.7.7 Ventura / arm64  OK    OK    WARNINGS    OK  UNNEEDED, same version is already published
taishanLinux (openEuler 24.03 LTS) / aarch64  OK    OK    WARNINGS  
Package 94/180HostnameOS / ArchINSTALLBUILDCHECKBUILD BIN
maser 1.27.1  (landing page)
Diogo F.T. Veiga
git_last_commit: 684a35f
git_last_commit_date: 2025-07-23 12:30:32 -0400
nebbiolo2Linux (Ubuntu 24.04.3 LTS) / x86_64  OK    OK    OK  UNNEEDED, same version is already published
lconwaymacOS 12.7.1 Monterey / x86_64  OK    OK    OK    OK  UNNEEDED, same version is already published
kjohnson3macOS 13.7.7 Ventura / arm64  OK    OK    OK    OK  UNNEEDED, same version is already published
taishanLinux (openEuler 24.03 LTS) / aarch64  OK    OK    OK  
Package 95/180HostnameOS / ArchINSTALLBUILDCHECKBUILD BIN
MEDIPS 1.61.0  (landing page)
Lukas Chavez
git_last_commit: 4e64f00
git_last_commit_date: 2025-04-15 10:01:10 -0400
nebbiolo2Linux (Ubuntu 24.04.3 LTS) / x86_64  OK    OK    OK  UNNEEDED, same version is already published
lconwaymacOS 12.7.1 Monterey / x86_64  OK    OK    OK    OK  UNNEEDED, same version is already published
kjohnson3macOS 13.7.7 Ventura / arm64  OK    OK    OK    OK  UNNEEDED, same version is already published
taishanLinux (openEuler 24.03 LTS) / aarch64  OK    OK    OK  
Package 96/180HostnameOS / ArchINSTALLBUILDCHECKBUILD BIN
metagene2 1.25.0  (landing page)
Eric Fournier
git_last_commit: 620e51e
git_last_commit_date: 2025-04-15 11:44:22 -0400
nebbiolo2Linux (Ubuntu 24.04.3 LTS) / x86_64  OK    OK    WARNINGS  UNNEEDED, same version is already published
lconwaymacOS 12.7.1 Monterey / x86_64  OK    OK    WARNINGS    OK  UNNEEDED, same version is already published
kjohnson3macOS 13.7.7 Ventura / arm64  OK    OK    WARNINGS    OK  UNNEEDED, same version is already published
taishanLinux (openEuler 24.03 LTS) / aarch64  OK    OK    WARNINGS  
Package 97/180HostnameOS / ArchINSTALLBUILDCHECKBUILD BIN
metaseqR2 1.21.1  (landing page)
Panagiotis Moulos
git_last_commit: 46b23ae
git_last_commit_date: 2025-07-23 12:57:05 -0400
nebbiolo2Linux (Ubuntu 24.04.3 LTS) / x86_64  OK    OK    ERROR  
lconwaymacOS 12.7.1 Monterey / x86_64  OK    OK    ERROR    OK  
kjohnson3macOS 13.7.7 Ventura / arm64  OK    OK    ERROR    OK  
taishanLinux (openEuler 24.03 LTS) / aarch64  OK    ERROR  skipped
Package 98/180HostnameOS / ArchINSTALLBUILDCHECKBUILD BIN
methodical 1.5.0  (landing page)
Richard Heery
git_last_commit: 071c5e5
git_last_commit_date: 2025-04-15 13:26:47 -0400
nebbiolo2Linux (Ubuntu 24.04.3 LTS) / x86_64  OK    OK    ERROR  
lconwaymacOS 12.7.1 Monterey / x86_64  OK    OK    ERROR    OK  
kjohnson3macOS 13.7.7 Ventura / arm64  OK    OK    ERROR    OK  
taishanLinux (openEuler 24.03 LTS) / aarch64  OK    ERROR  skipped
Package 99/180HostnameOS / ArchINSTALLBUILDCHECKBUILD BIN
methrix 1.23.1  (landing page)
Anand Mayakonda
git_last_commit: dab0a7c
git_last_commit_date: 2025-07-23 19:08:50 -0400
nebbiolo2Linux (Ubuntu 24.04.3 LTS) / x86_64  OK    OK    OK  UNNEEDED, same version is already published
lconwaymacOS 12.7.1 Monterey / x86_64  OK    OK    OK    OK  UNNEEDED, same version is already published
kjohnson3macOS 13.7.7 Ventura / arm64  OK    OK    OK    OK  UNNEEDED, same version is already published
taishanLinux (openEuler 24.03 LTS) / aarch64  OK    OK    ERROR  
Package 100/180HostnameOS / ArchINSTALLBUILDCHECKBUILD BIN
methylKit 1.35.1  (landing page)
Altuna Akalin , Alexander Blume
git_last_commit: 1c318c6
git_last_commit_date: 2025-07-23 12:42:12 -0400
nebbiolo2Linux (Ubuntu 24.04.3 LTS) / x86_64  OK    OK    OK  UNNEEDED, same version is already published
lconwaymacOS 12.7.1 Monterey / x86_64  OK    OK    OK    OK  UNNEEDED, same version is already published
kjohnson3macOS 13.7.7 Ventura / arm64  OK    OK    OK    OK  UNNEEDED, same version is already published
taishanLinux (openEuler 24.03 LTS) / aarch64  OK    OK    OK  
Package 101/180HostnameOS / ArchINSTALLBUILDCHECKBUILD BIN
MethylSeekR 1.49.3  (landing page)
Lukas Burger
git_last_commit: 2a4a12f
git_last_commit_date: 2025-09-25 04:32:36 -0400
nebbiolo2Linux (Ubuntu 24.04.3 LTS) / x86_64  OK    OK    OK  UNNEEDED, same version is already published
lconwaymacOS 12.7.1 Monterey / x86_64  OK    OK    OK    OK  UNNEEDED, same version is already published
kjohnson3macOS 13.7.7 Ventura / arm64  OK    OK    OK    OK  UNNEEDED, same version is already published
taishanLinux (openEuler 24.03 LTS) / aarch64  OK    OK    OK  
Package 102/180HostnameOS / ArchINSTALLBUILDCHECKBUILD BIN
mist 1.1.0  (landing page)
Daoyu Duan
git_last_commit: d810738
git_last_commit_date: 2025-04-15 13:45:05 -0400
nebbiolo2Linux (Ubuntu 24.04.3 LTS) / x86_64  OK    OK    WARNINGS  UNNEEDED, same version is already published
lconwaymacOS 12.7.1 Monterey / x86_64  OK    OK    WARNINGS    OK  UNNEEDED, same version is already published
kjohnson3macOS 13.7.7 Ventura / arm64  OK    OK    WARNINGS    OK  UNNEEDED, same version is already published
taishanLinux (openEuler 24.03 LTS) / aarch64  OK    OK    WARNINGS  
Package 103/180HostnameOS / ArchINSTALLBUILDCHECKBUILD BIN
mobileRNA 1.5.1  (landing page)
Katie Jeynes-Cupper
git_last_commit: 072fb25
git_last_commit_date: 2025-07-23 12:46:28 -0400
nebbiolo2Linux (Ubuntu 24.04.3 LTS) / x86_64  OK    OK    OK  UNNEEDED, same version is already published
lconwaymacOS 12.7.1 Monterey / x86_64  OK    OK    OK    OK  UNNEEDED, same version is already published
kjohnson3macOS 13.7.7 Ventura / arm64  OK    OK    OK    OK  UNNEEDED, same version is already published
taishanLinux (openEuler 24.03 LTS) / aarch64  OK    OK    OK  
Package 104/180HostnameOS / ArchINSTALLBUILDCHECKBUILD BIN
Moonlight2R 1.7.3  (landing page)
Matteo Tiberti
git_last_commit: 3bee336
git_last_commit_date: 2025-10-02 13:56:21 -0400
nebbiolo2Linux (Ubuntu 24.04.3 LTS) / x86_64  OK    OK    OK  UNNEEDED, same version is already published
lconwaymacOS 12.7.1 Monterey / x86_64  OK    OK    OK    OK  UNNEEDED, same version is already published
kjohnson3macOS 13.7.7 Ventura / arm64  OK    OK    OK    OK  UNNEEDED, same version is already published
taishanLinux (openEuler 24.03 LTS) / aarch64  OK    OK    ERROR  
Package 105/180HostnameOS / ArchINSTALLBUILDCHECKBUILD BIN
motifbreakR 2.23.0  (landing page)
Simon Gert Coetzee
git_last_commit: 9bfa084
git_last_commit_date: 2025-04-15 10:53:23 -0400
nebbiolo2Linux (Ubuntu 24.04.3 LTS) / x86_64  OK    OK    WARNINGS  UNNEEDED, same version is already published
lconwaymacOS 12.7.1 Monterey / x86_64  OK    OK    WARNINGS    OK  UNNEEDED, same version is already published
kjohnson3macOS 13.7.7 Ventura / arm64  OK    OK    WARNINGS    OK  UNNEEDED, same version is already published
taishanLinux (openEuler 24.03 LTS) / aarch64  OK    OK    ERROR  
Package 106/180HostnameOS / ArchINSTALLBUILDCHECKBUILD BIN
MotifDb 1.51.0  (landing page)
Paul Shannon
git_last_commit: 2160961
git_last_commit_date: 2025-04-15 10:14:59 -0400
nebbiolo2Linux (Ubuntu 24.04.3 LTS) / x86_64  OK    OK    WARNINGS  UNNEEDED, same version is already published
lconwaymacOS 12.7.1 Monterey / x86_64  OK    OK    WARNINGS    OK  UNNEEDED, same version is already published
kjohnson3macOS 13.7.7 Ventura / arm64  OK    OK    WARNINGS    OK  UNNEEDED, same version is already published
taishanLinux (openEuler 24.03 LTS) / aarch64  OK    OK    WARNINGS  
Package 107/180HostnameOS / ArchINSTALLBUILDCHECKBUILD BIN
MotifPeeker 1.1.3  (landing page)
Hiranyamaya Dash
git_last_commit: 789013b
git_last_commit_date: 2025-07-22 21:34:26 -0400
nebbiolo2Linux (Ubuntu 24.04.3 LTS) / x86_64  OK    OK    OK  UNNEEDED, same version is already published
lconwaymacOS 12.7.1 Monterey / x86_64  OK    OK    OK    OK  UNNEEDED, same version is already published
kjohnson3macOS 13.7.7 Ventura / arm64  OK    OK    OK    OK  UNNEEDED, same version is already published
taishanLinux (openEuler 24.03 LTS) / aarch64  OK    OK    TIMEOUT  
Package 108/180HostnameOS / ArchINSTALLBUILDCHECKBUILD BIN
multicrispr 1.19.1  (landing page)
Aditya Bhagwat
git_last_commit: 9fcebf3
git_last_commit_date: 2025-07-23 13:21:29 -0400
nebbiolo2Linux (Ubuntu 24.04.3 LTS) / x86_64  OK    OK    OK  UNNEEDED, same version is already published
lconwaymacOS 12.7.1 Monterey / x86_64  OK    OK    OK    OK  UNNEEDED, same version is already published
kjohnson3macOS 13.7.7 Ventura / arm64  OK    OK    OK    OK  UNNEEDED, same version is already published
taishanLinux (openEuler 24.03 LTS) / aarch64  OK    ERROR  skipped
Package 109/180HostnameOS / ArchINSTALLBUILDCHECKBUILD BIN
MungeSumstats 1.17.4  (landing page)
Alan Murphy
git_last_commit: 3b59105
git_last_commit_date: 2025-08-25 17:10:21 -0400
nebbiolo2Linux (Ubuntu 24.04.3 LTS) / x86_64  OK    OK    OK  UNNEEDED, same version is already published
lconwaymacOS 12.7.1 Monterey / x86_64  OK    OK    OK    OK  UNNEEDED, same version is already published
kjohnson3macOS 13.7.7 Ventura / arm64  OK    OK    OK    OK  UNNEEDED, same version is already published
taishanLinux (openEuler 24.03 LTS) / aarch64  OK    ERROR  skipped
Package 110/180HostnameOS / ArchINSTALLBUILDCHECKBUILD BIN
NADfinder 1.33.0  (landing page)
Jianhong Ou
git_last_commit: fbb1058
git_last_commit_date: 2025-04-15 11:09:59 -0400
nebbiolo2Linux (Ubuntu 24.04.3 LTS) / x86_64  OK    OK    OK  UNNEEDED, same version is already published
lconwaymacOS 12.7.1 Monterey / x86_64  OK    OK    OK    OK  UNNEEDED, same version is already published
kjohnson3macOS 13.7.7 Ventura / arm64  OK    OK    OK    OK  UNNEEDED, same version is already published
taishanLinux (openEuler 24.03 LTS) / aarch64  OK    ERROR  skipped
Package 111/180HostnameOS / ArchINSTALLBUILDCHECKBUILD BIN
nearBynding 1.19.1  (landing page)
Veronica Busa
git_last_commit: ab750a4
git_last_commit_date: 2025-07-23 13:23:21 -0400
nebbiolo2Linux (Ubuntu 24.04.3 LTS) / x86_64  OK    OK    OK  UNNEEDED, same version is already published
lconwaymacOS 12.7.1 Monterey / x86_64  OK    OK    OK    OK  UNNEEDED, same version is already published
kjohnson3macOS 13.7.7 Ventura / arm64  OK    OK    OK    OK  UNNEEDED, same version is already published
taishanLinux (openEuler 24.03 LTS) / aarch64  OK    OK    OK  
Package 112/180HostnameOS / ArchINSTALLBUILDCHECKBUILD BIN
NoRCE 1.21.2  (landing page)
Gulden Olgun
git_last_commit: 13714c3
git_last_commit_date: 2025-07-22 21:38:35 -0400
nebbiolo2Linux (Ubuntu 24.04.3 LTS) / x86_64  OK    OK    OK  UNNEEDED, same version is already published
lconwaymacOS 12.7.1 Monterey / x86_64  OK    OK    OK    OK  UNNEEDED, same version is already published
kjohnson3macOS 13.7.7 Ventura / arm64  OK    OK    OK    OK  UNNEEDED, same version is already published
taishanLinux (openEuler 24.03 LTS) / aarch64  OK    OK    OK  
Package 113/180HostnameOS / ArchINSTALLBUILDCHECKBUILD BIN
normr 1.35.0  (landing page)
Johannes Helmuth
git_last_commit: d793450
git_last_commit_date: 2025-04-15 11:03:00 -0400
nebbiolo2Linux (Ubuntu 24.04.3 LTS) / x86_64  OK    OK    WARNINGS  UNNEEDED, same version is already published
lconwaymacOS 12.7.1 Monterey / x86_64  OK    OK    WARNINGS    OK  UNNEEDED, same version is already published
kjohnson3macOS 13.7.7 Ventura / arm64  OK    OK    WARNINGS    OK  UNNEEDED, same version is already published
taishanLinux (openEuler 24.03 LTS) / aarch64  OK    OK    WARNINGS  
Package 114/180HostnameOS / ArchINSTALLBUILDCHECKBUILD BIN
OGRE 1.13.1  (landing page)
Sven Berres
git_last_commit: e884207
git_last_commit_date: 2025-07-31 16:13:22 -0400
nebbiolo2Linux (Ubuntu 24.04.3 LTS) / x86_64  OK    OK    OK  UNNEEDED, same version is already published
lconwaymacOS 12.7.1 Monterey / x86_64  OK    OK    OK    OK  UNNEEDED, same version is already published
kjohnson3macOS 13.7.7 Ventura / arm64  OK    OK    OK    OK  UNNEEDED, same version is already published
taishanLinux (openEuler 24.03 LTS) / aarch64  OK    OK    OK  
Package 115/180HostnameOS / ArchINSTALLBUILDCHECKBUILD BIN
OMICsPCA 1.27.1  (landing page)
Subhadeep Das
git_last_commit: a1ad83b
git_last_commit_date: 2025-07-24 19:03:31 -0400
nebbiolo2Linux (Ubuntu 24.04.3 LTS) / x86_64  OK    OK    OK  UNNEEDED, same version is already published
lconwaymacOS 12.7.1 Monterey / x86_64  OK    OK    OK    OK  UNNEEDED, same version is already published
kjohnson3macOS 13.7.7 Ventura / arm64  OK    OK    OK    OK  UNNEEDED, same version is already published
taishanLinux (openEuler 24.03 LTS) / aarch64  OK    OK    OK  
Package 116/180HostnameOS / ArchINSTALLBUILDCHECKBUILD BIN
ORFhunteR 1.17.0  (landing page)
Vasily V. Grinev
git_last_commit: 8b6eb4f
git_last_commit_date: 2025-04-15 12:18:28 -0400
nebbiolo2Linux (Ubuntu 24.04.3 LTS) / x86_64  OK    OK    WARNINGS  UNNEEDED, same version is already published
lconwaymacOS 12.7.1 Monterey / x86_64  OK    OK    WARNINGS    OK  UNNEEDED, same version is already published
kjohnson3macOS 13.7.7 Ventura / arm64  OK    OK    WARNINGS    OK  UNNEEDED, same version is already published
taishanLinux (openEuler 24.03 LTS) / aarch64  OK    OK    WARNINGS  
Package 117/180HostnameOS / ArchINSTALLBUILDCHECKBUILD BIN
ORFik 1.29.9  (landing page)
Haakon Tjeldnes
git_last_commit: 91fe5a2
git_last_commit_date: 2025-09-19 07:15:59 -0400
nebbiolo2Linux (Ubuntu 24.04.3 LTS) / x86_64  OK    OK    ERROR  
lconwaymacOS 12.7.1 Monterey / x86_64  OK    OK    OK    OK  UNNEEDED, same version is already published
kjohnson3macOS 13.7.7 Ventura / arm64  OK    OK    OK    OK  UNNEEDED, same version is already published
taishanLinux (openEuler 24.03 LTS) / aarch64  OK    OK    OK  
Package 118/180HostnameOS / ArchINSTALLBUILDCHECKBUILD BIN
PAST 1.25.0  (landing page)
Thrash Adam
git_last_commit: a1079de
git_last_commit_date: 2025-04-15 11:46:41 -0400
nebbiolo2Linux (Ubuntu 24.04.3 LTS) / x86_64  OK    OK    WARNINGS  UNNEEDED, same version is already published
lconwaymacOS 12.7.1 Monterey / x86_64  OK    OK    WARNINGS    OK  UNNEEDED, same version is already published
kjohnson3macOS 13.7.7 Ventura / arm64  OK    OK    WARNINGS    OK  UNNEEDED, same version is already published
taishanLinux (openEuler 24.03 LTS) / aarch64  OK    OK    WARNINGS  
Package 119/180HostnameOS / ArchINSTALLBUILDCHECKBUILD BIN
periodicDNA 1.19.1  (landing page)
Jacques Serizay
git_last_commit: 61bc1bb
git_last_commit_date: 2025-07-24 19:30:32 -0400
nebbiolo2Linux (Ubuntu 24.04.3 LTS) / x86_64  OK    OK    WARNINGS  UNNEEDED, same version is already published
lconwaymacOS 12.7.1 Monterey / x86_64  OK    OK    WARNINGS    OK  UNNEEDED, same version is already published
kjohnson3macOS 13.7.7 Ventura / arm64  OK    OK    WARNINGS    OK  UNNEEDED, same version is already published
taishanLinux (openEuler 24.03 LTS) / aarch64  OK    OK    ERROR  
Package 120/180HostnameOS / ArchINSTALLBUILDCHECKBUILD BIN
plyranges 1.29.1  (landing page)
Michael Love
git_last_commit: 6a65251
git_last_commit_date: 2025-07-23 13:49:35 -0400
nebbiolo2Linux (Ubuntu 24.04.3 LTS) / x86_64  OK    OK    OK  UNNEEDED, same version is already published
lconwaymacOS 12.7.1 Monterey / x86_64  OK    OK    OK    OK  UNNEEDED, same version is already published
kjohnson3macOS 13.7.7 Ventura / arm64  OK    OK    ERROR    OK  
taishanLinux (openEuler 24.03 LTS) / aarch64  OK    OK    OK  
Package 121/180HostnameOS / ArchINSTALLBUILDCHECKBUILD BIN
PMScanR 0.99.6  (landing page)
Jan Pawel Jastrzebski
git_last_commit: 5f7e650
git_last_commit_date: 2025-09-26 03:34:16 -0400
nebbiolo2Linux (Ubuntu 24.04.3 LTS) / x86_64  OK    OK    OK  UNNEEDED, same version is already published
lconwaymacOS 12.7.1 Monterey / x86_64  OK    OK    OK    OK  UNNEEDED, same version is already published
kjohnson3macOS 13.7.7 Ventura / arm64  OK    OK    OK    OK  UNNEEDED, same version is already published
taishanLinux (openEuler 24.03 LTS) / aarch64  OK    OK    OK  
Package 122/180HostnameOS / ArchINSTALLBUILDCHECKBUILD BIN
pram 1.25.1  (landing page)
Peng Liu
git_last_commit: bfc9779
git_last_commit_date: 2025-07-23 13:53:49 -0400
nebbiolo2Linux (Ubuntu 24.04.3 LTS) / x86_64  OK    OK    OK  UNNEEDED, same version is already published
lconwaymacOS 12.7.1 Monterey / x86_64  OK    OK    OK    OK  UNNEEDED, same version is already published
kjohnson3macOS 13.7.7 Ventura / arm64  OK    OK    OK    OK  UNNEEDED, same version is already published
taishanLinux (openEuler 24.03 LTS) / aarch64  OK    OK    OK  
Package 123/180HostnameOS / ArchINSTALLBUILDCHECKBUILD BIN
primirTSS 1.27.0  (landing page)
Pumin Li
git_last_commit: e7b6a3b
git_last_commit_date: 2025-04-15 11:36:51 -0400
nebbiolo2Linux (Ubuntu 24.04.3 LTS) / x86_64  OK    OK    WARNINGS  UNNEEDED, same version is already published
lconwaymacOS 12.7.1 Monterey / x86_64  OK    OK    WARNINGS    OK  UNNEEDED, same version is already published
kjohnson3macOS 13.7.7 Ventura / arm64  OK    OK    WARNINGS    OK  UNNEEDED, same version is already published
taishanLinux (openEuler 24.03 LTS) / aarch64  ERROR    ERROR  skipped
Package 124/180HostnameOS / ArchINSTALLBUILDCHECKBUILD BIN
proBAMr 1.43.1  (landing page)
Xiaojing Wang
git_last_commit: c2450bb
git_last_commit_date: 2025-04-30 15:07:53 -0400
nebbiolo2Linux (Ubuntu 24.04.3 LTS) / x86_64  OK    OK    OK  UNNEEDED, same version is already published
lconwaymacOS 12.7.1 Monterey / x86_64  OK    OK    OK    OK  UNNEEDED, same version is already published
kjohnson3macOS 13.7.7 Ventura / arm64  OK    OK    OK    OK  UNNEEDED, same version is already published
taishanLinux (openEuler 24.03 LTS) / aarch64  OK    OK    OK  
Package 125/180HostnameOS / ArchINSTALLBUILDCHECKBUILD BIN
profileplyr 1.25.1  (landing page)
Tom Carroll , Doug Barrows
git_last_commit: adab25c
git_last_commit_date: 2025-07-23 14:50:47 -0400
nebbiolo2Linux (Ubuntu 24.04.3 LTS) / x86_64  OK    OK    OK  UNNEEDED, same version is already published
lconwaymacOS 12.7.1 Monterey / x86_64  OK    OK    OK    OK  UNNEEDED, same version is already published
kjohnson3macOS 13.7.7 Ventura / arm64  OK    OK    OK    OK  UNNEEDED, same version is already published
taishanLinux (openEuler 24.03 LTS) / aarch64  OK    OK    OK  
Package 126/180HostnameOS / ArchINSTALLBUILDCHECKBUILD BIN
PureCN 2.15.4  (landing page)
Markus Riester
git_last_commit: 75e92bb
git_last_commit_date: 2025-07-22 14:20:40 -0400
nebbiolo2Linux (Ubuntu 24.04.3 LTS) / x86_64  OK    OK    OK  UNNEEDED, same version is already published
lconwaymacOS 12.7.1 Monterey / x86_64  OK    OK    OK    OK  UNNEEDED, same version is already published
kjohnson3macOS 13.7.7 Ventura / arm64  OK    OK    OK    OK  UNNEEDED, same version is already published
taishanLinux (openEuler 24.03 LTS) / aarch64  OK    OK    OK  
Package 127/180HostnameOS / ArchINSTALLBUILDCHECKBUILD BIN
qsea 1.35.1  (landing page)
Matthias Lienhard
git_last_commit: 7800f67
git_last_commit_date: 2025-07-23 14:53:03 -0400
nebbiolo2Linux (Ubuntu 24.04.3 LTS) / x86_64  OK    OK    WARNINGS  UNNEEDED, same version is already published
lconwaymacOS 12.7.1 Monterey / x86_64  ERROR    ERROR  skippedskipped
kjohnson3macOS 13.7.7 Ventura / arm64  ERROR    ERROR  skippedskipped
taishanLinux (openEuler 24.03 LTS) / aarch64  OK    OK    WARNINGS  
Package 128/180HostnameOS / ArchINSTALLBUILDCHECKBUILD BIN
QuasR 1.49.3  (landing page)
Michael Stadler
git_last_commit: aa5c77a
git_last_commit_date: 2025-06-23 19:20:54 -0400
nebbiolo2Linux (Ubuntu 24.04.3 LTS) / x86_64  OK    OK    WARNINGS  UNNEEDED, same version is already published
lconwaymacOS 12.7.1 Monterey / x86_64  OK    OK    WARNINGS    OK  UNNEEDED, same version is already published
kjohnson3macOS 13.7.7 Ventura / arm64  OK    OK    WARNINGS    OK  UNNEEDED, same version is already published
taishanLinux (openEuler 24.03 LTS) / aarch64  OK    OK    WARNINGS  
Package 129/180HostnameOS / ArchINSTALLBUILDCHECKBUILD BIN
r3Cseq 1.55.1  (landing page)
Supat Thongjuea or
git_last_commit: 87fafb1
git_last_commit_date: 2025-07-24 19:32:26 -0400
nebbiolo2Linux (Ubuntu 24.04.3 LTS) / x86_64  OK    OK    OK  UNNEEDED, same version is already published
lconwaymacOS 12.7.1 Monterey / x86_64  OK    OK    OK    OK  UNNEEDED, same version is already published
kjohnson3macOS 13.7.7 Ventura / arm64  OK    OK    OK    OK  UNNEEDED, same version is already published
taishanLinux (openEuler 24.03 LTS) / aarch64  OK    OK    ERROR  
Package 130/180HostnameOS / ArchINSTALLBUILDCHECKBUILD BIN
raer 1.7.2  (landing page)
Kent Riemondy
git_last_commit: cabc5a1
git_last_commit_date: 2025-07-23 15:52:44 -0400
nebbiolo2Linux (Ubuntu 24.04.3 LTS) / x86_64  OK    OK    OK  UNNEEDED, same version is already published
lconwaymacOS 12.7.1 Monterey / x86_64  OK    OK    OK    OK  UNNEEDED, same version is already published
kjohnson3macOS 13.7.7 Ventura / arm64  OK    OK    OK    OK  UNNEEDED, same version is already published
taishanLinux (openEuler 24.03 LTS) / aarch64  OK    OK    OK  
Package 131/180HostnameOS / ArchINSTALLBUILDCHECKBUILD BIN
RCAS 1.35.0  (landing page)
Bora Uyar
git_last_commit: 2067192
git_last_commit_date: 2025-04-15 11:03:46 -0400
nebbiolo2Linux (Ubuntu 24.04.3 LTS) / x86_64  OK    OK    OK  UNNEEDED, same version is already published
lconwaymacOS 12.7.1 Monterey / x86_64  OK    OK    OK    OK  UNNEEDED, same version is already published
kjohnson3macOS 13.7.7 Ventura / arm64  OK    OK    OK    OK  UNNEEDED, same version is already published
taishanLinux (openEuler 24.03 LTS) / aarch64  OK    OK    OK  
Package 132/180HostnameOS / ArchINSTALLBUILDCHECKBUILD BIN
recount 1.35.0  (landing page)
Leonardo Collado-Torres
git_last_commit: cddf02e
git_last_commit_date: 2025-04-15 11:04:08 -0400
nebbiolo2Linux (Ubuntu 24.04.3 LTS) / x86_64  OK    OK    OK  UNNEEDED, same version is already published
lconwaymacOS 12.7.1 Monterey / x86_64  OK    OK    OK    OK  UNNEEDED, same version is already published
kjohnson3macOS 13.7.7 Ventura / arm64  OK    OK    OK    OK  UNNEEDED, same version is already published
taishanLinux (openEuler 24.03 LTS) / aarch64  OK    TIMEOUT  skipped
Package 133/180HostnameOS / ArchINSTALLBUILDCHECKBUILD BIN
recount3 1.19.3  (landing page)
Leonardo Collado-Torres
git_last_commit: 2ad127e
git_last_commit_date: 2025-09-24 18:17:08 -0400
nebbiolo2Linux (Ubuntu 24.04.3 LTS) / x86_64  OK    OK    OK  UNNEEDED, same version is already published
lconwaymacOS 12.7.1 Monterey / x86_64  OK    OK    OK    OK  UNNEEDED, same version is already published
kjohnson3macOS 13.7.7 Ventura / arm64  OK    OK    OK    OK  UNNEEDED, same version is already published
taishanLinux (openEuler 24.03 LTS) / aarch64  OK    OK    OK  
Package 134/180HostnameOS / ArchINSTALLBUILDCHECKBUILD BIN
recoup 1.37.1  (landing page)
Panagiotis Moulos
git_last_commit: 8a07c44
git_last_commit_date: 2025-07-23 16:19:41 -0400
nebbiolo2Linux (Ubuntu 24.04.3 LTS) / x86_64  OK    OK    OK  UNNEEDED, same version is already published
lconwaymacOS 12.7.1 Monterey / x86_64  OK    OK    OK    OK  UNNEEDED, same version is already published
kjohnson3macOS 13.7.7 Ventura / arm64  OK    OK    OK    OK  UNNEEDED, same version is already published
taishanLinux (openEuler 24.03 LTS) / aarch64  OK    OK    OK  
Package 135/180HostnameOS / ArchINSTALLBUILDCHECKBUILD BIN
regioneR 1.41.3  (landing page)
Bernat Gel
git_last_commit: 140bec6
git_last_commit_date: 2025-06-21 01:57:42 -0400
nebbiolo2Linux (Ubuntu 24.04.3 LTS) / x86_64  OK    OK    OK  UNNEEDED, same version is already published
lconwaymacOS 12.7.1 Monterey / x86_64  OK    OK    OK    OK  UNNEEDED, same version is already published
kjohnson3macOS 13.7.7 Ventura / arm64  OK    OK    OK    OK  UNNEEDED, same version is already published
taishanLinux (openEuler 24.03 LTS) / aarch64  OK    OK    OK  
Package 136/180HostnameOS / ArchINSTALLBUILDCHECKBUILD BIN
REMP 1.33.1  (landing page)
Yinan Zheng
git_last_commit: 25c0b35
git_last_commit_date: 2025-07-22 21:46:14 -0400
nebbiolo2Linux (Ubuntu 24.04.3 LTS) / x86_64  OK    OK    OK  UNNEEDED, same version is already published
lconwaymacOS 12.7.1 Monterey / x86_64  OK    OK    OK    OK  UNNEEDED, same version is already published
kjohnson3macOS 13.7.7 Ventura / arm64  OK    OK    OK    OK  UNNEEDED, same version is already published
taishanLinux (openEuler 24.03 LTS) / aarch64  OK    ERROR  skipped
Package 137/180HostnameOS / ArchINSTALLBUILDCHECKBUILD BIN
Repitools 1.55.2  (landing page)
Mark Robinson
git_last_commit: 07ba2e2
git_last_commit_date: 2025-10-06 08:19:18 -0400
nebbiolo2Linux (Ubuntu 24.04.3 LTS) / x86_64  ERROR    ERROR  skipped
lconwaymacOS 12.7.1 Monterey / x86_64  ERROR    ERROR  skippedskipped
kjohnson3macOS 13.7.7 Ventura / arm64  ERROR    ERROR  skippedskipped
taishanLinux (openEuler 24.03 LTS) / aarch64  OK    OK    ERROR  
Package 138/180HostnameOS / ArchINSTALLBUILDCHECKBUILD BIN
RiboCrypt 1.15.4  (landing page)
Michal Swirski
git_last_commit: e669838
git_last_commit_date: 2025-09-19 08:52:30 -0400
nebbiolo2Linux (Ubuntu 24.04.3 LTS) / x86_64  OK    OK    OK  UNNEEDED, same version is already published
lconwaymacOS 12.7.1 Monterey / x86_64  OK    OK    OK    OK  UNNEEDED, same version is already published
kjohnson3macOS 13.7.7 Ventura / arm64  OK    OK    OK    OK  UNNEEDED, same version is already published
taishanLinux (openEuler 24.03 LTS) / aarch64  OK    OK    OK  
Package 139/180HostnameOS / ArchINSTALLBUILDCHECKBUILD BIN
RiboProfiling 1.39.1  (landing page)
A. Popa
git_last_commit: 0c82466
git_last_commit_date: 2025-07-31 12:10:33 -0400
nebbiolo2Linux (Ubuntu 24.04.3 LTS) / x86_64  OK    OK    WARNINGS  UNNEEDED, same version is already published
lconwaymacOS 12.7.1 Monterey / x86_64  OK    OK    WARNINGS    OK  UNNEEDED, same version is already published
kjohnson3macOS 13.7.7 Ventura / arm64  OK    OK    WARNINGS    OK  UNNEEDED, same version is already published
taishanLinux (openEuler 24.03 LTS) / aarch64  OK    OK    WARNINGS  
Package 140/180HostnameOS / ArchINSTALLBUILDCHECKBUILD BIN
ribosomeProfilingQC 1.21.2  (landing page)
Jianhong Ou
git_last_commit: 155968b
git_last_commit_date: 2025-07-23 16:29:57 -0400
nebbiolo2Linux (Ubuntu 24.04.3 LTS) / x86_64  OK    OK    OK  UNNEEDED, same version is already published
lconwaymacOS 12.7.1 Monterey / x86_64  OK    OK    OK    OK  UNNEEDED, same version is already published
kjohnson3macOS 13.7.7 Ventura / arm64  OK    OK    OK    OK  UNNEEDED, same version is already published
taishanLinux (openEuler 24.03 LTS) / aarch64  OK    OK    OK  
Package 141/180HostnameOS / ArchINSTALLBUILDCHECKBUILD BIN
rifi 1.13.1  (landing page)
Jens Georg
git_last_commit: fa604e1
git_last_commit_date: 2025-06-27 12:04:57 -0400
nebbiolo2Linux (Ubuntu 24.04.3 LTS) / x86_64  OK    OK    WARNINGS  UNNEEDED, same version is already published
lconwaymacOS 12.7.1 Monterey / x86_64  OK    OK    WARNINGS    OK  UNNEEDED, same version is already published
kjohnson3macOS 13.7.7 Ventura / arm64  OK    OK    WARNINGS    OK  UNNEEDED, same version is already published
taishanLinux (openEuler 24.03 LTS) / aarch64  OK    TIMEOUT  skipped
Package 142/180HostnameOS / ArchINSTALLBUILDCHECKBUILD BIN
rifiComparative 1.9.0  (landing page)
Loubna Youssar
git_last_commit: 901628c
git_last_commit_date: 2025-04-15 13:01:51 -0400
nebbiolo2Linux (Ubuntu 24.04.3 LTS) / x86_64  OK    OK    OK  UNNEEDED, same version is already published
lconwaymacOS 12.7.1 Monterey / x86_64  OK    OK    OK    OK  UNNEEDED, same version is already published
kjohnson3macOS 13.7.7 Ventura / arm64  OK    OK    OK    OK  UNNEEDED, same version is already published
taishanLinux (openEuler 24.03 LTS) / aarch64  OK    OK    OK  
Package 143/180HostnameOS / ArchINSTALLBUILDCHECKBUILD BIN
rmspc 1.15.0  (landing page)
Meriem Bahda
git_last_commit: 0a383ed
git_last_commit_date: 2025-04-15 12:37:06 -0400
nebbiolo2Linux (Ubuntu 24.04.3 LTS) / x86_64  OK    OK    OK  UNNEEDED, same version is already published
lconwaymacOS 12.7.1 Monterey / x86_64  OK    OK    OK    OK  UNNEEDED, same version is already published
kjohnson3macOS 13.7.7 Ventura / arm64  OK    OK    OK    OK  UNNEEDED, same version is already published
taishanLinux (openEuler 24.03 LTS) / aarch64  OK    OK    OK  
Package 144/180HostnameOS / ArchINSTALLBUILDCHECKBUILD BIN
RNAmodR 1.23.2  (landing page)
Felix G.M. Ernst
git_last_commit: c241cdb
git_last_commit_date: 2025-09-23 16:09:50 -0400
nebbiolo2Linux (Ubuntu 24.04.3 LTS) / x86_64  OK    OK    OK  UNNEEDED, same version is already published
lconwaymacOS 12.7.1 Monterey / x86_64  OK    OK    OK    OK  UNNEEDED, same version is already published
kjohnson3macOS 13.7.7 Ventura / arm64  OK    OK    OK    OK  UNNEEDED, same version is already published
taishanLinux (openEuler 24.03 LTS) / aarch64  OK    OK    OK  
Package 145/180HostnameOS / ArchINSTALLBUILDCHECKBUILD BIN
roar 1.45.0  (landing page)
Elena Grassi
git_last_commit: b80b0b5
git_last_commit_date: 2025-04-15 10:28:04 -0400
nebbiolo2Linux (Ubuntu 24.04.3 LTS) / x86_64  OK    OK    OK  UNNEEDED, same version is already published
lconwaymacOS 12.7.1 Monterey / x86_64  OK    OK    OK    OK  UNNEEDED, same version is already published
kjohnson3macOS 13.7.7 Ventura / arm64  OK    OK    OK    OK  UNNEEDED, same version is already published
taishanLinux (openEuler 24.03 LTS) / aarch64  OK    OK    OK  
Package 146/180HostnameOS / ArchINSTALLBUILDCHECKBUILD BIN
scanMiRApp 1.15.1  (landing page)
Pierre-Luc Germain
git_last_commit: 8b674a7
git_last_commit_date: 2025-09-23 13:52:10 -0400
nebbiolo2Linux (Ubuntu 24.04.3 LTS) / x86_64  OK    OK    OK  UNNEEDED, same version is already published
lconwaymacOS 12.7.1 Monterey / x86_64  OK    OK    OK    OK  UNNEEDED, same version is already published
kjohnson3macOS 13.7.7 Ventura / arm64  OK    OK    OK    OK  UNNEEDED, same version is already published
taishanLinux (openEuler 24.03 LTS) / aarch64  OK    OK    ERROR  
Package 147/180HostnameOS / ArchINSTALLBUILDCHECKBUILD BIN
SCANVIS 1.23.0  (landing page)
Phaedra Agius
git_last_commit: f253afc
git_last_commit_date: 2025-04-15 11:48:02 -0400
nebbiolo2Linux (Ubuntu 24.04.3 LTS) / x86_64  OK    OK    OK  UNNEEDED, same version is already published
lconwaymacOS 12.7.1 Monterey / x86_64  OK    OK    OK    OK  UNNEEDED, same version is already published
kjohnson3macOS 13.7.7 Ventura / arm64  OK    OK    OK    OK  UNNEEDED, same version is already published
taishanLinux (openEuler 24.03 LTS) / aarch64  OK    OK    OK  
Package 148/180HostnameOS / ArchINSTALLBUILDCHECKBUILD BIN
scDblFinder 1.23.4  (landing page)
Pierre-Luc Germain
git_last_commit: 4088b78
git_last_commit_date: 2025-08-11 07:14:13 -0400
nebbiolo2Linux (Ubuntu 24.04.3 LTS) / x86_64  OK    OK    WARNINGS  UNNEEDED, same version is already published
lconwaymacOS 12.7.1 Monterey / x86_64  OK    OK    WARNINGS    OK  UNNEEDED, same version is already published
kjohnson3macOS 13.7.7 Ventura / arm64  OK    OK    WARNINGS    OK  UNNEEDED, same version is already published
taishanLinux (openEuler 24.03 LTS) / aarch64  OK    OK    WARNINGS  
Package 149/180HostnameOS / ArchINSTALLBUILDCHECKBUILD BIN
scPipe 2.9.0  (landing page)
Shian Su
git_last_commit: f3a6ca4
git_last_commit_date: 2025-04-15 11:15:16 -0400
nebbiolo2Linux (Ubuntu 24.04.3 LTS) / x86_64  OK    OK    OK  UNNEEDED, same version is already published
lconwaymacOS 12.7.1 Monterey / x86_64  OK    OK    OK    OK  UNNEEDED, same version is already published
kjohnson3macOS 13.7.7 Ventura / arm64  OK    OK    OK    OK  UNNEEDED, same version is already published
taishanLinux (openEuler 24.03 LTS) / aarch64  OK    OK    OK  
Package 150/180HostnameOS / ArchINSTALLBUILDCHECKBUILD BIN
scRNAseqApp 1.9.26  (landing page)
Jianhong Ou
git_last_commit: 30b55d8
git_last_commit_date: 2025-09-24 14:18:44 -0400
nebbiolo2Linux (Ubuntu 24.04.3 LTS) / x86_64  OK    OK    OK  UNNEEDED, same version is already published
lconwaymacOS 12.7.1 Monterey / x86_64  OK    OK    OK    OK  UNNEEDED, same version is already published
kjohnson3macOS 13.7.7 Ventura / arm64  OK    OK    OK    OK  UNNEEDED, same version is already published
taishanLinux (openEuler 24.03 LTS) / aarch64  OK    OK    OK  
Package 151/180HostnameOS / ArchINSTALLBUILDCHECKBUILD BIN
scruff 1.27.0  (landing page)
Zhe Wang
git_last_commit: e1c6930
git_last_commit_date: 2025-09-29 21:23:41 -0400
nebbiolo2Linux (Ubuntu 24.04.3 LTS) / x86_64  OK    ERROR  skipped
lconwaymacOS 12.7.1 Monterey / x86_64  OK    ERROR  skippedskipped
kjohnson3macOS 13.7.7 Ventura / arm64  OK    ERROR  skippedskipped
taishanLinux (openEuler 24.03 LTS) / aarch64  OK    ERROR  skipped
Package 152/180HostnameOS / ArchINSTALLBUILDCHECKBUILD BIN
seqCAT 1.31.0  (landing page)
Erik Fasterius
git_last_commit: 116312f
git_last_commit_date: 2025-04-15 11:14:28 -0400
nebbiolo2Linux (Ubuntu 24.04.3 LTS) / x86_64  OK    OK    OK  UNNEEDED, same version is already published
lconwaymacOS 12.7.1 Monterey / x86_64  OK    OK    OK    OK  UNNEEDED, same version is already published
kjohnson3macOS 13.7.7 Ventura / arm64  OK    OK    OK    OK  UNNEEDED, same version is already published
taishanLinux (openEuler 24.03 LTS) / aarch64  OK    OK    OK  
Package 153/180HostnameOS / ArchINSTALLBUILDCHECKBUILD BIN
seqsetvis 1.29.1  (landing page)
Joseph R Boyd
git_last_commit: c75429d
git_last_commit_date: 2025-07-23 17:50:06 -0400
nebbiolo2Linux (Ubuntu 24.04.3 LTS) / x86_64  OK    OK    OK  UNNEEDED, same version is already published
lconwaymacOS 12.7.1 Monterey / x86_64  OK    OK    OK    OK  UNNEEDED, same version is already published
kjohnson3macOS 13.7.7 Ventura / arm64  OK    OK    OK    OK  UNNEEDED, same version is already published
taishanLinux (openEuler 24.03 LTS) / aarch64  OK    OK    OK  
Package 154/180HostnameOS / ArchINSTALLBUILDCHECKBUILD BIN
sevenC 1.29.1  (landing page)
Jonas Ibn-Salem
git_last_commit: fe55d89
git_last_commit_date: 2025-07-23 17:52:54 -0400
nebbiolo2Linux (Ubuntu 24.04.3 LTS) / x86_64  OK    ERROR  skipped
lconwaymacOS 12.7.1 Monterey / x86_64  OK    ERROR  skippedskipped
kjohnson3macOS 13.7.7 Ventura / arm64  OK    ERROR  skippedskipped
taishanLinux (openEuler 24.03 LTS) / aarch64  OK    ERROR  skipped
Package 155/180HostnameOS / ArchINSTALLBUILDCHECKBUILD BIN
SGSeq 1.43.1  (landing page)
Leonard Goldstein
git_last_commit: de154f1
git_last_commit_date: 2025-07-22 15:24:36 -0400
nebbiolo2Linux (Ubuntu 24.04.3 LTS) / x86_64  OK    OK    OK  UNNEEDED, same version is already published
lconwaymacOS 12.7.1 Monterey / x86_64  OK    OK    OK    OK  UNNEEDED, same version is already published
kjohnson3macOS 13.7.7 Ventura / arm64  OK    OK    OK    OK  UNNEEDED, same version is already published
taishanLinux (openEuler 24.03 LTS) / aarch64  OK    OK    OK  
Package 156/180HostnameOS / ArchINSTALLBUILDCHECKBUILD BIN
shinyepico 1.17.0  (landing page)
Octavio Morante-Palacios
git_last_commit: b911db9
git_last_commit_date: 2025-04-15 12:15:09 -0400
nebbiolo2Linux (Ubuntu 24.04.3 LTS) / x86_64  OK    OK    OK  UNNEEDED, same version is already published
lconwaymacOS 12.7.1 Monterey / x86_64  OK    OK    OK    OK  UNNEEDED, same version is already published
kjohnson3macOS 13.7.7 Ventura / arm64  OK    OK    OK    OK  UNNEEDED, same version is already published
taishanLinux (openEuler 24.03 LTS) / aarch64  OK    OK    OK  
Package 157/180HostnameOS / ArchINSTALLBUILDCHECKBUILD BIN
signeR 2.11.1  (landing page)
Renan Valieris
git_last_commit: 6916ef7
git_last_commit_date: 2025-09-18 14:39:56 -0400
nebbiolo2Linux (Ubuntu 24.04.3 LTS) / x86_64  OK    OK    OK  UNNEEDED, same version is already published
lconwaymacOS 12.7.1 Monterey / x86_64  OK    OK    OK    OK  UNNEEDED, same version is already published
kjohnson3macOS 13.7.7 Ventura / arm64  OK    OK    OK    OK  UNNEEDED, same version is already published
taishanLinux (openEuler 24.03 LTS) / aarch64  OK    OK    OK  
Package 158/180HostnameOS / ArchINSTALLBUILDCHECKBUILD BIN
SigsPack 1.23.0  (landing page)
Franziska Schumann
git_last_commit: 958f645
git_last_commit_date: 2025-04-15 11:48:59 -0400
nebbiolo2Linux (Ubuntu 24.04.3 LTS) / x86_64  OK    OK    OK  UNNEEDED, same version is already published
lconwaymacOS 12.7.1 Monterey / x86_64  OK    OK    OK    OK  UNNEEDED, same version is already published
kjohnson3macOS 13.7.7 Ventura / arm64  OK    OK    OK    OK  UNNEEDED, same version is already published
taishanLinux (openEuler 24.03 LTS) / aarch64  OK    OK    OK  
Package 159/180HostnameOS / ArchINSTALLBUILDCHECKBUILD BIN
sitadela 1.17.1  (landing page)
Panagiotis Moulos
git_last_commit: adb286b
git_last_commit_date: 2025-07-23 18:20:06 -0400
nebbiolo2Linux (Ubuntu 24.04.3 LTS) / x86_64  OK    OK    OK  UNNEEDED, same version is already published
lconwaymacOS 12.7.1 Monterey / x86_64  OK    OK    OK    OK  UNNEEDED, same version is already published
kjohnson3macOS 13.7.7 Ventura / arm64  OK    OK    OK    OK  UNNEEDED, same version is already published
taishanLinux (openEuler 24.03 LTS) / aarch64  OK    OK    OK  
Package 160/180HostnameOS / ArchINSTALLBUILDCHECKBUILD BIN
soGGi 1.41.1  (landing page)
Tom Carroll
git_last_commit: 827dbf0
git_last_commit_date: 2025-07-24 19:39:30 -0400
nebbiolo2Linux (Ubuntu 24.04.3 LTS) / x86_64  OK    OK    ERROR  
lconwaymacOS 12.7.1 Monterey / x86_64  OK    OK    ERROR    OK  
kjohnson3macOS 13.7.7 Ventura / arm64  OK    OK    ERROR    OK  
taishanLinux (openEuler 24.03 LTS) / aarch64  OK    OK    ERROR  
Package 161/180HostnameOS / ArchINSTALLBUILDCHECKBUILD BIN
SOMNiBUS 1.17.0  (landing page)
Kathleen Klein
git_last_commit: 83171d7
git_last_commit_date: 2025-04-15 12:18:18 -0400
nebbiolo2Linux (Ubuntu 24.04.3 LTS) / x86_64  OK    OK    OK  UNNEEDED, same version is already published
lconwaymacOS 12.7.1 Monterey / x86_64  OK    OK    OK    OK  UNNEEDED, same version is already published
kjohnson3macOS 13.7.7 Ventura / arm64  OK    OK    OK    OK  UNNEEDED, same version is already published
taishanLinux (openEuler 24.03 LTS) / aarch64  OK    OK    OK  
Package 162/180HostnameOS / ArchINSTALLBUILDCHECKBUILD BIN
SpliceWiz 1.11.0  (landing page)
Alex Chit Hei Wong
git_last_commit: ff5b222
git_last_commit_date: 2025-04-15 12:53:12 -0400
nebbiolo2Linux (Ubuntu 24.04.3 LTS) / x86_64  OK    OK    WARNINGS  UNNEEDED, same version is already published
lconwaymacOS 12.7.1 Monterey / x86_64  OK    OK    WARNINGS    OK  UNNEEDED, same version is already published
kjohnson3macOS 13.7.7 Ventura / arm64  OK    OK    WARNINGS    OK  UNNEEDED, same version is already published
taishanLinux (openEuler 24.03 LTS) / aarch64  OK    OK    WARNINGS  
Package 163/180HostnameOS / ArchINSTALLBUILDCHECKBUILD BIN
srnadiff 1.29.1  (landing page)
Zytnicki Matthias
git_last_commit: b23c87f
git_last_commit_date: 2025-07-24 19:40:35 -0400
nebbiolo2Linux (Ubuntu 24.04.3 LTS) / x86_64  OK    OK    WARNINGS  UNNEEDED, same version is already published
lconwaymacOS 12.7.1 Monterey / x86_64  OK    OK    WARNINGS    OK  UNNEEDED, same version is already published
kjohnson3macOS 13.7.7 Ventura / arm64  OK    OK    WARNINGS    OK  UNNEEDED, same version is already published
taishanLinux (openEuler 24.03 LTS) / aarch64  OK    OK    WARNINGS  
Package 164/180HostnameOS / ArchINSTALLBUILDCHECKBUILD BIN
StructuralVariantAnnotation 1.25.0  (landing page)
Daniel Cameron
git_last_commit: 9429df7
git_last_commit_date: 2025-04-15 11:46:44 -0400
nebbiolo2Linux (Ubuntu 24.04.3 LTS) / x86_64  OK    OK    OK  UNNEEDED, same version is already published
lconwaymacOS 12.7.1 Monterey / x86_64  OK    OK    OK    OK  UNNEEDED, same version is already published
kjohnson3macOS 13.7.7 Ventura / arm64  OK    OK    OK    OK  UNNEEDED, same version is already published
taishanLinux (openEuler 24.03 LTS) / aarch64  OK    OK    OK  
Package 165/180HostnameOS / ArchINSTALLBUILDCHECKBUILD BIN
svaNUMT 1.15.1  (landing page)
Ruining Dong
git_last_commit: 5cfc9e8
git_last_commit_date: 2025-07-22 15:33:49 -0400
nebbiolo2Linux (Ubuntu 24.04.3 LTS) / x86_64  OK    OK    OK  UNNEEDED, same version is already published
lconwaymacOS 12.7.1 Monterey / x86_64  OK    OK    OK    OK  UNNEEDED, same version is already published
kjohnson3macOS 13.7.7 Ventura / arm64  OK    OK    OK    OK  UNNEEDED, same version is already published
taishanLinux (openEuler 24.03 LTS) / aarch64  OK    OK    OK  
Package 166/180HostnameOS / ArchINSTALLBUILDCHECKBUILD BIN
svaRetro 1.15.1  (landing page)
Ruining Dong
git_last_commit: 238534b
git_last_commit_date: 2025-07-22 15:51:26 -0400
nebbiolo2Linux (Ubuntu 24.04.3 LTS) / x86_64  OK    OK    OK  UNNEEDED, same version is already published
lconwaymacOS 12.7.1 Monterey / x86_64  OK    OK    OK    OK  UNNEEDED, same version is already published
kjohnson3macOS 13.7.7 Ventura / arm64  OK    OK    OK    OK  UNNEEDED, same version is already published
taishanLinux (openEuler 24.03 LTS) / aarch64  OK    OK    OK  
Package 167/180HostnameOS / ArchINSTALLBUILDCHECKBUILD BIN
TEKRABber 1.13.1  (landing page)
Yao-Chung Chen
git_last_commit: ca1a552
git_last_commit_date: 2025-07-22 22:08:33 -0400
nebbiolo2Linux (Ubuntu 24.04.3 LTS) / x86_64  OK    OK    OK  UNNEEDED, same version is already published
lconwaymacOS 12.7.1 Monterey / x86_64  OK    OK    OK    OK  UNNEEDED, same version is already published
kjohnson3macOS 13.7.7 Ventura / arm64  OK    OK    OK    OK  UNNEEDED, same version is already published
taishanLinux (openEuler 24.03 LTS) / aarch64  OK    OK    OK  
Package 168/180HostnameOS / ArchINSTALLBUILDCHECKBUILD BIN
TENET 1.1.90  (landing page)
Rhie Lab at the University of Southern California
git_last_commit: d7c49fe
git_last_commit_date: 2025-05-30 05:45:13 -0400
nebbiolo2Linux (Ubuntu 24.04.3 LTS) / x86_64  OK    OK    OK  UNNEEDED, same version is already published
lconwaymacOS 12.7.1 Monterey / x86_64  OK    OK    ERROR    OK  
kjohnson3macOS 13.7.7 Ventura / arm64  OK    OK    ERROR    OK  
taishanLinux (openEuler 24.03 LTS) / aarch64  OK    OK    ERROR  
Package 169/180HostnameOS / ArchINSTALLBUILDCHECKBUILD BIN
TFBSTools 1.47.1  (landing page)
Ge Tan
git_last_commit: 7e01146
git_last_commit_date: 2025-07-22 16:13:34 -0400
nebbiolo2Linux (Ubuntu 24.04.3 LTS) / x86_64  OK    OK    OK  UNNEEDED, same version is already published
lconwaymacOS 12.7.1 Monterey / x86_64  OK    OK    OK    OK  UNNEEDED, same version is already published
kjohnson3macOS 13.7.7 Ventura / arm64  OK    OK    OK    OK  UNNEEDED, same version is already published
taishanLinux (openEuler 24.03 LTS) / aarch64  OK    OK    OK  
Package 170/180HostnameOS / ArchINSTALLBUILDCHECKBUILD BIN
tidyCoverage 1.5.0  (landing page)
Jacques Serizay
git_last_commit: 7130a9e
git_last_commit_date: 2025-04-15 13:27:07 -0400
nebbiolo2Linux (Ubuntu 24.04.3 LTS) / x86_64  OK    OK    OK  UNNEEDED, same version is already published
lconwaymacOS 12.7.1 Monterey / x86_64  OK    OK    OK    OK  UNNEEDED, same version is already published
kjohnson3macOS 13.7.7 Ventura / arm64  OK    OK    OK    OK  UNNEEDED, same version is already published
taishanLinux (openEuler 24.03 LTS) / aarch64  OK    TIMEOUT  skipped
Package 171/180HostnameOS / ArchINSTALLBUILDCHECKBUILD BIN
trackViewer 1.45.2  (landing page)
Jianhong Ou
git_last_commit: 08abfdd
git_last_commit_date: 2025-07-23 18:41:03 -0400
nebbiolo2Linux (Ubuntu 24.04.3 LTS) / x86_64  OK    OK    OK  UNNEEDED, same version is already published
lconwaymacOS 12.7.1 Monterey / x86_64  OK    OK    OK    OK  UNNEEDED, same version is already published
kjohnson3macOS 13.7.7 Ventura / arm64  OK    OK    OK    OK  UNNEEDED, same version is already published
taishanLinux (openEuler 24.03 LTS) / aarch64  OK    OK    OK  
Package 172/180HostnameOS / ArchINSTALLBUILDCHECKBUILD BIN
transcriptR 1.37.0  (landing page)
Armen R. Karapetyan
git_last_commit: cdc425b
git_last_commit_date: 2025-04-15 10:57:04 -0400
nebbiolo2Linux (Ubuntu 24.04.3 LTS) / x86_64  OK    OK    WARNINGS  UNNEEDED, same version is already published
lconwaymacOS 12.7.1 Monterey / x86_64  OK    OK    WARNINGS    OK  UNNEEDED, same version is already published
kjohnson3macOS 13.7.7 Ventura / arm64  OK    OK    WARNINGS    OK  UNNEEDED, same version is already published
taishanLinux (openEuler 24.03 LTS) / aarch64  OK    OK    WARNINGS  
Package 173/180HostnameOS / ArchINSTALLBUILDCHECKBUILD BIN
TRESS 1.15.0  (landing page)
Zhenxing Guo
git_last_commit: 75fcb0a
git_last_commit_date: 2025-04-15 12:40:12 -0400
nebbiolo2Linux (Ubuntu 24.04.3 LTS) / x86_64  OK    OK    OK  UNNEEDED, same version is already published
lconwaymacOS 12.7.1 Monterey / x86_64  OK    OK    OK    OK  UNNEEDED, same version is already published
kjohnson3macOS 13.7.7 Ventura / arm64  OK    OK    OK    OK  UNNEEDED, same version is already published
taishanLinux (openEuler 24.03 LTS) / aarch64  OK    OK    OK  
Package 174/180HostnameOS / ArchINSTALLBUILDCHECKBUILD BIN
tRNAscanImport 1.29.1  (landing page)
Felix G.M. Ernst
git_last_commit: eb2703a
git_last_commit_date: 2025-09-23 06:56:30 -0400
nebbiolo2Linux (Ubuntu 24.04.3 LTS) / x86_64  OK    OK    OK  UNNEEDED, same version is already published
lconwaymacOS 12.7.1 Monterey / x86_64  OK    OK    OK    OK  UNNEEDED, same version is already published
kjohnson3macOS 13.7.7 Ventura / arm64  OK    OK    OK    OK  UNNEEDED, same version is already published
taishanLinux (openEuler 24.03 LTS) / aarch64  OK    OK    OK  
Package 175/180HostnameOS / ArchINSTALLBUILDCHECKBUILD BIN
txcutr 1.15.2  (landing page)
Mervin Fansler
git_last_commit: e01f0e7
git_last_commit_date: 2025-09-07 08:44:28 -0400
nebbiolo2Linux (Ubuntu 24.04.3 LTS) / x86_64  OK    OK    OK  UNNEEDED, same version is already published
lconwaymacOS 12.7.1 Monterey / x86_64  OK    OK    OK    OK  UNNEEDED, same version is already published
kjohnson3macOS 13.7.7 Ventura / arm64  OK    OK    OK    OK  UNNEEDED, same version is already published
taishanLinux (openEuler 24.03 LTS) / aarch64  OK    OK    OK  
Package 176/180HostnameOS / ArchINSTALLBUILDCHECKBUILD BIN
txdbmaker 1.5.6  (landing page)
H. Pagès
git_last_commit: c61f229
git_last_commit_date: 2025-06-23 00:38:48 -0400
nebbiolo2Linux (Ubuntu 24.04.3 LTS) / x86_64  OK    OK    OK  UNNEEDED, same version is already published
lconwaymacOS 12.7.1 Monterey / x86_64  OK    OK    OK    OK  UNNEEDED, same version is already published
kjohnson3macOS 13.7.7 Ventura / arm64  OK    OK    OK    OK  UNNEEDED, same version is already published
taishanLinux (openEuler 24.03 LTS) / aarch64  OK    OK    OK  
Package 177/180HostnameOS / ArchINSTALLBUILDCHECKBUILD BIN
VariantAnnotation 1.55.1  (landing page)
Bioconductor Package Maintainer
git_last_commit: 5b9c386
git_last_commit_date: 2025-06-20 19:10:12 -0400
nebbiolo2Linux (Ubuntu 24.04.3 LTS) / x86_64  OK    OK    WARNINGS  UNNEEDED, same version is already published
lconwaymacOS 12.7.1 Monterey / x86_64  OK    OK    WARNINGS    OK  UNNEEDED, same version is already published
kjohnson3macOS 13.7.7 Ventura / arm64  OK    OK    WARNINGS    OK  UNNEEDED, same version is already published
taishanLinux (openEuler 24.03 LTS) / aarch64  OK    OK    WARNINGS  
Package 178/180HostnameOS / ArchINSTALLBUILDCHECKBUILD BIN
VariantTools 1.51.0  (landing page)
Michael Lawrence
git_last_commit: 1b0edab
git_last_commit_date: 2025-07-15 19:49:03 -0400
nebbiolo2Linux (Ubuntu 24.04.3 LTS) / x86_64  OK    OK    WARNINGS  UNNEEDED, same version is already published
lconwaymacOS 12.7.1 Monterey / x86_64  OK    OK    WARNINGS    OK  UNNEEDED, same version is already published
kjohnson3macOS 13.7.7 Ventura / arm64  OK    OK    ERROR    OK  
taishanLinux (openEuler 24.03 LTS) / aarch64  OK    OK    WARNINGS  
Package 179/180HostnameOS / ArchINSTALLBUILDCHECKBUILD BIN
wavClusteR 2.43.0  (landing page)
Federico Comoglio
git_last_commit: d3893ef
git_last_commit_date: 2025-04-15 10:31:43 -0400
nebbiolo2Linux (Ubuntu 24.04.3 LTS) / x86_64  OK    OK    OK  UNNEEDED, same version is already published
lconwaymacOS 12.7.1 Monterey / x86_64  OK    OK    OK    OK  UNNEEDED, same version is already published
kjohnson3macOS 13.7.7 Ventura / arm64  OK    OK    OK    OK  UNNEEDED, same version is already published
taishanLinux (openEuler 24.03 LTS) / aarch64  OK    OK    OK  
Package 180/180HostnameOS / ArchINSTALLBUILDCHECKBUILD BIN
wiggleplotr 1.33.0  (landing page)
Kaur Alasoo
git_last_commit: f669792
git_last_commit_date: 2025-04-15 11:09:52 -0400
nebbiolo2Linux (Ubuntu 24.04.3 LTS) / x86_64  OK    ERROR  skipped
lconwaymacOS 12.7.1 Monterey / x86_64  OK    ERROR  skippedskipped
kjohnson3macOS 13.7.7 Ventura / arm64  OK    ERROR  skippedskipped
taishanLinux (openEuler 24.03 LTS) / aarch64  OK    ERROR  skipped