Back to Multiple platform build/check report for BioC 3.22:   simplified   long
ABCDEFGHIJKL[M]NOPQRSTUVWXYZ

This page was generated on 2025-10-11 12:03 -0400 (Sat, 11 Oct 2025).

HostnameOSArch (*)R versionInstalled pkgs
nebbiolo2Linux (Ubuntu 24.04.3 LTS)x86_644.5.1 Patched (2025-08-23 r88802) -- "Great Square Root" 4864
lconwaymacOS 12.7.1 Montereyx86_644.5.1 Patched (2025-09-10 r88807) -- "Great Square Root" 4652
kjohnson3macOS 13.7.7 Venturaarm644.5.1 Patched (2025-09-10 r88807) -- "Great Square Root" 4597
taishanLinux (openEuler 24.03 LTS)aarch644.5.0 (2025-04-11) -- "How About a Twenty-Six" 4586
Click on any hostname to see more info about the system (e.g. compilers)      (*) as reported by 'uname -p', except on Windows and Mac OS X

Package 1185/2346HostnameOS / ArchINSTALLBUILDCHECKBUILD BIN
maser 1.27.1  (landing page)
Diogo F.T. Veiga
Snapshot Date: 2025-10-10 13:45 -0400 (Fri, 10 Oct 2025)
git_url: https://git.bioconductor.org/packages/maser
git_branch: devel
git_last_commit: 684a35f
git_last_commit_date: 2025-07-23 12:30:32 -0400 (Wed, 23 Jul 2025)
nebbiolo2Linux (Ubuntu 24.04.3 LTS) / x86_64  OK    OK    OK  UNNEEDED, same version is already published
lconwaymacOS 12.7.1 Monterey / x86_64  OK    OK    OK    OK  UNNEEDED, same version is already published
kjohnson3macOS 13.7.7 Ventura / arm64  OK    OK    OK    OK  UNNEEDED, same version is already published
taishanLinux (openEuler 24.03 LTS) / aarch64  OK    OK    OK  


CHECK results for maser on nebbiolo2

To the developers/maintainers of the maser package:
- Allow up to 24 hours (and sometimes 48 hours) for your latest push to git@git.bioconductor.org:packages/maser.git to reflect on this report. See Troubleshooting Build Report for more information.
- Use the following Renviron settings to reproduce errors and warnings.
- If 'R CMD check' started to fail recently on the Linux builder(s) over a missing dependency, add the missing dependency to 'Suggests:' in your DESCRIPTION file. See Renviron.bioc for more information.

raw results


Summary

Package: maser
Version: 1.27.1
Command: /home/biocbuild/bbs-3.22-bioc/R/bin/R CMD check --install=check:maser.install-out.txt --library=/home/biocbuild/bbs-3.22-bioc/R/site-library --timings maser_1.27.1.tar.gz
StartedAt: 2025-10-11 01:30:30 -0400 (Sat, 11 Oct 2025)
EndedAt: 2025-10-11 01:39:00 -0400 (Sat, 11 Oct 2025)
EllapsedTime: 510.6 seconds
RetCode: 0
Status:   OK  
CheckDir: maser.Rcheck
Warnings: 0

Command output

##############################################################################
##############################################################################
###
### Running command:
###
###   /home/biocbuild/bbs-3.22-bioc/R/bin/R CMD check --install=check:maser.install-out.txt --library=/home/biocbuild/bbs-3.22-bioc/R/site-library --timings maser_1.27.1.tar.gz
###
##############################################################################
##############################################################################


* using log directory ‘/home/biocbuild/bbs-3.22-bioc/meat/maser.Rcheck’
* using R version 4.5.1 Patched (2025-08-23 r88802)
* using platform: x86_64-pc-linux-gnu
* R was compiled by
    gcc (Ubuntu 13.3.0-6ubuntu2~24.04) 13.3.0
    GNU Fortran (Ubuntu 13.3.0-6ubuntu2~24.04) 13.3.0
* running under: Ubuntu 24.04.3 LTS
* using session charset: UTF-8
* checking for file ‘maser/DESCRIPTION’ ... OK
* checking extension type ... Package
* this is package ‘maser’ version ‘1.27.1’
* package encoding: UTF-8
* checking package namespace information ... OK
* checking package dependencies ... OK
* checking if this is a source package ... OK
* checking if there is a namespace ... OK
* checking for hidden files and directories ... OK
* checking for portable file names ... OK
* checking for sufficient/correct file permissions ... OK
* checking whether package ‘maser’ can be installed ... OK
* checking installed package size ... OK
* checking package directory ... OK
* checking ‘build’ directory ... OK
* checking DESCRIPTION meta-information ... OK
* checking top-level files ... OK
* checking for left-over files ... OK
* checking index information ... OK
* checking package subdirectories ... OK
* checking code files for non-ASCII characters ... OK
* checking R files for syntax errors ... OK
* checking whether the package can be loaded ... OK
* checking whether the package can be loaded with stated dependencies ... OK
* checking whether the package can be unloaded cleanly ... OK
* checking whether the namespace can be loaded with stated dependencies ... OK
* checking whether the namespace can be unloaded cleanly ... OK
* checking loading without being on the library search path ... OK
* checking whether startup messages can be suppressed ... OK
* checking dependencies in R code ... OK
* checking S3 generic/method consistency ... OK
* checking replacement functions ... OK
* checking foreign function calls ... OK
* checking R code for possible problems ... NOTE
availableFeaturesUniprotKB: no visible global function definition for
  'read.csv'
availableFeaturesUniprotKB: no visible binding for global variable
  'Category'
availableFeaturesUniprotKB: no visible binding for global variable
  'Name'
filterByIds: no visible binding for global variable 'ID'
mapTranscriptsA3SSevent: no visible global function definition for
  'subjectHits'
mapTranscriptsA5SSevent: no visible global function definition for
  'subjectHits'
mapTranscriptsMXEevent: no visible global function definition for
  'subjectHits'
mapTranscriptsRIevent: no visible global function definition for
  'subjectHits'
mapTranscriptsSEevent: no visible global function definition for
  'subjectHits'
overlappingFeatures: no visible global function definition for
  'subjectHits'
urlTracksUniprotKB: no visible global function definition for
  'read.csv'
Undefined global functions or variables:
  Category ID Name read.csv subjectHits
Consider adding
  importFrom("utils", "read.csv")
to your NAMESPACE file.
* checking Rd files ... OK
* checking Rd metadata ... OK
* checking Rd cross-references ... OK
* checking for missing documentation entries ... OK
* checking for code/documentation mismatches ... OK
* checking Rd \usage sections ... OK
* checking Rd contents ... OK
* checking for unstated dependencies in examples ... OK
* checking R/sysdata.rda ... OK
* checking files in ‘vignettes’ ... OK
* checking examples ... OK
Examples with CPU (user + system) or elapsed time > 5s
                       user system elapsed
plotTranscripts       7.210  0.591   7.801
plotUniprotKBFeatures 6.095  0.434   7.526
* checking for unstated dependencies in vignettes ... OK
* checking package vignettes ... OK
* checking re-building of vignette outputs ... OK
* checking PDF version of manual ... OK
* DONE

Status: 1 NOTE
See
  ‘/home/biocbuild/bbs-3.22-bioc/meat/maser.Rcheck/00check.log’
for details.


Installation output

maser.Rcheck/00install.out

##############################################################################
##############################################################################
###
### Running command:
###
###   /home/biocbuild/bbs-3.22-bioc/R/bin/R CMD INSTALL maser
###
##############################################################################
##############################################################################


* installing to library ‘/home/biocbuild/bbs-3.22-bioc/R/site-library’
* installing *source* package ‘maser’ ...
** this is package ‘maser’ version ‘1.27.1’
** using staged installation
** R
** inst
** byte-compile and prepare package for lazy loading
** help
*** installing help indices
** building package indices
** installing vignettes
** testing if installed package can be loaded from temporary location
** testing if installed package can be loaded from final location
** testing if installed package keeps a record of temporary installation path
* DONE (maser)

Tests output


Example timings

maser.Rcheck/maser-Ex.timings

nameusersystemelapsed
PSI-Maser-character-method0.6100.0150.626
PSI0.4840.0500.534
annotation-Maser-method0.4580.0010.459
availableFeaturesUniprotKB0.0770.0050.277
boxplot_PSI_levels1.6220.0011.623
counts-Maser-method1.6310.0591.690
display1.4010.1291.533
dotplot1.2620.0051.267
filterByCoverage0.8140.0090.823
filterByEventId0.7210.0010.721
geneEvents0.7670.0100.777
granges-Maser-method0.5290.0040.534
mapProteinFeaturesToEvents3.4960.1644.920
mapTranscriptsToEvents2.7180.3183.037
maser0.4980.0140.512
pca1.0970.0391.137
plotGenePSI1.6710.1141.785
plotTranscripts7.2100.5917.801
plotUniprotKBFeatures6.0950.4347.526
splicingDistribution1.1880.0821.271
summary-Maser-method0.6180.0290.647
topEvents0.8300.0430.873
volcano1.1620.1241.287