Back to Multiple platform build/check report for BioC 3.22:   simplified   long
AB[C]DEFGHIJKLMNOPQRSTUVWXYZ

This page was generated on 2025-10-02 12:03 -0400 (Thu, 02 Oct 2025).

HostnameOSArch (*)R versionInstalled pkgs
nebbiolo2Linux (Ubuntu 24.04.3 LTS)x86_644.5.1 Patched (2025-08-23 r88802) -- "Great Square Root" 4844
lconwaymacOS 12.7.1 Montereyx86_644.5.1 Patched (2025-09-10 r88807) -- "Great Square Root" 4631
kjohnson3macOS 13.7.7 Venturaarm644.5.1 Patched (2025-09-10 r88807) -- "Great Square Root" 4576
taishanLinux (openEuler 24.03 LTS)aarch644.5.0 (2025-04-11) -- "How About a Twenty-Six" 4576
Click on any hostname to see more info about the system (e.g. compilers)      (*) as reported by 'uname -p', except on Windows and Mac OS X

Package 440/2337HostnameOS / ArchINSTALLBUILDCHECKBUILD BIN
conumee 1.43.1  (landing page)
Volker Hovestadt
Snapshot Date: 2025-10-01 13:45 -0400 (Wed, 01 Oct 2025)
git_url: https://git.bioconductor.org/packages/conumee
git_branch: devel
git_last_commit: a54093b
git_last_commit_date: 2025-07-24 19:14:19 -0400 (Thu, 24 Jul 2025)
nebbiolo2Linux (Ubuntu 24.04.3 LTS) / x86_64  OK    OK    OK  UNNEEDED, same version is already published
lconwaymacOS 12.7.1 Monterey / x86_64  OK    OK    OK    OK  UNNEEDED, same version is already published
kjohnson3macOS 13.7.7 Ventura / arm64  OK    OK    OK    OK  UNNEEDED, same version is already published
taishanLinux (openEuler 24.03 LTS) / aarch64  OK    OK    OK  


CHECK results for conumee on nebbiolo2

To the developers/maintainers of the conumee package:
- Allow up to 24 hours (and sometimes 48 hours) for your latest push to git@git.bioconductor.org:packages/conumee.git to reflect on this report. See Troubleshooting Build Report for more information.
- Use the following Renviron settings to reproduce errors and warnings.
- If 'R CMD check' started to fail recently on the Linux builder(s) over a missing dependency, add the missing dependency to 'Suggests:' in your DESCRIPTION file. See Renviron.bioc for more information.

raw results


Summary

Package: conumee
Version: 1.43.1
Command: /home/biocbuild/bbs-3.22-bioc/R/bin/R CMD check --install=check:conumee.install-out.txt --library=/home/biocbuild/bbs-3.22-bioc/R/site-library --timings conumee_1.43.1.tar.gz
StartedAt: 2025-10-01 22:54:14 -0400 (Wed, 01 Oct 2025)
EndedAt: 2025-10-01 23:20:50 -0400 (Wed, 01 Oct 2025)
EllapsedTime: 1596.7 seconds
RetCode: 0
Status:   OK  
CheckDir: conumee.Rcheck
Warnings: 0

Command output

##############################################################################
##############################################################################
###
### Running command:
###
###   /home/biocbuild/bbs-3.22-bioc/R/bin/R CMD check --install=check:conumee.install-out.txt --library=/home/biocbuild/bbs-3.22-bioc/R/site-library --timings conumee_1.43.1.tar.gz
###
##############################################################################
##############################################################################


* using log directory ‘/home/biocbuild/bbs-3.22-bioc/meat/conumee.Rcheck’
* using R version 4.5.1 Patched (2025-08-23 r88802)
* using platform: x86_64-pc-linux-gnu
* R was compiled by
    gcc (Ubuntu 13.3.0-6ubuntu2~24.04) 13.3.0
    GNU Fortran (Ubuntu 13.3.0-6ubuntu2~24.04) 13.3.0
* running under: Ubuntu 24.04.3 LTS
* using session charset: UTF-8
* checking for file ‘conumee/DESCRIPTION’ ... OK
* this is package ‘conumee’ version ‘1.43.1’
* checking package namespace information ... OK
* checking package dependencies ... OK
* checking if this is a source package ... OK
* checking if there is a namespace ... OK
* checking for hidden files and directories ... NOTE
Found the following hidden files and directories:
  .BBSoptions
These were most likely included in error. See section ‘Package
structure’ in the ‘Writing R Extensions’ manual.
* checking for portable file names ... OK
* checking for sufficient/correct file permissions ... OK
* checking whether package ‘conumee’ can be installed ... OK
* checking installed package size ... OK
* checking package directory ... OK
* checking ‘build’ directory ... OK
* checking DESCRIPTION meta-information ... OK
* checking top-level files ... OK
* checking for left-over files ... OK
* checking index information ... OK
* checking package subdirectories ... OK
* checking code files for non-ASCII characters ... OK
* checking R files for syntax errors ... OK
* checking whether the package can be loaded ... OK
* checking whether the package can be loaded with stated dependencies ... OK
* checking whether the package can be unloaded cleanly ... OK
* checking whether the namespace can be loaded with stated dependencies ... OK
* checking whether the namespace can be unloaded cleanly ... OK
* checking loading without being on the library search path ... OK
* checking dependencies in R code ... OK
* checking S3 generic/method consistency ... OK
* checking replacement functions ... OK
* checking foreign function calls ... OK
* checking R code for possible problems ... NOTE
CNV.load,GenomicRatioSet: no visible global function definition for
  ‘assays’
CNV.load,matrix: no visible binding for global variable ‘anno’
Undefined global functions or variables:
  anno assays
* checking Rd files ... OK
* checking Rd metadata ... OK
* checking Rd cross-references ... OK
* checking for missing documentation entries ... OK
* checking for code/documentation mismatches ... OK
* checking Rd \usage sections ... OK
* checking Rd contents ... OK
* checking for unstated dependencies in examples ... OK
* checking contents of ‘data’ directory ... OK
* checking data for non-ASCII characters ... OK
* checking data for ASCII and uncompressed saves ... OK
* checking R/sysdata.rda ... OK
* checking files in ‘vignettes’ ... OK
* checking examples ... OK
Examples with CPU (user + system) or elapsed time > 5s
                      user system elapsed
CNV.write           59.817  1.092  61.283
CNV.genomeplot      55.528  2.101  57.647
CNV.analysis-class  55.807  1.401  58.036
CNV.detailplot      51.914  0.781  52.696
CNV.detailplot_wrap 51.667  0.769  52.437
CNV.segment         50.518  0.620  51.319
CNV.fit             30.333  1.794  32.133
CNV.detail          27.107  0.419  27.584
CNV.anno-class      25.739  0.556  26.321
CNV.bin             25.895  0.312  26.208
CNV.create_anno     21.754  0.138  21.895
read.450k.url        7.325  0.638  14.129
* checking for unstated dependencies in vignettes ... OK
* checking package vignettes ... OK
* checking re-building of vignette outputs ... OK
* checking PDF version of manual ... OK
* DONE

Status: 2 NOTEs
See
  ‘/home/biocbuild/bbs-3.22-bioc/meat/conumee.Rcheck/00check.log’
for details.


Installation output

conumee.Rcheck/00install.out

##############################################################################
##############################################################################
###
### Running command:
###
###   /home/biocbuild/bbs-3.22-bioc/R/bin/R CMD INSTALL conumee
###
##############################################################################
##############################################################################


* installing to library ‘/home/biocbuild/bbs-3.22-bioc/R/site-library’
* installing *source* package ‘conumee’ ...
** this is package ‘conumee’ version ‘1.43.1’
** using staged installation
** R
** data
** inst
** byte-compile and prepare package for lazy loading
** help
*** installing help indices
** building package indices
** installing vignettes
** testing if installed package can be loaded from temporary location
** testing if installed package can be loaded from final location
** testing if installed package keeps a record of temporary installation path
* DONE (conumee)

Tests output


Example timings

conumee.Rcheck/conumee-Ex.timings

nameusersystemelapsed
CNV.analysis-class55.807 1.40158.036
CNV.anno-class25.739 0.55626.321
CNV.bin25.895 0.31226.208
CNV.create_anno21.754 0.13821.895
CNV.data-class1.880.091.97
CNV.detail27.107 0.41927.584
CNV.detailplot51.914 0.78152.696
CNV.detailplot_wrap51.667 0.76952.437
CNV.fit30.333 1.79432.133
CNV.genomeplot55.528 2.10157.647
CNV.load1.0580.1251.183
CNV.segment50.518 0.62051.319
CNV.write59.817 1.09261.283
read.450k.url 7.325 0.63814.129