Build/check report for BioC 3.22 experimental data

This page was generated on 2025-10-30 15:35 -0400 (Thu, 30 Oct 2025).

Approx. Package Snapshot Date/Time (git pull): 2025-10-30 07:30 -0400 (Thu, 30 Oct 2025)
See this page for all the Bioconductor builds and their schedule.

HostnameOSArch (*)R versionInstalled pkgs
nebbiolo2Linux (Ubuntu 24.04.3 LTS)x86_644.5.1 Patched (2025-08-23 r88802) -- "Great Square Root" 4901
Click on any hostname to see more info about the system (e.g. compilers)      (*) as reported by 'uname -p', except on Windows and Mac OS X

Package status is indicated by one of the following glyphs
  TIMEOUT  
INSTALL, BUILD or CHECK of package took more than 40, 80 or 80 minutes, respectively
  ERROR  
Bad DESCRIPTION file, or INSTALL or BUILD of package failed, or CHECK produced errors
  WARNINGS  
CHECK of package produced warnings
  OK  
INSTALL, BUILD or CHECK of package went OK
  NA  
INSTALL, BUILD or CHECK result is not available because of an anomaly in the Build System
skipped
CHECK of package was skipped because the BUILD step failed
Click on any glyph in the report below to access the detailed report.
Package propagation status is indicated by one of the following LEDs
YES YES: Package was propagated because it didn't previously exist or version was bumped
NO NO: Package was not propagated because of a problem (impossible dependencies, or version lower than what is already propagated)
UNNEEDED UNNEEDED: Package was not propagated because it is already in the repository with this version. A version bump is required in order to propagate it

A crossed-out package name indicates that the package is deprecated


QUICK STATSOS / ArchINSTALLBUILDCHECK
nebbiolo2Linux (Ubuntu 24.04.3 LTS) / x86_64
00435
05430
002238
A
ABCDEFGHIJKLMNOPQRSTUVWXYZ
PackageMaintainerINSTALLBUILDCHECK
1/435adductData 1.26.0  (landing page)Josie Hayes  OK    OK    OK  YES
2/435affycompData 1.48.0  (landing page)Robert D Shear  OK    OK    OK  YES
3/435affydata 1.58.0  (landing page)Robert D Shear  OK    OK    WARNINGS  YES
4/435Affyhgu133A2Expr 1.46.0  (landing page)Zhicheng Ji  OK    OK    OK  YES
5/435Affyhgu133aExpr 1.48.0  (landing page)Zhicheng Ji  OK    OK    OK  YES
6/435Affyhgu133Plus2Expr 1.44.0  (landing page)Zhicheng Ji  OK    OK    OK  YES
7/435AffymetrixDataTestFiles 0.48.0  (landing page)Henrik Bengtsson  OK    OK    OK  YES
8/435Affymoe4302Expr 1.48.0  (landing page)Zhicheng Ji  OK    OK    OK  YES
9/435airway 1.30.0  (landing page)Michael Love  OK    OK    WARNINGS  YES
10/435ALL 1.52.0  (landing page)Robert Gentleman  OK    OK    OK  YES
11/435ALLMLL 1.50.0  (landing page)B. M. Bolstad  OK    OK    OK  YES
12/435AmpAffyExample 1.50.0  (landing page)Robert D Shear  OK    OK    WARNINGS  YES
13/435AneuFinderData 1.38.0  (landing page)Aaron Taudt  OK    OK    WARNINGS  YES
14/435antiProfilesData 1.46.0  (landing page)Hector Corrada Bravo  OK    OK    OK  YES
15/435aracne.networks 1.36.0  (landing page)Federico M. Giorgi , Mariano Alvarez  OK    OK    NA  
16/435ARRmData 1.46.0  (landing page)Jean-Philippe Fortin  OK    OK    OK  YES
17/435AshkenazimSonChr21 1.40.0  (landing page)Who to complain to  OK    OK    OK  YES
18/435ASICSdata 1.30.0  (landing page)Gaëlle Lefort  OK    OK    OK  YES
19/435AssessORFData 1.28.0  (landing page)Nicholas Cooley  OK    OK    OK  YES
20/435AWAggregatorData 1.0.0  (landing page)Jiahua Tan  OK    OK    OK  YES
B
ABCDEFGHIJKLMNOPQRSTUVWXYZ
PackageMaintainerINSTALLBUILDCHECK
21/435bcellViper 1.46.0  (landing page)Mariano Javier Alvarez  OK    OK    OK  YES
22/435beadarrayExampleData 1.48.0  (landing page)Mark Dunning  OK    OK    OK  NO, package depends on 'beadarray' which is not available
23/435BeadArrayUseCases 1.48.0  (landing page)Mike Smith  OK    OK    NA  
24/435BeadSorted.Saliva.EPIC 1.18.0  (landing page)Jonah Fisher  OK    OK    OK  YES
25/435beta7 1.48.0  (landing page)Jean Yang  OK    OK    WARNINGS  YES
26/435BioImageDbs 1.18.0  (landing page)Satoshi Kume  OK    OK    OK  YES
27/435BioPlex 1.16.0  (landing page)Ludwig Geistlinger  OK    ERROR  skipped
28/435biotmleData 1.34.0  (landing page)Nima Hejazi  OK    OK    WARNINGS  YES
29/435biscuiteerData 1.24.0  (landing page)"Jacob Morrison"  OK    OK    OK  YES
30/435bladderbatch 1.48.0  (landing page)Jeffrey T. Leek  OK    OK    WARNINGS  YES
31/435blimaTestingData 1.30.0  (landing page)Vojtech Kulvait  OK    OK    OK  YES
32/435BloodCancerMultiOmics2017 1.30.0  (landing page)Małgorzata Oleś  OK    OK    NA  
33/435bodymapRat 1.26.0  (landing page)Stephanie Hicks  OK    OK    OK  YES
34/435breakpointRdata 1.28.0  (landing page)David Porubsky  OK    OK    OK  YES
35/435breastCancerMAINZ 1.48.0  (landing page)Markus Schroeder , Benjamin Haibe-Kains  OK    OK    WARNINGS  YES
36/435breastCancerNKI 1.48.0  (landing page)Markus Schroeder , Benjamin Haibe-Kains  OK    OK    WARNINGS  YES
37/435breastCancerTRANSBIG 1.48.0  (landing page)Markus Schroeder , Benjamin Haibe-Kains  OK    OK    WARNINGS  YES
38/435breastCancerUNT 1.48.0  (landing page)Markus Schroeder , Benjamin Haibe-Kains  OK    OK    WARNINGS  YES
39/435breastCancerUPP 1.48.0  (landing page)Markus Schroeder , Benjamin Haibe-Kains  OK    OK    WARNINGS  YES
40/435breastCancerVDX 1.48.0  (landing page)Markus Schroeder , Benjamin Haibe-Kains  OK    OK    WARNINGS  YES
41/435brgedata 1.32.0  (landing page)Dolors Pelegri-Siso  OK    OK    WARNINGS  YES
42/435bronchialIL13 1.48.0  (landing page)Vince Carey  OK    OK    OK  YES
43/435bsseqData 0.48.0  (landing page)Kasper Daniel Hansen  OK    OK    WARNINGS  YES
44/435bugphyzz 1.4.0  (landing page)Samuel Gamboa  OK    OK    NA  
C
ABCDEFGHIJKLMNOPQRSTUVWXYZ
PackageMaintainerINSTALLBUILDCHECK
45/435cancerdata 1.48.0  (landing page)Daniel Kosztyla  OK    OK    OK  YES
46/435CardinalWorkflows 1.42.0  (landing page)Kylie A. Bemis  OK    OK    NA  
47/435ccdata 1.36.0  (landing page)Alex Pickering  OK    OK    WARNINGS  YES
48/435CCl4 1.48.0  (landing page)Audrey Kauffmann  OK    OK    WARNINGS  YES
49/435celarefData 1.28.0  (landing page)Sarah Williams  OK    OK    OK  YES
50/435celldex 1.20.0  (landing page)Aaron Lun  OK    OK    NA  
51/435CellMapperData 1.36.0  (landing page)Brad Nelms  OK    OK    OK  YES
52/435CENTREprecomputed 1.0.0  (landing page)Sara Lopez Ruiz de Vargas  OK    OK    OK  YES
53/435cfToolsData 1.8.0  (landing page)Ran Hu  OK    OK    OK  YES
54/435ChAMPdata 2.42.0  (landing page)Yuan Tian  OK    OK    NA  
55/435ChimpHumanBrainData 1.48.0  (landing page)Sean Davis  OK    OK    OK  YES
56/435ChIPDBData 1.0.0  (landing page)Yosra Berrouayel  OK    OK    OK  YES
57/435chipenrich.data 2.34.0  (landing page)Kai Wang  OK    OK    NA  
58/435ChIPexoQualExample 1.34.0  (landing page)Rene Welch  OK    OK    OK  YES
59/435chipseqDBData 1.26.0  (landing page)Aaron Lun  OK    OK    OK  YES
60/435ChIPXpressData 1.48.0  (landing page)George Wu  OK    OK    NA  
61/435chromstaRData 1.36.0  (landing page)Aaron Taudt  OK    OK    WARNINGS  YES
62/435CLL 1.50.0  (landing page)Robert Gentleman  OK    OK    OK  YES
63/435CLLmethylation 1.30.0  (landing page)Malgorzata Oles , Andreas Mock  OK    OK    NA  
64/435CluMSIDdata 1.26.0  (landing page)Tobias Depke  OK    OK    OK  YES
65/435clustifyrdatahub 1.20.0  (landing page)Kent Riemondy  OK    OK    NA  
66/435cMap2data 1.46.0  (landing page)J. Saez-Rodriguez  OK    OK    WARNINGS  YES
67/435cnvGSAdata 1.46.0  (landing page)Joseph Lugo  OK    OK    WARNINGS  YES
68/435COHCAPanno 1.46.0  (landing page)Charles Warden  OK    OK    OK  YES
69/435colonCA 1.52.0  (landing page)W Sylvia Merk  OK    OK    WARNINGS  YES
70/435CONFESSdata 1.38.0  (landing page)Diana LOW  OK    OK    OK  YES
71/435ConnectivityMap 1.46.0  (landing page)Paul Shannon  OK    OK    NA  
72/435COPDSexualDimorphism.data 1.46.0  (landing page)J Fah Sathirapongsasuti  OK    OK    WARNINGS  YES
73/435CopyhelpeR 1.42.0  (landing page)Oscar Krijgsman  OK    OK    OK  YES
74/435CopyNeutralIMA 1.28.0  (landing page)Xavier Pastor Hostench  OK    OK    NA  
75/435CoSIAdata 1.10.0  (landing page)Amanda D. Clark  OK    OK    NA  
76/435COSMIC.67 1.46.0  (landing page)Julian Gehring  OK    OK    NA  
77/435CRCL18 1.30.0  (landing page)Claudio Isella  OK    OK    NA  
78/435crisprScoreData 1.14.0  (landing page)Jean-Philippe Fortin  OK    OK    NA  
79/435curatedAdipoArray 1.22.0  (landing page)Mahmoud Ahmed  OK    OK    NA  
80/435curatedAdipoChIP 1.26.0  (landing page)Mahmoud Ahmed  OK    OK    NA  
81/435curatedAdipoRNA 1.26.0  (landing page)Mahmoud Ahmed  OK    OK    NA  
82/435curatedBladderData 1.46.0  (landing page)Markus Riester  OK    OK    NA  
83/435curatedBreastData 2.38.0  (landing page)Katie Planey  OK    OK    NA  
84/435curatedCRCData 2.42.0  (landing page)Princy Parsana  OK    OK    NA  
85/435curatedMetagenomicData 3.18.0  (landing page)Lucas schiffer  OK    OK    NA  
86/435curatedOvarianData 1.48.0  (landing page)Levi Waldron  OK    OK    NA  
87/435curatedPCaData 1.6.0  (landing page)Teemu Daniel Laajala  OK    OK    NA  
88/435curatedTBData 2.6.0  (landing page)Xutao Wang  OK    OK    NA  
89/435curatedTCGAData 1.32.0  (landing page)Marcel Ramos  OK    OK    NA  
90/435CytoMethIC 1.6.0  (landing page)Jacob Fanale  OK    OK    NA  
D
ABCDEFGHIJKLMNOPQRSTUVWXYZ
PackageMaintainerINSTALLBUILDCHECK
91/435DAPARdata 1.40.0  (landing page)Samuel Wieczorek  OK    OK    NA  
92/435davidTiling 1.50.0  (landing page)Wolfgang Huber  OK    OK    NA  
93/435depmap 1.24.0  (landing page)Laurent Gatto  OK    OK    NA  
94/435derfinderData 2.28.0  (landing page)Leonardo Collado-Torres  OK    OK    NA  
95/435DeSousa2013 1.46.0  (landing page)Xin Wang  OK    OK    NA  
96/435DExMAdata 1.18.0  (landing page)Juan Antonio Villatoro-García  OK    OK    NA  
97/435diffloopdata 1.38.0  (landing page)Caleb Lareau  OK    OK    NA  
98/435diggitdata 1.42.0  (landing page)Mariano Javier Alvarez  OK    OK    NA  
99/435DLBCL 1.50.0  (landing page)Marcus Dittrich  OK    OK    NA  
100/435DMRcatedata 2.28.0  (landing page)Tim Peters  OK    OK    NA  
101/435DNAZooData 1.10.0  (landing page)Jacques Serizay  OK    OK    NA  
102/435DonaPLLP2013 1.48.0  (landing page)Joseph D. Barry  OK    OK    NA  
103/435DoReMiTra 1.0.0  (landing page)Ahmed Salah  OK    OK    NA  
104/435dorothea 1.22.0  (landing page)Pau Badia-i-Mompel  OK    OK    NA  
105/435dressCheck 0.48.0  (landing page)Vincent Carey  OK    OK    NA  
106/435DropletTestFiles 1.20.0  (landing page)Aaron Lun  OK    OK    NA  
107/435DrugVsDiseasedata 1.46.0  (landing page)J. Saez-Rodriguez  OK    OK    NA  
108/435DuoClustering2018 1.28.0  (landing page)Angelo Duò  OK    OK    NA  
109/435DvDdata 1.46.0  (landing page)J. Saez-Rodriguez  OK    OK    NA  
110/435dyebiasexamples 1.50.0  (landing page)Philip Lijnzaad  OK    OK    NA  
E
ABCDEFGHIJKLMNOPQRSTUVWXYZ
PackageMaintainerINSTALLBUILDCHECK
111/435easierData 1.16.0  (landing page)Oscar Lapuente-Santana  OK    OK    NA  
112/435EatonEtAlChIPseq 0.48.0  (landing page)Patrick Aboyoun  OK    OK    NA  
113/435ecoliLeucine 1.50.0  (landing page)Laurent Gautier  OK    OK    NA  
114/435EGSEAdata 1.38.0  (landing page)Monther Alhamdoosh  OK    OK    NA  
115/435ELMER.data 2.34.0  (landing page)Tiago Chedraoui Silva  OK    OK    NA  
116/435emtdata 1.18.0  (landing page)Malvika D. Kharbanda  OK    OK    NA  
117/435eoPredData 1.4.0  (landing page)Victor Yuan  OK    OK    NA  
118/435EpiMix.data 1.12.0  (landing page)Yuanning Zheng  OK    OK    NA  
119/435epimutacionsData 1.14.0  (landing page)Leire Abarrategui  OK    OK    NA  
120/435EpipwR.data 1.4.0  (landing page)Jackson Barth  OK    OK    NA  
121/435estrogen 1.56.0  (landing page)Wolfgang Huber  OK    OK    NA  
122/435etec16s 1.38.0  (landing page)Joseph N. Paulson  OK    OK    NA  
123/435ewceData 1.18.0  (landing page)Hiranyamaya Dash  OK    OK    NA  
F
ABCDEFGHIJKLMNOPQRSTUVWXYZ
PackageMaintainerINSTALLBUILDCHECK
124/435faahKO 1.50.0  (landing page)Steffen Neumann  OK    OK    NA  
125/435fabiaData 1.48.0  (landing page)Sepp Hochreiter  OK    OK    NA  
126/435FANTOM3and4CAGE 1.46.0  (landing page)Vanja Haberle  OK    OK    NA  
127/435ffpeExampleData 1.48.0  (landing page)Levi Waldron  OK    OK    NA  
128/435fibroEset 1.52.0  (landing page)Sylvia Merk  OK    OK    NA  
129/435FieldEffectCrc 1.20.0  (landing page)Christopher Dampier  OK    OK    NA  
130/435FIs 1.38.0  (landing page)Herbert Braselmann , Martin Selmansberger  OK    OK    NA  
131/435fission 1.30.0  (landing page)Michael Love  OK    OK    NA  
132/435Fletcher2013a 1.46.0  (landing page)Mauro Castro  OK    OK    NA  
133/435Fletcher2013b 1.46.0  (landing page)Mauro Castro  OK    OK    NA  
134/435flowPloidyData 1.36.0  (landing page)Tyler Smith  OK    OK    NA  
135/435FlowSorted.Blood.450k 1.48.0  (landing page)Andrew E Jaffe  OK    OK    NA  
136/435FlowSorted.Blood.EPIC 2.14.0  (landing page)Lucas A. Salas  OK    OK    NA  
137/435FlowSorted.CordBlood.450k 1.38.0  (landing page)Shan V. Andrews  OK    OK    NA  
138/435FlowSorted.CordBloodCombined.450k 1.26.0  (landing page)Lucas A. Salas  OK    OK    NA  
139/435FlowSorted.CordBloodNorway.450k 1.36.0  (landing page)kristina gervin  OK    OK    NA  
140/435FlowSorted.DLPFC.450k 1.46.0  (landing page)Andrew E Jaffe  OK    OK    NA  
141/435flowWorkspaceData 3.22.0  (landing page)Mike Jiang  OK    OK    NA  
142/435fourDNData 1.10.0  (landing page)Jacques Serizay  OK    OK    NA  
143/435frmaExampleData 1.46.0  (landing page)Matthew N. McCall  OK    OK    NA  
144/435furrowSeg 1.38.0  (landing page)Joseph Barry  OK    OK    NA  
G
ABCDEFGHIJKLMNOPQRSTUVWXYZ
PackageMaintainerINSTALLBUILDCHECK
145/435gageData 2.48.0  (landing page)Weijun Luo  OK    OK    NA  
146/435gaschYHS 1.48.0  (landing page)Vince Carey  OK    OK    NA  
147/435gcspikelite 1.48.0  (landing page)Mark Robinson  OK    OK    NA  
148/435gDNAinRNAseqData 1.10.0  (landing page)Robert Castelo  OK    OK    NA  
149/435gDRtestData 1.8.0  (landing page)Arkadiusz Gladki  OK    OK    NA  
150/435geneLenDataBase 1.46.0  (landing page)Federico Marini  OK    OK    NA  
151/435genomationData 1.42.0  (landing page)Vedran Franke  OK    OK    NA  
152/435GenomicDistributionsData 1.18.0  (landing page)Kristyna Kupkova  OK    OK    NA  
153/435GeuvadisTranscriptExpr 1.38.0  (landing page)Malgorzata Nowicka  OK    OK    NA  
154/435GIGSEAdata 1.28.0  (landing page)Shijia Zhu  OK    OK    NA  
155/435golubEsets 1.52.0  (landing page)Vince Carey  OK    OK    NA  
156/435gpaExample 1.22.0  (landing page)Dongjun Chung  OK    OK    NA  
157/435grndata 1.42.0  (landing page)Pau Bellot  OK    OK    NA  
158/435GSBenchMark 1.30.0  (landing page)Bahman Afsari  OK    OK    NA  
159/435GSE103322 1.16.0  (landing page)Mariano Alvarez  OK    OK    NA  
160/435GSE13015 1.18.0  (landing page)Darawan Rinchai  OK    OK    NA  
161/435GSE159526 1.16.0  (landing page)Victor Yuan  OK    OK    NA  
162/435GSE62944 1.38.0  (landing page)Bioconductor Package Maintainer  OK    OK    NA  
163/435GSVAdata 1.46.0  (landing page)Robert Castelo  OK    OK    NA  
164/435GWASdata 1.48.0  (landing page)Stephanie Gogarten  OK    OK    NA  
H
ABCDEFGHIJKLMNOPQRSTUVWXYZ
PackageMaintainerINSTALLBUILDCHECK
165/435h5vcData 2.30.0  (landing page)Paul Theodor Pyl  OK    OK    NA  
166/435hapmap100khind 1.52.0  (landing page)Benilton Carvalho  OK    OK    NA  
167/435hapmap100kxba 1.52.0  (landing page)Benilton Carvalho  OK    OK    NA  
168/435hapmap500knsp 1.52.0  (landing page)Benilton Carvalho  OK    OK    NA  
169/435hapmap500ksty 1.52.0  (landing page)Benilton Carvalho  OK    OK    NA  
170/435hapmapsnp5 1.52.0  (landing page)Benilton Carvalho  OK    OK    NA  
171/435hapmapsnp6 1.52.0  (landing page)Benilton Carvalho  OK    OK    NA  
172/435harbChIP 1.48.0  (landing page)VJ Carey  OK    OK    NA  
173/435HarmanData 1.38.0  (landing page)Jason Ross  OK    OK    NA  
174/435HarmonizedTCGAData 1.32.0  (landing page)Tianle Ma  OK    OK    NA  
175/435HCAData 1.26.0  (landing page)Federico Marini  OK    OK    NA  
176/435HCATonsilData 1.8.0  (landing page)Ramon Massoni-Badosa  OK    OK    NA  
177/435HD2013SGI 1.50.0  (landing page)Mike Smith  OK    OK    NA  
178/435HDCytoData 1.30.0  (landing page)Lukas M. Weber  OK    OK    NA  
179/435healthyControlsPresenceChecker 1.14.0  (landing page)Davide Chicco  OK    OK    NA  
180/435healthyFlowData 1.48.0  (landing page)Ariful Azad  OK    OK    NA  
181/435HEEBOdata 1.48.0  (landing page)Agnes Paquet  OK    OK    NA  
182/435HelloRangesData 1.36.0  (landing page)Michael Lawrence  OK    OK    NA  
183/435hgu133abarcodevecs 1.48.0  (landing page)Matthew N. McCall  OK    OK    NA  
184/435hgu133plus2barcodevecs 1.48.0  (landing page)Matthew N. McCall  OK    OK    NA  
185/435hgu133plus2CellScore 1.30.0  (landing page)Nancy Mah  OK    OK    NA  
186/435hgu2beta7 1.50.0  (landing page)Bioconductor Package Maintainer  OK    OK    NA  
187/435HiBED 1.8.0  (landing page)Ze Zhang  OK    OK    NA  
188/435HiCDataHumanIMR90 1.30.0  (landing page)Nicolas Servant  OK    OK    NA  
189/435HiCDataLymphoblast 1.46.0  (landing page)Borbala Mifsud  OK    OK    NA  
190/435HiContactsData 1.12.0  (landing page)Jacques Serizay  OK    OK    NA  
191/435HighlyReplicatedRNASeq 1.22.0  (landing page)Constantin Ahlmann-Eltze  OK    OK    NA  
192/435Hiiragi2013 1.46.0  (landing page)Wolfgang Huber  OK    OK    NA  
193/435HIVcDNAvantWout03 1.50.0  (landing page)Chris Fraley  OK    OK    NA  
194/435HMP16SData 1.30.0  (landing page)Lucas schiffer  OK    OK    NA  
195/435HMP2Data 1.24.0  (landing page)John Stansfield , Ekaterina Smirnova  OK    OK    NA  
196/435homosapienDEE2CellScore 1.6.0  (landing page)Justin Marsh  OK    ERROR  skipped
197/435HSMMSingleCell 1.30.0  (landing page)Cole Trapnell  OK    OK    NA  
198/435HumanAffyData 1.36.0  (landing page)Brad Nelms  OK    OK    NA  
199/435humanHippocampus2024 1.2.0  (landing page)Christine Hou  OK    OK    NA  
200/435humanStemCell 0.50.0  (landing page)R. Gentleman  OK    OK    NA  
I
ABCDEFGHIJKLMNOPQRSTUVWXYZ
PackageMaintainerINSTALLBUILDCHECK
201/435IHWpaper 1.38.0  (landing page)Nikos Ignatiadis  OK    OK    NA  
202/435Illumina450ProbeVariants.db 1.46.0  (landing page)Tiffany Morris  OK    OK    NA  
203/435IlluminaDataTestFiles 1.48.0  (landing page)Kasper Daniel Hansen  OK    OK    NA  
204/435imcdatasets 1.18.0  (landing page)Nicolas Damond  OK    OK    NA  
205/435iModMixData 1.0.0  (landing page)Isis Narvaez-Bandera  OK    OK    NA  
206/435ITALICSData 2.48.0  (landing page)Guillem Rigaill  OK    OK    NA  
207/435Iyer517 1.52.0  (landing page)Vince Carey  OK    OK    NA  
J
ABCDEFGHIJKLMNOPQRSTUVWXYZ
PackageMaintainerINSTALLBUILDCHECK
208/435JASPAR2014 1.46.0  (landing page)Ge Tan  OK    OK    NA  
209/435JASPAR2016 1.38.0  (landing page)Ge Tan  OK    OK    NA  
210/435JohnsonKinaseData 1.6.0  (landing page)Florian Geier  OK    OK    NA  
K
ABCDEFGHIJKLMNOPQRSTUVWXYZ
PackageMaintainerINSTALLBUILDCHECK
211/435KEGGandMetacoreDzPathwaysGEO 1.30.0  (landing page)Gaurav Bhatti  OK    OK    NA  
212/435KEGGdzPathwaysGEO 1.48.0  (landing page)Gaurav Bhatti  OK    OK    NA  
213/435kidpack 1.52.0  (landing page)Wolfgang Huber  OK    OK    NA  
214/435KOdata 1.36.0  (landing page)Shana White  OK    OK    NA  
L
ABCDEFGHIJKLMNOPQRSTUVWXYZ
PackageMaintainerINSTALLBUILDCHECK
215/435leeBamViews 1.46.0  (landing page)VJ Carey  OK    OK    NA  
216/435LegATo 1.4.0  (landing page)Aubrey Odom  OK    OK    NA  
217/435leukemiasEset 1.46.0  (landing page)Sara Aibar  OK    OK    NA  
218/435LiebermanAidenHiC2009 0.48.0  (landing page)Felix Klein  OK    OK    NA  
219/435ListerEtAlBSseq 1.42.0  (landing page)Mattia Furlan  OK    OK    NA  
220/435LRcellTypeMarkers 1.18.0  (landing page)Wenjing Ma  OK    OK    NA  
221/435lumiBarnes 1.50.0  (landing page)Pan Du  OK    OK    NA  
222/435LungCancerACvsSCCGEO 1.46.0  (landing page)Adi Laurentiu Tarca  OK    OK    NA  
223/435LungCancerLines 0.48.0  (landing page)Michael Lawrence  OK    OK    NA  
224/435lungExpression 0.48.0  (landing page)Robert Scharpf  OK    OK    NA  
225/435lydata 1.36.0  (landing page)Alex Pickering  OK    OK    NA  
M
ABCDEFGHIJKLMNOPQRSTUVWXYZ
PackageMaintainerINSTALLBUILDCHECK
226/435M3DExampleData 1.36.0  (landing page)Tallulah Andrews  OK    OK    NA  
227/435macrophage 1.26.0  (landing page)Michael Love  OK    OK    NA  
228/435MACSdata 1.18.0  (landing page)Qiang Hu  OK    OK    NA  
229/435mammaPrintData 1.46.0  (landing page)Luigi Marchionni  OK    OK    NA  
230/435maqcExpression4plex 1.54.0  (landing page)Benilton Carvalho  OK    OK    NA  
231/435MAQCsubset 1.48.0  (landing page)VJ Carey  OK    OK    NA  
232/435marinerData 1.10.0  (landing page)Eric Davis  OK    OK    NA  
233/435mCSEAdata 1.30.0  (landing page)Jordi Martorell Marugán  OK    OK    NA  
234/435mcsurvdata 1.28.0  (landing page)Adria Caballe Mestres  OK    OK    NA  
235/435MEDIPSData 1.46.0  (landing page)Lukas Chavez  OK    OK    NA  
236/435MEEBOdata 1.48.0  (landing page)Agnes Paquet  OK    OK    NA  
237/435MerfishData 1.12.0  (landing page)Ludwig Geistlinger  OK    OK    NA  
238/435MetaGxBreast 1.30.0  (landing page)Benjamin Haibe-Kains  OK    OK    NA  
239/435MetaGxOvarian 1.30.0  (landing page)Benjamin Haibe-Kains  OK    ERROR  skipped
240/435MetaGxPancreas 1.30.0  (landing page)Benjamin Haibe-Kains  OK    OK    NA  
241/435metaMSdata 1.46.0  (landing page)Yann Guitton  OK    OK    NA  
242/435MetaScope 1.10.0  (landing page)Sean Lu  OK    OK    NA  
243/435MethylAidData 1.42.0  (landing page)M. van Iterson  OK    OK    NA  
244/435methylclockData 1.18.0  (landing page)Dolors Pelegri-Siso  OK    OK    NA  
245/435MethylSeqData 1.20.0  (landing page)Peter Hickey  OK    OK    NA  
246/435MicrobiomeBenchmarkData 1.12.0  (landing page)Samuel Gamboa  OK    OK    NA  
247/435microbiomeDataSets 1.18.0  (landing page)Leo Lahti  OK    OK    NA  
248/435microRNAome 1.32.0  (landing page)Matthew N. McCall  OK    OK    NA  
249/435minfiData 0.56.0  (landing page)Kasper Daniel Hansen  OK    OK    NA  
250/435minfiDataEPIC 1.36.0  (landing page)Kasper Daniel Hansen  OK    OK    NA  
251/435minionSummaryData 1.40.0  (landing page)Mike Smith  OK    OK    NA  
252/435miRcompData 1.40.0  (landing page)Matthew N. McCall  OK    OK    NA  
253/435miRNATarget 1.48.0  (landing page)Y-h. Taguchi  OK    OK    NA  
254/435MMDiffBamSubset 1.46.0  (landing page)Gabriele Schweikert  OK    OK    NA  
255/435MOFAdata 1.26.0  (landing page)Britta Velten  OK    OK    NA  
256/435mosaicsExample 1.48.0  (landing page)Dongjun Chung  OK    OK    NA  
257/435mouse4302barcodevecs 1.48.0  (landing page)Matthew N. McCall  OK    OK    NA  
258/435MouseAgingData 1.6.0  (landing page)Tram Nguyen  OK    OK    NA  
259/435MouseGastrulationData 1.24.0  (landing page)Jonathan Griffiths  OK    OK    NA  
260/435MouseThymusAgeing 1.18.0  (landing page)Mike Morgan  OK    OK    NA  
261/435msd16s 1.30.0  (landing page)Joseph N. Paulson  OK    OK    NA  
262/435msdata 0.50.0  (landing page)Steffen Neumann , Laurent Gatto  OK    OK    NA  
263/435msigdb 1.18.0  (landing page)Dharmesh D. Bhuva  OK    OK    NA  
264/435MSMB 1.28.0  (landing page)Wolfgang Huber  OK    OK    NA  
265/435msPurityData 1.38.0  (landing page)Thomas N. Lawson  OK    OK    NA  
266/435msqc1 1.38.0  (landing page)Christian Panse  OK    OK    NA  
267/435mtbls2 1.40.0  (landing page)Steffen Neumann  OK    OK    NA  
268/435MUGAExampleData 1.30.0  (landing page)Daniel Gatti  OK    OK    NA  
269/435muleaData 1.6.0  (landing page)Eszter Ari  OK    OK    NA  
270/435multiWGCNAdata 1.8.0  (landing page)Dario Tommasini  OK    OK    NA  
271/435muscData 1.24.0  (landing page)Helena L. Crowell  OK    OK    NA  
272/435muSpaData 1.2.0  (landing page)Peiying Cai  OK    OK    NA  
273/435mvoutData 1.46.0  (landing page)VJ Carey  OK    OK    NA  
N
ABCDEFGHIJKLMNOPQRSTUVWXYZ
PackageMaintainerINSTALLBUILDCHECK
274/435NanoporeRNASeq 1.20.0  (landing page)Ying Chen  OK    OK    NA  
275/435nanotubes 1.26.0  (landing page)Malte Thodberg  OK    OK    NA  
276/435NCIgraphData 1.46.0  (landing page)Laurent Jacob  OK    OK    NA  
277/435NestLink 1.26.0  (landing page)Lennart Opitz  OK    OK    NA  
278/435NetActivityData 1.12.0  (landing page)Carlos Ruiz-Arenas  OK    OK    NA  
279/435Neve2006 0.48.0  (landing page)VJ Carey  OK    OK    NA  
280/435NGScopyData 1.30.0  (landing page)Xiaobei Zhao  OK    OK    NA  
281/435nmrdata 1.0.0  (landing page)Torben Kimhofer  OK    OK    NA  
282/435nullrangesData 1.16.0  (landing page)Michael Love  OK    OK    NA  
283/435NxtIRFdata 1.16.0  (landing page)Alex Chit Hei Wong  OK    OK    NA  
O
ABCDEFGHIJKLMNOPQRSTUVWXYZ
PackageMaintainerINSTALLBUILDCHECK
284/435ObMiTi 1.18.0  (landing page)Omar Elashkar  OK    OK    NA  
285/435oct4 1.26.0  (landing page)Michael Love  OK    OK    NA  
286/435octad.db 1.12.0  (landing page)E. Chekalin  OK    OK    NA  
287/435OMICsPCAdata 1.28.0  (landing page)Subhadeep Das  OK    OK    NA  
288/435OnassisJavaLibs 1.32.0  (landing page)Eugenia Galeota  OK    OK    NA  
289/435optimalFlowData 1.22.0  (landing page)Hristo Inouzhe  OK    OK    NA  
290/435orthosData 1.8.0  (landing page)Panagiotis Papasaikas  OK    OK    NA  
P
ABCDEFGHIJKLMNOPQRSTUVWXYZ
PackageMaintainerINSTALLBUILDCHECK
291/435pasilla 1.38.0  (landing page)Alejandro Reyes  OK    OK    NA  
292/435pasillaBamSubset 0.48.0  (landing page)Hervé Pagès  OK    OK    NA  
293/435PasillaTranscriptExpr 1.38.0  (landing page)Malgorzata Nowicka  OK    OK    NA  
294/435PathNetData 1.46.0  (landing page)Ludwig Geistlinger  OK    OK    NA  
295/435PCHiCdata 1.38.0  (landing page)Mikhail Spivakov  OK    OK    NA  
296/435pd.atdschip.tiling 0.48.0  (landing page)Kristof De Beuf  OK    OK    NA  
297/435pepDat 1.30.0  (landing page)Renan Sauteraud  OK    OK    NA  
298/435PepsNMRData 1.28.0  (landing page)Manon Martin  OK    OK    NA  
299/435PhyloProfileData 1.24.0  (landing page)Vinh Tran  OK    OK    NA  
300/435plotgardenerData 1.16.0  (landing page)Nicole Kramer  OK    OK    NA  
301/435prebsdata 1.46.0  (landing page)Karolis Uziela  OK    OK    NA  
302/435preciseTADhub 1.18.0  (landing page)Mikhail Dozmorov  OK    OK    NA  
303/435PREDAsampledata 0.50.0  (landing page)Francesco Ferrari  OK    OK    NA  
304/435ProData 1.48.0  (landing page)Xiaochun Li  OK    OK    NA  
305/435pRolocdata 1.48.0  (landing page)Lisa Breckels  OK    OK    NA  
306/435prostateCancerCamcap 1.38.0  (landing page)Mark Dunning  OK    OK    NA  
307/435prostateCancerGrasso 1.38.0  (landing page)Mark Dunning  OK    OK    NA  
308/435prostateCancerStockholm 1.38.0  (landing page)Mark Dunning  OK    OK    NA  
309/435prostateCancerTaylor 1.38.0  (landing page)Mark Dunning  OK    OK    NA  
310/435prostateCancerVarambally 1.38.0  (landing page)Mark Dunning  OK    OK    NA  
311/435ProteinGymR 1.4.0  (landing page)Tram Nguyen  OK    OK    NA  
312/435ptairData 1.18.0  (landing page)camille Roquencourt  OK    OK    NA  
313/435PtH2O2lipids 1.36.0  (landing page)James Collins  OK    OK    NA  
314/435pumadata 2.46.0  (landing page)Xuejun liu  OK    OK    NA  
315/435PWMEnrich.Dmelanogaster.background 4.44.0  (landing page)Diego Diez  OK    OK    NA  
316/435PWMEnrich.Hsapiens.background 4.44.0  (landing page)Diego Diez  OK    OK    NA  
317/435PWMEnrich.Mmusculus.background 4.44.0  (landing page)Diego Diez  OK    OK    NA  
Q
ABCDEFGHIJKLMNOPQRSTUVWXYZ
PackageMaintainerINSTALLBUILDCHECK
318/435QDNAseq.hg19 1.40.0  (landing page)Daoud Sie  OK    OK    NA  
319/435QDNAseq.mm10 1.40.0  (landing page)Daoud Sie  OK    OK    NA  
320/435qPLEXdata 1.28.0  (landing page)Kamal Kishore Developer  OK    ERROR  skipped
321/435QUBICdata 1.38.0  (landing page)Yu Zhang  OK    OK    NA  
R
ABCDEFGHIJKLMNOPQRSTUVWXYZ
PackageMaintainerINSTALLBUILDCHECK
322/435raerdata 1.8.0  (landing page)Kent Riemondy  OK    OK    NA  
323/435rcellminerData 2.32.0  (landing page)Augustin Luna , Vinodh Rajapakse  OK    OK    NA  
324/435RcisTarget.hg19.motifDBs.cisbpOnly.500bp 1.30.0  (landing page)Sara Aibar  OK    OK    NA  
325/435ReactomeGSA.data 1.24.0  (landing page)Johannes Griss  OK    OK    NA  
326/435RegParallel 1.28.0  (landing page)Kevin Blighe  OK    OK    NA  
327/435RforProteomics 1.48.0  (landing page)Laurent Gatto  OK    OK    NA  
328/435RGMQLlib 1.30.0  (landing page)Simone Pallotta  OK    OK    NA  
329/435rheumaticConditionWOLLBOLD 1.48.0  (landing page)Alejandro Quiroz-Zarate  OK    OK    NA  
330/435RITANdata 1.34.0  (landing page)Michael Zimmermann  OK    OK    NA  
331/435RMassBankData 1.48.0  (landing page)Michael Stravs, Emma Schymanski  OK    OK    NA  
332/435RNAmodR.Data 1.24.0  (landing page)Felix G.M. Ernst  OK    OK    NA  
333/435RNAseqData.HNRNPC.bam.chr14 0.48.0  (landing page)Hervé Pagès  OK    OK    NA  
334/435RnaSeqSampleSizeData 1.42.0  (landing page)Shilin Zhao  OK    OK    NA  
335/435RnBeads.hg19 1.42.0  (landing page)RnBeadsAnnotationCreator  OK    OK    NA  
336/435RnBeads.hg38 1.42.0  (landing page)RnBeads Team  OK    OK    NA  
337/435RnBeads.mm10 2.18.0  (landing page)RnBeads Team  OK    OK    NA  
338/435RnBeads.mm9 1.42.0  (landing page)RnBeadsAnnotationCreator  OK    OK    NA  
339/435RnBeads.rn5 1.42.0  (landing page)RnBeadsAnnotationCreator  OK    OK    NA  
340/435RRBSdata 1.30.0  (landing page)Katja Hebestreit  OK    OK    NA  
341/435rRDPData 1.30.0  (landing page)Michael Hahsler  OK    OK    NA  
342/435RTCGA.clinical 20151101.40.0  (landing page)Marcin Kosinski  OK    OK    NA  
343/435RTCGA.CNV 1.38.0  (landing page)Marcin Kosinski  OK    OK    NA  
344/435RTCGA.methylation 1.38.0  (landing page)Marcin Kosinski  OK    OK    NA  
345/435RTCGA.miRNASeq 1.38.0  (landing page)Marcin Kosinski  OK    OK    NA  
346/435RTCGA.mRNA 1.38.0  (landing page)Marcin Kosinski  OK    OK    NA  
347/435RTCGA.mutations 20151101.40.0  (landing page)Marcin Kosinski  OK    OK    NA  
348/435RTCGA.PANCAN12 1.38.0  (landing page)Marcin Kosinski  OK    OK    NA  
349/435RTCGA.rnaseq 20151101.40.0  (landing page)Marcin Kosinski  OK    OK    NA  
350/435RTCGA.RPPA 1.38.0  (landing page)Marcin Kosinski  OK    OK    NA  
351/435RUVnormalizeData 1.30.0  (landing page)Laurent Jacob  OK    OK    NA  
S
ABCDEFGHIJKLMNOPQRSTUVWXYZ
PackageMaintainerINSTALLBUILDCHECK
352/435sampleClassifierData 1.34.0  (landing page)Khadija El Amrani  OK    OK    NA  
353/435SBGNview.data 1.24.0  (landing page)Weijun Luo  OK    OK    NA  
354/435scaeData 1.6.0  (landing page)Ahmad Al Ajami  OK    OK    NA  
355/435scanMiRData 1.16.0  (landing page)Pierre-Luc Germain  OK    OK    NA  
356/435scATAC.Explorer 1.16.0  (landing page)Jonathan Wang  OK    OK    NA  
357/435SCLCBam 1.42.0  (landing page)Oscar Krijgsman  OK    OK    NA  
358/435scMultiome 1.10.0  (landing page)Xiaosai Yao  OK    OK    NA  
359/435scpdata 1.18.0  (landing page)Christophe Vanderaa  OK    OK    NA  
360/435scRNAseq 2.24.0  (landing page)Aaron Lun  OK    OK    NA  
361/435scTHI.data 1.22.0  (landing page)Michele Ceccarelli  OK    OK    NA  
362/435seq2pathway.data 1.42.0  (landing page)Arjun Kinstlick  OK    OK    NA  
363/435seqc 1.44.0  (landing page)Yang Liao and Wei Shi  OK    OK    NA  
364/435serumStimulation 1.46.0  (landing page)Morten Hansen,  OK    OK    NA  
365/435sesameData 1.28.0  (landing page)Wanding Zhou  OK    OK    NA  
366/435seventyGeneData 1.46.0  (landing page)Luigi Marchionni  OK    OK    NA  
367/435SFEData 1.12.0  (landing page)Lambda Moses  OK    OK    NA  
368/435shinyMethylData 1.30.0  (landing page)Jean-Philippe Fortin  OK    OK    NA  
369/435signatureSearchData 1.24.0  (landing page)Brendan Gongol  OK    OK    NA  
370/435SimBenchData 1.18.0  (landing page)Yue Cao  OK    OK    NA  
371/435simpIntLists 1.46.0  (landing page)Kircicegi Korkmaz  OK    OK    NA  
372/435Single.mTEC.Transcriptomes 1.38.0  (landing page)Alejandro Reyes  OK    OK    NA  
373/435SingleCellMultiModal 1.22.0  (landing page)Marcel Ramos  OK    OK    NA  
374/435SingleMoleculeFootprintingData 1.18.0  (landing page)Guido Barzaghi  OK    OK    NA  
375/435smokingMouse 1.8.0  (landing page)Daianna Gonzalez-Padilla  OK    OK    NA  
376/435SNAData 1.56.0  (landing page)Denise Scholtens  OK    OK    NA  
377/435SNAGEEdata 1.46.0  (landing page)David Venet  OK    OK    NA  
378/435SNPhoodData 1.40.0  (landing page)Christian Arnold  OK    OK    NA  
379/435SomatiCAData 1.48.0  (landing page)Mengjie Chen  OK    OK    NA  
380/435SomaticCancerAlterations 1.46.0  (landing page)Julian Gehring  OK    OK    NA  
381/435SpatialDatasets 1.8.0  (landing page)Ellis Patrick  OK    OK    NA  
382/435spatialDmelxsim 1.16.0  (landing page)Michael Love  OK    OK    NA  
383/435spatialLIBD 1.22.0  (landing page)Leonardo Collado-Torres  OK    OK    NA  
384/435SpikeIn 1.52.0  (landing page)Robert D Shear  OK    OK    NA  
385/435SpikeInSubset 1.50.0  (landing page)Robert D Shear  OK    OK    NA  
386/435spqnData 1.22.0  (landing page)Yi Wang  OK    OK    NA  
387/435stemHypoxia 1.46.0  (landing page)Cristobal Fresno  OK    OK    NA  
388/435STexampleData 1.18.0  (landing page)Lukas M. Weber  OK    OK    NA  
389/435SubcellularSpatialData 1.6.0  (landing page)Dharmesh D. Bhuva  OK    OK    NA  
390/435SVM2CRMdata 1.42.0  (landing page)Guidantonio Malagoli Tagliazucchi  OK    OK    NA  
391/435systemPipeRdata 2.14.0  (landing page)Thomas Girke  OK    OK    NA  
T
ABCDEFGHIJKLMNOPQRSTUVWXYZ
PackageMaintainerINSTALLBUILDCHECK
392/435TabulaMurisData 1.28.0  (landing page)Charlotte Soneson  OK    OK    NA  
393/435TabulaMurisSenisData 1.16.0  (landing page)Charlotte Soneson  OK    OK    NA  
394/435TargetScoreData 1.46.0  (landing page)Yue Li  OK    OK    NA  
395/435TargetSearchData 1.48.0  (landing page)Alvaro Cuadros-Inostroza  OK    OK    NA  
396/435tartare 1.24.0  (landing page)Christian Panse  OK    OK    NA  
397/435TBX20BamSubset 1.46.0  (landing page)D. Bindreither  OK    OK    NA  
398/435TCGAbiolinksGUI.data 1.30.0  (landing page)Tiago Chedraoui Silva  OK    OK    NA  
399/435TCGAcrcmiRNA 1.30.0  (landing page)Claudio Isella  OK    OK    NA  
400/435TCGAcrcmRNA 1.30.0  (landing page)Claudio Isella  OK    OK    NA  
401/435TCGAMethylation450k 1.46.0  (landing page)Sean Davis  OK    OK    NA  
402/435TCGAWorkflowData 1.34.0  (landing page)Tiago Chedraoui Silva  OK    OK    NA  
403/435TENET.ExperimentHub 1.2.0  (landing page)Rhie Lab at the University of Southern California  OK    OK    NA  
404/435TENxBrainData 1.30.0  (landing page)Bioconductor Package Maintainer  OK    OK    NA  
405/435TENxBUSData 1.24.0  (landing page)Lambda Moses  OK    OK    NA  
406/435TENxPBMCData 1.28.0  (landing page)Stephanie Hicks  OK    OK    NA  
407/435TENxVisiumData 1.18.0  (landing page)Helena L. Crowell  OK    OK    NA  
408/435TENxXeniumData 1.6.0  (landing page)Matineh Rahmatbakhsh  OK    OK    NA  
409/435timecoursedata 1.20.0  (landing page)Nelle Varoquaux  OK    OK    NA  
410/435TimerQuant 1.40.0  (landing page)Joseph Barry  OK    ERROR  skipped
411/435tinesath1cdf 1.48.0  (landing page)Tine Casneuf  OK    OK    NA  
412/435tinesath1probe 1.48.0  (landing page)Tine Casneuf  OK    OK    NA  
413/435tissueTreg 1.30.0  (landing page)Charles Imbusch  OK    OK    NA  
414/435TMExplorer 1.20.0  (landing page)Erik Christensen  OK    OK    NA  
415/435tofsimsData 1.38.0  (landing page)Lorenz Gerber  OK    OK    NA  
416/435topdownrdata 1.32.0  (landing page)Sebastian Gibb  OK    OK    NA  
417/435TransOmicsData 1.6.0  (landing page)Di Xiao  OK    OK    NA  
418/435tuberculosis 1.16.0  (landing page)Lucas Schiffer  OK    OK    NA  
419/435TumourMethData 1.8.0  (landing page)Richard Heery  OK    OK    NA  
420/435tweeDEseqCountData 1.48.0  (landing page)Dolors Pelegri-Siso  OK    OK    NA  
421/435tximportData 1.38.0  (landing page)Michael Love  OK    OK    NA  
V
ABCDEFGHIJKLMNOPQRSTUVWXYZ
PackageMaintainerINSTALLBUILDCHECK
422/435VariantToolsData 1.34.0  (landing page)Michael Lawrence  OK    OK    NA  
423/435VectraPolarisData 1.14.0  (landing page)Wrobel Julia  OK    OK    NA  
424/435vulcandata 1.32.0  (landing page)Federico M. Giorgi  OK    OK    NA  
W
ABCDEFGHIJKLMNOPQRSTUVWXYZ
PackageMaintainerINSTALLBUILDCHECK
425/435WeberDivechaLCdata 1.12.0  (landing page)Lukas M. Weber  OK    OK    NA  
426/435WES.1KG.WUGSC 1.42.0  (landing page)Yuchao Jiang  OK    OK    NA  
427/435WGSmapp 1.22.0  (landing page)Rujin Wang  OK    OK    NA  
X
ABCDEFGHIJKLMNOPQRSTUVWXYZ
PackageMaintainerINSTALLBUILDCHECK
428/435xcoredata 1.14.0  (landing page)Maciej Migdał  OK    OK    NA  
429/435XhybCasneuf 1.48.0  (landing page)Tineke Casneuf  OK    OK    NA  
Y
ABCDEFGHIJKLMNOPQRSTUVWXYZ
PackageMaintainerINSTALLBUILDCHECK
430/435yeastCC 1.50.0  (landing page)Sandrine Dudoit  OK    OK    NA  
431/435yeastExpData 0.56.0  (landing page)R. Gentleman  OK    OK    NA  
432/435yeastGSData 0.48.0  (landing page)R. Gentleman  OK    OK    NA  
433/435yeastNagalakshmi 1.46.0  (landing page)Bioconductor Package Maintainer  OK    OK    NA  
434/435yeastRNASeq 0.48.0  (landing page)J. Bullard  OK    OK    NA  
Z
ABCDEFGHIJKLMNOPQRSTUVWXYZ
PackageMaintainerINSTALLBUILDCHECK
435/435zebrafishRNASeq 1.30.0  (landing page)Davide Risso  OK    OK    NA