| Back to Build/check report for BioC 3.22 experimental data |
|
This page was generated on 2025-11-11 15:41 -0500 (Tue, 11 Nov 2025).
| Hostname | OS | Arch (*) | R version | Installed pkgs |
|---|---|---|---|---|
| nebbiolo2 | Linux (Ubuntu 24.04.3 LTS) | x86_64 | 4.5.1 Patched (2025-08-23 r88802) -- "Great Square Root" | 4902 |
| Click on any hostname to see more info about the system (e.g. compilers) (*) as reported by 'uname -p', except on Windows and Mac OS X | ||||
| Package 277/435 | Hostname | OS / Arch | INSTALL | BUILD | CHECK | ||||||||
| NestLink 1.26.0 (landing page) Lennart Opitz
| nebbiolo2 | Linux (Ubuntu 24.04.3 LTS) / x86_64 | OK | OK | OK | ||||||||
|
To the developers/maintainers of the NestLink package: - Use the following Renviron settings to reproduce errors and warnings. - If 'R CMD check' started to fail recently on the Linux builder(s) over a missing dependency, add the missing dependency to 'Suggests:' in your DESCRIPTION file. See Renviron.bioc for more information. |
| Package: NestLink |
| Version: 1.26.0 |
| Command: /home/biocbuild/bbs-3.22-bioc/R/bin/R CMD check --install=check:NestLink.install-out.txt --library=/home/biocbuild/bbs-3.22-bioc/R/site-library --timings NestLink_1.26.0.tar.gz |
| StartedAt: 2025-11-11 12:45:31 -0500 (Tue, 11 Nov 2025) |
| EndedAt: 2025-11-11 12:57:21 -0500 (Tue, 11 Nov 2025) |
| EllapsedTime: 709.8 seconds |
| RetCode: 0 |
| Status: OK |
| CheckDir: NestLink.Rcheck |
| Warnings: 0 |
##############################################################################
##############################################################################
###
### Running command:
###
### /home/biocbuild/bbs-3.22-bioc/R/bin/R CMD check --install=check:NestLink.install-out.txt --library=/home/biocbuild/bbs-3.22-bioc/R/site-library --timings NestLink_1.26.0.tar.gz
###
##############################################################################
##############################################################################
* using log directory ‘/home/biocbuild/bbs-3.22-data-experiment/meat/NestLink.Rcheck’
* using R version 4.5.1 Patched (2025-08-23 r88802)
* using platform: x86_64-pc-linux-gnu
* R was compiled by
gcc (Ubuntu 13.3.0-6ubuntu2~24.04) 13.3.0
GNU Fortran (Ubuntu 13.3.0-6ubuntu2~24.04) 13.3.0
* running under: Ubuntu 24.04.3 LTS
* using session charset: UTF-8
* checking for file ‘NestLink/DESCRIPTION’ ... OK
* checking extension type ... Package
* this is package ‘NestLink’ version ‘1.26.0’
* checking package namespace information ... OK
* checking package dependencies ... INFO
Depends: includes the non-default packages:
'AnnotationHub', 'ExperimentHub', 'Biostrings', 'gplots', 'protViz',
'ShortRead'
Adding so many packages to the search path is excessive and importing
selectively is preferable.
* checking if this is a source package ... OK
* checking if there is a namespace ... OK
* checking for hidden files and directories ... OK
* checking for portable file names ... OK
* checking for sufficient/correct file permissions ... OK
* checking whether package ‘NestLink’ can be installed ... OK
* checking installed package size ... OK
* checking package directory ... OK
* checking ‘build’ directory ... OK
* checking DESCRIPTION meta-information ... NOTE
Authors@R field gives persons with no role:
Damien Morger <damien.morger@rqmicro.com>
* checking top-level files ... OK
* checking for left-over files ... OK
* checking index information ... OK
* checking package subdirectories ... OK
* checking code files for non-ASCII characters ... OK
* checking R files for syntax errors ... OK
* checking whether the package can be loaded ... OK
* checking whether the package can be loaded with stated dependencies ... OK
* checking whether the package can be unloaded cleanly ... OK
* checking whether the namespace can be loaded with stated dependencies ... OK
* checking whether the namespace can be unloaded cleanly ... OK
* checking loading without being on the library search path ... OK
* checking whether startup messages can be suppressed ... OK
* checking dependencies in R code ... OK
* checking S3 generic/method consistency ... OK
* checking replacement functions ... OK
* checking foreign function calls ... OK
* checking R code for possible problems ... OK
* checking Rd files ... NOTE
checkRd: (-1) runNGSAnalysis.Rd:24: Lost braces in \itemize; meant \describe ?
checkRd: (-1) runNGSAnalysis.Rd:25: Lost braces in \itemize; meant \describe ?
checkRd: (-1) runNGSAnalysis.Rd:26: Lost braces in \itemize; meant \describe ?
checkRd: (-1) runNGSAnalysis.Rd:27: Lost braces in \itemize; meant \describe ?
checkRd: (-1) runNGSAnalysis.Rd:28: Lost braces in \itemize; meant \describe ?
checkRd: (-1) runNGSAnalysis.Rd:29: Lost braces in \itemize; meant \describe ?
checkRd: (-1) runNGSAnalysis.Rd:30: Lost braces in \itemize; meant \describe ?
checkRd: (-1) runNGSAnalysis.Rd:31: Lost braces in \itemize; meant \describe ?
checkRd: (-1) runNGSAnalysis.Rd:32: Lost braces in \itemize; meant \describe ?
checkRd: (-1) runNGSAnalysis.Rd:33: Lost braces in \itemize; meant \describe ?
checkRd: (-1) runNGSAnalysis.Rd:34: Lost braces in \itemize; meant \describe ?
checkRd: (-1) runNGSAnalysis.Rd:35: Lost braces in \itemize; meant \describe ?
* checking Rd metadata ... OK
* checking Rd cross-references ... OK
* checking for missing documentation entries ... OK
* checking for code/documentation mismatches ... OK
* checking Rd \usage sections ... OK
* checking Rd contents ... OK
* checking for unstated dependencies in examples ... OK
* checking files in ‘vignettes’ ... OK
* checking examples ... OK
Examples with CPU (user + system) or elapsed time > 5s
user system elapsed
runNGSAnalysis 138.813 1.522 140.748
getExperimentHubFilename 12.755 1.677 16.504
getFC 5.657 0.331 6.257
* checking for unstated dependencies in ‘tests’ ... OK
* checking tests ...
Running ‘testthat.R’
OK
* checking for unstated dependencies in vignettes ... OK
* checking package vignettes ... OK
* checking re-building of vignette outputs ... OK
* checking PDF version of manual ... OK
* DONE
Status: 2 NOTEs
See
‘/home/biocbuild/bbs-3.22-data-experiment/meat/NestLink.Rcheck/00check.log’
for details.
NestLink.Rcheck/00install.out
############################################################################## ############################################################################## ### ### Running command: ### ### /home/biocbuild/bbs-3.22-bioc/R/bin/R CMD INSTALL NestLink ### ############################################################################## ############################################################################## * installing to library ‘/home/biocbuild/bbs-3.22-bioc/R/site-library’ * installing *source* package ‘NestLink’ ... ** this is package ‘NestLink’ version ‘1.26.0’ ** using staged installation ** R ** exec ** inst ** byte-compile and prepare package for lazy loading ** help *** installing help indices ** building package indices ** installing vignettes ** testing if installed package can be loaded from temporary location ** testing if installed package can be loaded from final location ** testing if installed package keeps a record of temporary installation path * DONE (NestLink)
NestLink.Rcheck/tests/testthat.Rout
R version 4.5.1 Patched (2025-08-23 r88802) -- "Great Square Root"
Copyright (C) 2025 The R Foundation for Statistical Computing
Platform: x86_64-pc-linux-gnu
R is free software and comes with ABSOLUTELY NO WARRANTY.
You are welcome to redistribute it under certain conditions.
Type 'license()' or 'licence()' for distribution details.
R is a collaborative project with many contributors.
Type 'contributors()' for more information and
'citation()' on how to cite R or R packages in publications.
Type 'demo()' for some demos, 'help()' for on-line help, or
'help.start()' for an HTML browser interface to help.
Type 'q()' to quit R.
> #R
>
> library(testthat)
>
> suppressPackageStartupMessages(library(NestLink))
>
> test_check("NestLink")
[ FAIL 0 | WARN 0 | SKIP 0 | PASS 10 ]
>
> proc.time()
user system elapsed
19.921 1.343 21.956
NestLink.Rcheck/NestLink-Ex.timings
| name | user | system | elapsed | |
| F255744 | 2.618 | 0.113 | 3.045 | |
| NB.unambiguous | 3.077 | 0.094 | 3.401 | |
| NB.unique | 3.112 | 0.253 | 3.636 | |
| PGexport | 1.608 | 0.198 | 2.089 | |
| WU160118 | 3.634 | 0.311 | 4.180 | |
| compose_GPGx8cTerm | 0.006 | 0.000 | 0.006 | |
| compose_GPx10R | 0.004 | 0.000 | 0.004 | |
| compose_GSx7cTerm | 0.006 | 0.000 | 0.007 | |
| dot-ssrc.mascot | 2.424 | 0.286 | 2.956 | |
| getExperimentHubFilename | 12.755 | 1.677 | 16.504 | |
| getFC | 5.657 | 0.331 | 6.257 | |
| getNB | 3.025 | 0.152 | 3.508 | |
| nanobodyFlycodeLinking.as.fasta | 1.500 | 0.136 | 2.062 | |
| nanobodyFlycodeLinking.summary | 1.555 | 0.158 | 1.971 | |
| plot_in_silico_LCMS_map | 1.692 | 0.103 | 1.795 | |
| runNGSAnalysis | 138.813 | 1.522 | 140.748 | |
| twoPatternReadFilter | 0.017 | 0.000 | 0.016 | |