Back to Build/check report for BioC 3.22 experimental data
ABCDEF[G]HIJKLMNOPQRSTUVWXYZ

This page was generated on 2025-10-09 15:41 -0400 (Thu, 09 Oct 2025).

HostnameOSArch (*)R versionInstalled pkgs
nebbiolo2Linux (Ubuntu 24.04.3 LTS)x86_644.5.1 Patched (2025-08-23 r88802) -- "Great Square Root" 4854
Click on any hostname to see more info about the system (e.g. compilers)      (*) as reported by 'uname -p', except on Windows and Mac OS X

Package 149/433HostnameOS / ArchINSTALLBUILDCHECK
geneLenDataBase 1.45.0  (landing page)
Federico Marini
Snapshot Date: 2025-10-09 07:30 -0400 (Thu, 09 Oct 2025)
git_url: https://git.bioconductor.org/packages/geneLenDataBase
git_branch: devel
git_last_commit: 109b234
git_last_commit_date: 2025-04-15 09:16:59 -0400 (Tue, 15 Apr 2025)
nebbiolo2Linux (Ubuntu 24.04.3 LTS) / x86_64  OK    OK    OK  UNNEEDED, same version is already published


CHECK results for geneLenDataBase on nebbiolo2

To the developers/maintainers of the geneLenDataBase package:
- Use the following Renviron settings to reproduce errors and warnings.
- If 'R CMD check' started to fail recently on the Linux builder(s) over a missing dependency, add the missing dependency to 'Suggests:' in your DESCRIPTION file. See Renviron.bioc for more information.

raw results


Summary

Package: geneLenDataBase
Version: 1.45.0
Command: /home/biocbuild/bbs-3.22-bioc/R/bin/R CMD check --install=check:geneLenDataBase.install-out.txt --library=/home/biocbuild/bbs-3.22-bioc/R/site-library --timings geneLenDataBase_1.45.0.tar.gz
StartedAt: 2025-10-09 12:26:47 -0400 (Thu, 09 Oct 2025)
EndedAt: 2025-10-09 12:35:47 -0400 (Thu, 09 Oct 2025)
EllapsedTime: 539.8 seconds
RetCode: 0
Status:   OK  
CheckDir: geneLenDataBase.Rcheck
Warnings: 0

Command output

##############################################################################
##############################################################################
###
### Running command:
###
###   /home/biocbuild/bbs-3.22-bioc/R/bin/R CMD check --install=check:geneLenDataBase.install-out.txt --library=/home/biocbuild/bbs-3.22-bioc/R/site-library --timings geneLenDataBase_1.45.0.tar.gz
###
##############################################################################
##############################################################################


* using log directory ‘/home/biocbuild/bbs-3.22-data-experiment/meat/geneLenDataBase.Rcheck’
* using R version 4.5.1 Patched (2025-08-23 r88802)
* using platform: x86_64-pc-linux-gnu
* R was compiled by
    gcc (Ubuntu 13.3.0-6ubuntu2~24.04) 13.3.0
    GNU Fortran (Ubuntu 13.3.0-6ubuntu2~24.04) 13.3.0
* running under: Ubuntu 24.04.3 LTS
* using session charset: UTF-8
* checking for file ‘geneLenDataBase/DESCRIPTION’ ... OK
* this is package ‘geneLenDataBase’ version ‘1.45.0’
* package encoding: UTF-8
* checking package namespace information ... OK
* checking package dependencies ... OK
* checking if this is a source package ... OK
* checking if there is a namespace ... OK
* checking for hidden files and directories ... OK
* checking for portable file names ... OK
* checking for sufficient/correct file permissions ... OK
* checking whether package ‘geneLenDataBase’ can be installed ... OK
* checking installed package size ... INFO
  installed size is 100.3Mb
  sub-directories of 1Mb or more:
    data  99.7Mb
* checking package directory ... OK
* checking DESCRIPTION meta-information ... OK
* checking top-level files ... OK
* checking for left-over files ... OK
* checking index information ... OK
* checking package subdirectories ... OK
* checking code files for non-ASCII characters ... OK
* checking R files for syntax errors ... OK
* checking whether the package can be loaded ... OK
* checking whether the package can be loaded with stated dependencies ... OK
* checking whether the package can be unloaded cleanly ... OK
* checking whether the namespace can be loaded with stated dependencies ... OK
* checking whether the namespace can be unloaded cleanly ... OK
* checking loading without being on the library search path ... OK
* checking dependencies in R code ... NOTE
Unexported object imported by a ':::' call: ‘txdbmaker:::.UCSC_TXNAME2GENEID_MAPDEFS’
  See the note in ?`:::` about the use of this operator.
* checking S3 generic/method consistency ... OK
* checking replacement functions ... OK
* checking foreign function calls ... OK
* checking R code for possible problems ... OK
* checking Rd files ... OK
* checking Rd metadata ... OK
* checking Rd cross-references ... OK
* checking for missing documentation entries ... OK
* checking for code/documentation mismatches ... OK
* checking Rd \usage sections ... OK
* checking Rd contents ... OK
* checking for unstated dependencies in examples ... OK
* checking contents of ‘data’ directory ... OK
* checking data for non-ASCII characters ... OK
* checking data for ASCII and uncompressed saves ... OK
* checking examples ... OK
Examples with CPU (user + system) or elapsed time > 5s
                  user system elapsed
supportedGeneIDs 3.186  0.141   5.865
* checking PDF version of manual ... OK
* DONE

Status: 1 NOTE
See
  ‘/home/biocbuild/bbs-3.22-data-experiment/meat/geneLenDataBase.Rcheck/00check.log’
for details.


Installation output

geneLenDataBase.Rcheck/00install.out

##############################################################################
##############################################################################
###
### Running command:
###
###   /home/biocbuild/bbs-3.22-bioc/R/bin/R CMD INSTALL geneLenDataBase
###
##############################################################################
##############################################################################


* installing to library ‘/home/biocbuild/bbs-3.22-bioc/R/site-library’
* installing *source* package ‘geneLenDataBase’ ...
** this is package ‘geneLenDataBase’ version ‘1.45.0’
** using staged installation
** R
** data
** byte-compile and prepare package for lazy loading
** help
*** installing help indices
** building package indices
** testing if installed package can be loaded from temporary location
** testing if installed package can be loaded from final location
** testing if installed package keeps a record of temporary installation path
* DONE (geneLenDataBase)

Tests output


Example timings

geneLenDataBase.Rcheck/geneLenDataBase-Ex.timings

nameusersystemelapsed
anoCar1.ensGene.LENGTH0.0670.0070.075
anoCar1.genscan.LENGTH0.0430.0020.046
anoCar1.xenoRefGene.LENGTH0.7580.0030.761
anoGam1.ensGene.LENGTH0.0570.0000.057
anoGam1.geneid.LENGTH0.0410.0000.041
anoGam1.genscan.LENGTH0.0380.0010.039
apiMel1.genscan.LENGTH0.0360.0070.043
apiMel2.ensGene.LENGTH0.0860.0020.088
apiMel2.geneid.LENGTH0.1100.0050.116
apiMel2.genscan.LENGTH0.0290.0010.030
aplCal1.xenoRefGene.LENGTH0.3830.0040.388
bosTau2.geneSymbol.LENGTH0.0370.0010.038
bosTau2.geneid.LENGTH0.2300.0070.238
bosTau2.genscan.LENGTH0.0800.0030.083
bosTau2.refGene.LENGTH0.0370.0020.040
bosTau2.sgpGene.LENGTH0.0950.0010.096
bosTau3.ensGene.LENGTH0.0950.0030.099
bosTau3.geneSymbol.LENGTH0.0330.0030.036
bosTau3.geneid.LENGTH0.1550.0070.162
bosTau3.genscan.LENGTH0.0650.0010.065
bosTau3.refGene.LENGTH0.0310.0010.033
bosTau3.sgpGene.LENGTH0.0830.0010.084
bosTau4.ensGene.LENGTH0.0920.0000.093
bosTau4.geneSymbol.LENGTH0.0310.0000.032
bosTau4.genscan.LENGTH0.0620.0010.063
bosTau4.nscanGene.LENGTH0.0270.0000.026
bosTau4.refGene.LENGTH0.030.000.03
braFlo1.xenoRefGene.LENGTH0.3560.0010.357
caeJap1.xenoRefGene.LENGTH0.3220.0000.323
caePb1.xenoRefGene.LENGTH0.4350.0060.441
caePb2.xenoRefGene.LENGTH0.4090.0020.412
caeRem2.xenoRefGene.LENGTH0.3690.0050.374
caeRem3.xenoRefGene.LENGTH0.3300.0020.331
calJac1.genscan.LENGTH0.0870.0000.086
calJac1.nscanGene.LENGTH0.1050.0020.106
calJac1.xenoRefGene.LENGTH0.8010.0020.804
canFam1.ensGene.LENGTH0.1050.0000.105
canFam1.geneSymbol.LENGTH0.0060.0000.005
canFam1.genscan.LENGTH0.0620.0000.062
canFam1.nscanGene.LENGTH0.0610.0010.062
canFam1.refGene.LENGTH0.0050.0000.005
canFam1.xenoRefGene.LENGTH0.6020.0010.604
canFam2.ensGene.LENGTH0.1060.0000.106
canFam2.geneSymbol.LENGTH0.0060.0000.005
canFam2.genscan.LENGTH0.0570.0010.058
canFam2.nscanGene.LENGTH0.0620.0000.062
canFam2.refGene.LENGTH0.0050.0000.005
canFam2.xenoRefGene.LENGTH0.6320.0030.635
cavPor3.ensGene.LENGTH0.2880.0010.290
cavPor3.genscan.LENGTH0.0880.0010.089
cavPor3.nscanGene.LENGTH0.0580.0010.060
cavPor3.xenoRefGene.LENGTH0.5520.0000.552
cb1.xenoRefGene.LENGTH0.3880.0000.388
cb3.xenoRefGene.LENGTH0.3380.0000.339
ce2.geneSymbol.LENGTH0.0670.0010.068
ce2.geneid.LENGTH0.0550.0000.055
ce2.refGene.LENGTH0.0630.0010.064
ce4.geneSymbol.LENGTH0.0670.0000.067
ce4.refGene.LENGTH0.060.000.06
ce4.xenoRefGene.LENGTH0.0810.0000.080
ce6.ensGene.LENGTH0.0890.0010.090
ce6.geneSymbol.LENGTH0.0670.0000.067
ce6.refGene.LENGTH0.0620.0000.063
ce6.xenoRefGene.LENGTH0.0810.0000.082
ci1.geneSymbol.LENGTH0.0050.0000.005
ci1.refGene.LENGTH0.0040.0010.005
ci1.xenoRefGene.LENGTH0.1680.0010.169
ci2.ensGene.LENGTH0.0640.0010.064
ci2.geneSymbol.LENGTH0.0040.0010.005
ci2.refGene.LENGTH0.0050.0000.004
ci2.xenoRefGene.LENGTH1.0240.0791.103
danRer3.ensGene.LENGTH0.0940.0000.095
danRer3.geneSymbol.LENGTH0.0520.0080.060
danRer3.refGene.LENGTH0.0490.0000.048
danRer4.ensGene.LENGTH0.1150.0020.117
danRer4.geneSymbol.LENGTH0.0510.0000.051
danRer4.genscan.LENGTH0.0570.0000.057
danRer4.nscanGene.LENGTH0.0830.0000.083
danRer4.refGene.LENGTH0.0490.0000.048
danRer5.ensGene.LENGTH0.1160.0010.118
danRer5.geneSymbol.LENGTH0.0470.0000.048
danRer5.refGene.LENGTH0.0430.0010.044
danRer5.vegaGene.LENGTH0.0450.0010.046
danRer5.vegaPseudoGene.LENGTH0.0010.0010.002
danRer6.ensGene.LENGTH0.1100.0000.109
danRer6.geneSymbol.LENGTH0.0490.0000.048
danRer6.refGene.LENGTH0.0450.0000.045
danRer6.xenoRefGene.LENGTH0.5150.0000.515
dm1.geneSymbol.LENGTH0.0610.0000.061
dm1.genscan.LENGTH0.0220.0000.022
dm1.refGene.LENGTH0.0560.0000.056
dm2.geneSymbol.LENGTH0.0620.0000.062
dm2.geneid.LENGTH0.0330.0000.033
dm2.genscan.LENGTH0.0230.0000.022
dm2.nscanGene.LENGTH0.0490.0000.049
dm2.refGene.LENGTH0.0570.0000.056
dm3.geneSymbol.LENGTH0.0670.0000.068
dm3.nscanPasaGene.LENGTH0.0490.0000.049
dm3.refGene.LENGTH0.0620.0000.063
downloadLengthFromUCSC000
dp2.genscan.LENGTH0.0300.0000.029
dp2.xenoRefGene.LENGTH0.1900.0000.191
dp3.geneid.LENGTH0.0360.0000.036
dp3.genscan.LENGTH0.0240.0000.023
dp3.xenoRefGene.LENGTH0.1040.0000.103
droAna1.geneid.LENGTH0.0640.0000.064
droAna1.genscan.LENGTH0.0210.0000.022
droAna1.xenoRefGene.LENGTH0.1920.0000.193
droAna2.genscan.LENGTH0.0460.0000.047
droAna2.xenoRefGene.LENGTH0.2600.0000.261
droEre1.genscan.LENGTH0.0260.0010.027
droEre1.xenoRefGene.LENGTH0.2490.0000.249
droGri1.genscan.LENGTH0.0360.0010.037
droGri1.xenoRefGene.LENGTH0.2750.0010.276
droMoj1.geneid.LENGTH0.1180.0070.126
droMoj1.genscan.LENGTH0.0530.0000.054
droMoj1.xenoRefGene.LENGTH0.2030.0000.204
droMoj2.genscan.LENGTH0.0330.0000.034
droMoj2.xenoRefGene.LENGTH0.2510.0020.254
droPer1.genscan.LENGTH0.0370.0000.038
droPer1.xenoRefGene.LENGTH0.2600.0010.261
droSec1.genscan.LENGTH0.0270.0000.027
droSec1.xenoRefGene.LENGTH0.2560.0020.258
droSim1.geneid.LENGTH0.0320.0020.034
droSim1.genscan.LENGTH0.0240.0000.023
droSim1.xenoRefGene.LENGTH0.3360.0100.346
droVir1.geneid.LENGTH0.0970.0000.097
droVir1.genscan.LENGTH0.0400.0000.039
droVir1.xenoRefGene.LENGTH0.2240.0010.225
droVir2.genscan.LENGTH0.0320.0010.033
droVir2.xenoRefGene.LENGTH0.2560.0020.258
droYak1.geneid.LENGTH0.0420.0000.041
droYak1.genscan.LENGTH0.0260.0010.027
droYak1.xenoRefGene.LENGTH0.2110.0000.210
droYak2.genscan.LENGTH0.0250.0000.026
droYak2.xenoRefGene.LENGTH0.2540.0010.255
equCab1.geneSymbol.LENGTH0.0050.0000.004
equCab1.geneid.LENGTH0.0830.0010.084
equCab1.nscanGene.LENGTH0.0380.0010.039
equCab1.refGene.LENGTH0.0050.0000.004
equCab1.sgpGene.LENGTH0.0670.0000.066
equCab2.ensGene.LENGTH0.0980.0000.097
equCab2.geneSymbol.LENGTH0.0060.0000.006
equCab2.nscanGene.LENGTH0.0470.0010.048
equCab2.refGene.LENGTH0.0050.0010.006
equCab2.xenoRefGene.LENGTH0.5780.0110.589
felCat3.ensGene.LENGTH0.1080.0000.107
felCat3.geneSymbol.LENGTH0.0030.0000.003
felCat3.geneid.LENGTH0.5170.0010.518
felCat3.genscan.LENGTH0.1130.0000.113
felCat3.nscanGene.LENGTH0.2540.0050.258
felCat3.refGene.LENGTH0.0040.0000.003
felCat3.sgpGene.LENGTH0.1390.0010.139
felCat3.xenoRefGene.LENGTH1.0760.0021.077
fr1.ensGene.LENGTH0.0740.0000.074
fr1.genscan.LENGTH0.0560.0010.057
fr2.ensGene.LENGTH0.6020.0100.611
galGal2.ensGene.LENGTH0.0510.0000.050
galGal2.geneSymbol.LENGTH0.0140.0010.015
galGal2.geneid.LENGTH0.0320.0010.033
galGal2.genscan.LENGTH0.0450.0000.045
galGal2.refGene.LENGTH0.0140.0000.014
galGal2.sgpGene.LENGTH0.0390.0010.041
galGal3.ensGene.LENGTH0.0630.0010.065
galGal3.geneSymbol.LENGTH0.0130.0010.015
galGal3.genscan.LENGTH0.0450.0010.046
galGal3.nscanGene.LENGTH0.0610.0010.062
galGal3.refGene.LENGTH0.0130.0010.014
galGal3.xenoRefGene.LENGTH0.4190.0000.419
gasAcu1.ensGene.LENGTH0.0770.0000.077
gasAcu1.nscanGene.LENGTH0.0790.0010.079
hg16.acembly.LENGTH0.3070.0010.307
hg16.ensGene.LENGTH0.0630.0010.064
hg16.exoniphy.LENGTH0.2090.0010.210
hg16.geneSymbol.LENGTH0.0920.0000.093
hg16.geneid.LENGTH0.0440.0000.044
hg16.genscan.LENGTH0.0550.0010.056
hg16.knownGene.LENGTH0.1060.0010.107
hg16.refGene.LENGTH0.0890.0000.089
hg16.sgpGene.LENGTH0.0530.0010.053
hg17.acembly.LENGTH0.3740.0010.375
hg17.acescan.LENGTH0.0090.0010.010
hg17.ccdsGene.LENGTH0.0200.0010.022
hg17.ensGene.LENGTH0.0940.0010.096
hg17.exoniphy.LENGTH0.3600.0010.361
hg17.geneSymbol.LENGTH0.0950.0000.094
hg17.geneid.LENGTH0.0680.0000.068
hg17.genscan.LENGTH0.0530.0000.053
hg17.knownGene.LENGTH0.0970.0000.097
hg17.refGene.LENGTH0.0890.0000.089
hg17.sgpGene.LENGTH0.0660.0010.066
hg17.vegaGene.LENGTH0.0390.0000.038
hg17.vegaPseudoGene.LENGTH0.0170.0000.016
hg17.xenoRefGene.LENGTH0.4210.0010.421
hg18.acembly.LENGTH0.4090.0010.409
hg18.acescan.LENGTH0.0090.0010.009
hg18.ccdsGene.LENGTH0.0310.0010.032
hg18.ensGene.LENGTH0.1690.0020.172
hg18.exoniphy.LENGTH0.4080.0010.409
hg18.geneSymbol.LENGTH0.0980.0000.098
hg18.geneid.LENGTH0.0720.0010.073
hg18.genscan.LENGTH0.0590.0000.058
hg18.knownGene.LENGTH0.1520.0000.153
hg18.knownGeneOld3.LENGTH0.0680.0000.068
hg18.refGene.LENGTH0.0960.0010.098
hg18.sgpGene.LENGTH0.0770.0000.078
hg18.sibGene.LENGTH0.7280.0030.732
hg18.xenoRefGene.LENGTH0.3070.0000.308
hg19.ccdsGene.LENGTH0.0380.0000.037
hg19.ensGene.LENGTH0.2620.0010.263
hg19.exoniphy.LENGTH0.4090.0020.412
hg19.geneSymbol.LENGTH0.0930.0020.095
hg19.knownGene.LENGTH0.1620.0000.162
hg19.nscanGene.LENGTH0.1430.0020.145
hg19.refGene.LENGTH0.0910.0010.092
hg19.xenoRefGene.LENGTH0.3290.0010.330
loxAfr3.xenoRefGene.LENGTH0.7090.0040.713
mm7.ensGene.LENGTH0.1060.0000.106
mm7.geneSymbol.LENGTH0.0850.0000.086
mm7.geneid.LENGTH0.0760.0020.078
mm7.genscan.LENGTH0.0640.0000.064
mm7.knownGene.LENGTH0.0930.0010.095
mm7.refGene.LENGTH0.0840.0010.085
mm7.sgpGene.LENGTH0.0740.0020.077
mm7.xenoRefGene.LENGTH0.2860.0020.288
mm8.ccdsGene.LENGTH0.0210.0000.020
mm8.ensGene.LENGTH0.0710.0010.072
mm8.geneSymbol.LENGTH0.0810.0020.084
mm8.geneid.LENGTH0.0720.0010.073
mm8.genscan.LENGTH0.060.000.06
mm8.knownGene.LENGTH0.0850.0030.088
mm8.nscanGene.LENGTH0.0620.0000.061
mm8.refGene.LENGTH0.3090.0000.309
mm8.sgpGene.LENGTH0.0720.0010.074
mm8.sibGene.LENGTH0.2410.0010.242
mm8.xenoRefGene.LENGTH0.3300.0010.330
mm9.acembly.LENGTH0.2930.0000.294
mm9.ccdsGene.LENGTH0.0270.0010.029
mm9.ensGene.LENGTH0.1380.0000.138
mm9.exoniphy.LENGTH0.4030.0000.404
mm9.geneSymbol.LENGTH0.0870.0000.086
mm9.geneid.LENGTH0.0820.0010.082
mm9.genscan.LENGTH0.0640.0000.064
mm9.knownGene.LENGTH0.1050.0010.106
mm9.nscanGene.LENGTH0.0620.0000.061
mm9.refGene.LENGTH0.0860.0000.085
mm9.sgpGene.LENGTH0.0840.0000.084
mm9.xenoRefGene.LENGTH0.7200.0010.721
monDom1.genscan.LENGTH0.0630.0000.062
monDom4.ensGene.LENGTH0.0690.0000.068
monDom4.geneSymbol.LENGTH0.0040.0000.003
monDom4.genscan.LENGTH0.0510.0010.052
monDom4.nscanGene.LENGTH0.0510.0000.051
monDom4.refGene.LENGTH0.0030.0000.003
monDom4.xenoRefGene.LENGTH0.3050.0010.306
monDom5.ensGene.LENGTH0.1010.0000.100
monDom5.geneSymbol.LENGTH0.0030.0000.003
monDom5.genscan.LENGTH0.0510.0010.052
monDom5.nscanGene.LENGTH0.1060.0000.105
monDom5.refGene.LENGTH0.0040.0000.003
monDom5.xenoRefGene.LENGTH0.5250.0010.526
ornAna1.ensGene.LENGTH0.0860.0000.086
ornAna1.geneSymbol.LENGTH0.0020.0000.003
ornAna1.refGene.LENGTH0.0010.0000.002
ornAna1.xenoRefGene.LENGTH0.4980.0020.500
oryLat2.ensGene.LENGTH1.0960.1461.241
oryLat2.geneSymbol.LENGTH0.0040.0000.003
oryLat2.refGene.LENGTH0.0020.0010.003
oryLat2.xenoRefGene.LENGTH0.4560.0000.456
panTro1.ensGene.LENGTH0.0900.0010.091
panTro1.geneid.LENGTH0.0420.0010.044
panTro1.genscan.LENGTH0.0510.0010.053
panTro1.xenoRefGene.LENGTH0.1010.0010.103
panTro2.ensGene.LENGTH0.10.00.1
panTro2.geneSymbol.LENGTH0.0920.0000.092
panTro2.genscan.LENGTH0.0540.0000.054
panTro2.nscanGene.LENGTH0.0550.0000.055
panTro2.refGene.LENGTH0.0910.0000.091
panTro2.xenoRefGene.LENGTH0.4270.0010.428
petMar1.xenoRefGene.LENGTH0.2340.0000.234
ponAbe2.ensGene.LENGTH0.0740.0000.074
ponAbe2.geneSymbol.LENGTH0.0120.0000.011
ponAbe2.genscan.LENGTH0.0550.0000.055
ponAbe2.nscanGene.LENGTH0.0540.0000.055
ponAbe2.refGene.LENGTH0.0090.0010.011
ponAbe2.xenoRefGene.LENGTH0.5450.0040.550
priPac1.xenoRefGene.LENGTH0.3110.0020.313
rheMac2.ensGene.LENGTH0.1120.0000.112
rheMac2.geneSymbol.LENGTH0.0040.0000.005
rheMac2.geneid.LENGTH0.0620.0020.064
rheMac2.nscanGene.LENGTH0.0550.0000.055
rheMac2.refGene.LENGTH0.0030.0010.005
rheMac2.sgpGene.LENGTH0.0630.0000.064
rheMac2.xenoRefGene.LENGTH0.4010.0030.404
rn3.ensGene.LENGTH0.0880.0010.090
rn3.geneSymbol.LENGTH0.0500.0000.049
rn3.geneid.LENGTH0.0480.0000.047
rn3.genscan.LENGTH0.0570.0010.057
rn3.knownGene.LENGTH0.0220.0000.022
rn3.nscanGene.LENGTH0.0550.0000.056
rn3.refGene.LENGTH0.0440.0020.046
rn3.sgpGene.LENGTH0.0500.0010.051
rn3.xenoRefGene.LENGTH0.4630.0040.467
rn4.ensGene.LENGTH0.1160.0000.115
rn4.geneSymbol.LENGTH0.0490.0000.049
rn4.geneid.LENGTH0.0760.0020.078
rn4.genscan.LENGTH0.0580.0000.057
rn4.knownGene.LENGTH0.0230.0000.022
rn4.nscanGene.LENGTH0.0460.0020.048
rn4.refGene.LENGTH0.0460.0000.046
rn4.sgpGene.LENGTH0.0740.0000.074
rn4.xenoRefGene.LENGTH0.2840.0040.288
sacCer1.ensGene.LENGTH0.0160.0000.016
sacCer2.ensGene.LENGTH0.0150.0010.015
strPur1.geneSymbol.LENGTH0.0040.0000.004
strPur1.genscan.LENGTH0.0590.0020.061
strPur1.refGene.LENGTH0.0040.0000.004
strPur1.xenoRefGene.LENGTH0.3970.0040.402
strPur2.geneSymbol.LENGTH0.0030.0000.004
strPur2.genscan.LENGTH0.0930.0010.095
strPur2.refGene.LENGTH0.0040.0000.003
strPur2.xenoRefGene.LENGTH0.5560.0040.560
supportedGeneIDs3.1860.1415.865
supportedGenomes0.2640.0211.186
taeGut1.ensGene.LENGTH0.0550.0010.057
taeGut1.geneSymbol.LENGTH0.0010.0010.003
taeGut1.genscan.LENGTH0.0270.0020.029
taeGut1.nscanGene.LENGTH0.0240.0070.030
taeGut1.refGene.LENGTH0.0030.0000.002
taeGut1.xenoRefGene.LENGTH0.3770.0130.389
tetNig1.ensGene.LENGTH0.0810.0040.085
tetNig1.geneid.LENGTH0.0600.0010.062
tetNig1.genscan.LENGTH0.0450.0010.046
tetNig1.nscanGene.LENGTH0.0630.0000.063
tetNig2.ensGene.LENGTH0.0640.0030.067
unfactor0.0040.0000.004
xenTro1.genscan.LENGTH0.0750.0080.083
xenTro2.ensGene.LENGTH0.0780.0030.081
xenTro2.geneSymbol.LENGTH0.0280.0010.030
xenTro2.genscan.LENGTH0.0620.0020.064
xenTro2.refGene.LENGTH0.0250.0010.027