| Back to Multiple platform build/check report for BioC 3.11 (small subset of software packages ONLY) |
This page was generated on 2020-01-24 03:57:02 -0500 (Fri, 24 Jan 2020).
| Package 17/41 | Hostname | OS / Arch | INSTALL | BUILD | CHECK | BUILD BIN | |||||
| DelayedMatrixStats 1.9.0 Peter Hickey
| malbec2 | Linux (Ubuntu 18.04.3 LTS) / x86_64 | OK | [ OK ] | OK | ||||||
| tokay2 | Windows Server 2012 R2 Standard / x64 | OK | OK | WARNINGS | OK |
| Package: DelayedMatrixStats |
| Version: 1.9.0 |
| Command: /home/biocbuild/bbs-3.11-bioc/R/bin/R CMD build --keep-empty-dirs --no-resave-data DelayedMatrixStats |
| StartedAt: 2020-01-24 02:21:24 -0500 (Fri, 24 Jan 2020) |
| EndedAt: 2020-01-24 02:25:07 -0500 (Fri, 24 Jan 2020) |
| EllapsedTime: 223.1 seconds |
| RetCode: 0 |
| Status: OK |
| PackageFile: DelayedMatrixStats_1.9.0.tar.gz |
| PackageFileSize: 272.2 KiB |
############################################################################## ############################################################################## ### ### Running command: ### ### /home/biocbuild/bbs-3.11-bioc/R/bin/R CMD build --keep-empty-dirs --no-resave-data DelayedMatrixStats ### ############################################################################## ############################################################################## * checking for file ‘DelayedMatrixStats/DESCRIPTION’ ... OK * preparing ‘DelayedMatrixStats’: * checking DESCRIPTION meta-information ... OK * installing the package to build vignettes * creating vignettes ... OK * checking for LF line-endings in source and make files and shell scripts * checking for empty or unneeded directories * building ‘DelayedMatrixStats_1.9.0.tar.gz’