Back to Multiple platform build/check report for BioC 3.22:   simplified   long
ABCDEFG[H]IJKLMNOPQRSTUVWXYZ

This page was generated on 2025-10-17 12:03 -0400 (Fri, 17 Oct 2025).

HostnameOSArch (*)R versionInstalled pkgs
nebbiolo2Linux (Ubuntu 24.04.3 LTS)x86_644.5.1 Patched (2025-08-23 r88802) -- "Great Square Root" 4887
lconwaymacOS 12.7.6 Montereyx86_644.5.1 Patched (2025-09-10 r88807) -- "Great Square Root" 4677
kjohnson3macOS 13.7.7 Venturaarm644.5.1 Patched (2025-09-10 r88807) -- "Great Square Root" 4622
taishanLinux (openEuler 24.03 LTS)aarch644.5.0 (2025-04-11) -- "How About a Twenty-Six" 4632
Click on any hostname to see more info about the system (e.g. compilers)      (*) as reported by 'uname -p', except on Windows and Mac OS X

Package 974/2353HostnameOS / ArchINSTALLBUILDCHECKBUILD BIN
HiCBricks 1.27.1  (landing page)
Koustav Pal
Snapshot Date: 2025-10-16 13:45 -0400 (Thu, 16 Oct 2025)
git_url: https://git.bioconductor.org/packages/HiCBricks
git_branch: devel
git_last_commit: 71e4813
git_last_commit_date: 2025-07-22 20:39:06 -0400 (Tue, 22 Jul 2025)
nebbiolo2Linux (Ubuntu 24.04.3 LTS) / x86_64  OK    OK    OK  UNNEEDED, same version is already published
lconwaymacOS 12.7.6 Monterey / x86_64  OK    OK    OK    OK  UNNEEDED, same version is already published
kjohnson3macOS 13.7.7 Ventura / arm64  OK    OK    OK    OK  UNNEEDED, same version is already published
taishanLinux (openEuler 24.03 LTS) / aarch64  OK    OK    OK  


CHECK results for HiCBricks on nebbiolo2

To the developers/maintainers of the HiCBricks package:
- Allow up to 24 hours (and sometimes 48 hours) for your latest push to git@git.bioconductor.org:packages/HiCBricks.git to reflect on this report. See Troubleshooting Build Report for more information.
- Use the following Renviron settings to reproduce errors and warnings.
- If 'R CMD check' started to fail recently on the Linux builder(s) over a missing dependency, add the missing dependency to 'Suggests:' in your DESCRIPTION file. See Renviron.bioc for more information.

raw results


Summary

Package: HiCBricks
Version: 1.27.1
Command: /home/biocbuild/bbs-3.22-bioc/R/bin/R CMD check --install=check:HiCBricks.install-out.txt --library=/home/biocbuild/bbs-3.22-bioc/R/site-library --timings HiCBricks_1.27.1.tar.gz
StartedAt: 2025-10-17 01:49:41 -0400 (Fri, 17 Oct 2025)
EndedAt: 2025-10-17 01:52:58 -0400 (Fri, 17 Oct 2025)
EllapsedTime: 197.1 seconds
RetCode: 0
Status:   OK  
CheckDir: HiCBricks.Rcheck
Warnings: 0

Command output

##############################################################################
##############################################################################
###
### Running command:
###
###   /home/biocbuild/bbs-3.22-bioc/R/bin/R CMD check --install=check:HiCBricks.install-out.txt --library=/home/biocbuild/bbs-3.22-bioc/R/site-library --timings HiCBricks_1.27.1.tar.gz
###
##############################################################################
##############################################################################


* using log directory ‘/home/biocbuild/bbs-3.22-bioc/meat/HiCBricks.Rcheck’
* using R version 4.5.1 Patched (2025-08-23 r88802)
* using platform: x86_64-pc-linux-gnu
* R was compiled by
    gcc (Ubuntu 13.3.0-6ubuntu2~24.04) 13.3.0
    GNU Fortran (Ubuntu 13.3.0-6ubuntu2~24.04) 13.3.0
* running under: Ubuntu 24.04.3 LTS
* using session charset: UTF-8
* checking for file ‘HiCBricks/DESCRIPTION’ ... OK
* checking extension type ... Package
* this is package ‘HiCBricks’ version ‘1.27.1’
* package encoding: UTF-8
* checking package namespace information ... OK
* checking package dependencies ... OK
* checking if this is a source package ... OK
* checking if there is a namespace ... OK
* checking for hidden files and directories ... OK
* checking for portable file names ... OK
* checking for sufficient/correct file permissions ... OK
* checking whether package ‘HiCBricks’ can be installed ... OK
* checking installed package size ... OK
* checking package directory ... OK
* checking ‘build’ directory ... OK
* checking DESCRIPTION meta-information ... OK
* checking top-level files ... OK
* checking for left-over files ... OK
* checking index information ... OK
* checking package subdirectories ... OK
* checking code files for non-ASCII characters ... OK
* checking R files for syntax errors ... OK
* checking whether the package can be loaded ... OK
* checking whether the package can be loaded with stated dependencies ... OK
* checking whether the package can be unloaded cleanly ... OK
* checking whether the namespace can be loaded with stated dependencies ... OK
* checking whether the namespace can be unloaded cleanly ... OK
* checking loading without being on the library search path ... OK
* checking dependencies in R code ... OK
* checking S3 generic/method consistency ... OK
* checking replacement functions ... OK
* checking foreign function calls ... OK
* checking R code for possible problems ... OK
* checking Rd files ... OK
* checking Rd metadata ... OK
* checking Rd cross-references ... OK
* checking for missing documentation entries ... OK
* checking for code/documentation mismatches ... OK
* checking Rd \usage sections ... OK
* checking Rd contents ... OK
* checking for unstated dependencies in examples ... OK
* checking files in ‘vignettes’ ... OK
* checking examples ... OK
* checking for unstated dependencies in vignettes ... OK
* checking package vignettes ... OK
* checking re-building of vignette outputs ... OK
* checking PDF version of manual ... OK
* DONE

Status: OK


Installation output

HiCBricks.Rcheck/00install.out

##############################################################################
##############################################################################
###
### Running command:
###
###   /home/biocbuild/bbs-3.22-bioc/R/bin/R CMD INSTALL HiCBricks
###
##############################################################################
##############################################################################


* installing to library ‘/home/biocbuild/bbs-3.22-bioc/R/site-library’
* installing *source* package ‘HiCBricks’ ...
** this is package ‘HiCBricks’ version ‘1.27.1’
** using staged installation
** R
** inst
** byte-compile and prepare package for lazy loading
** help
*** installing help indices
** building package indices
** installing vignettes
** testing if installed package can be loaded from temporary location
** testing if installed package can be loaded from final location
** testing if installed package keeps a record of temporary installation path
* DONE (HiCBricks)

Tests output


Example timings

HiCBricks.Rcheck/HiCBricks-Ex.timings

nameusersystemelapsed
BrickContainer_change_experiment_name1.1200.0341.156
BrickContainer_change_output_directory0.9010.0170.919
BrickContainer_get_path_to_file0.7530.0160.771
BrickContainer_list_chromosomes0.7430.0150.760
BrickContainer_list_experiment_name0.7510.0460.801
BrickContainer_list_files0.8080.0420.852
BrickContainer_list_output_directory0.7510.0370.790
BrickContainer_list_resolutions0.8190.0340.855
BrickContainer_unlink_resolution1.5410.0501.596
Brick_add_ranges1.7960.0681.867
Brick_call_compartments1.1980.0811.283
Brick_export_to_sparse2.0620.0842.149
Brick_fetch_range_index0.8460.0340.882
Brick_fetch_row_vector1.2420.0351.280
Brick_get_bintable1.1190.0711.195
Brick_get_chrominfo0.6970.0130.712
Brick_get_entire_matrix1.0240.0321.060
Brick_get_matrix0.9870.0501.040
Brick_get_matrix_mcols0.9600.0190.985
Brick_get_matrix_within_coords1.3760.0711.451
Brick_get_ranges0.7320.0120.747
Brick_get_values_by_distance1.0620.0321.096
Brick_get_vector_values1.0570.0451.107
Brick_list_matrices0.7120.0180.736
Brick_list_matrix_mcols0.6850.0060.693
Brick_list_mcool_normalisations000
Brick_list_mcool_resolutions000
Brick_list_rangekeys0.7030.0140.719
Brick_list_ranges_mcols0.7030.0400.748
Brick_load_cis_matrix_till_distance0.8750.0260.904
Brick_load_data_from_mcool000
Brick_load_data_from_sparse000
Brick_load_matrix0.9410.0240.967
Brick_local_score_differentiator1.5160.0441.563
Brick_make_ranges0.0080.0000.009
Brick_matrix_dimensions0.9920.0171.012
Brick_matrix_exists0.9310.0220.956
Brick_matrix_filename0.9290.0200.951
Brick_matrix_isdone0.9440.0170.963
Brick_matrix_issparse0.9430.0230.972
Brick_matrix_maxdist1.0870.0371.129
Brick_matrix_minmax0.9600.0361.004
Brick_mcool_normalisation_exists0.0010.0000.000
Brick_rangekey_exists0.7280.0140.745
Brick_return_region_position0.7770.0050.789
Brick_vizart_plot_heatmap1.9490.0862.038
Create_many_Bricks0.7250.0140.742
Create_many_Bricks_from_mcool000
load_BrickContainer0.8590.0150.880