| Back to Multiple platform build/check report for BioC 3.23: simplified long |
|
This page was generated on 2025-11-22 11:39 -0500 (Sat, 22 Nov 2025).
| Hostname | OS | Arch (*) | R version | Installed pkgs |
|---|---|---|---|---|
| nebbiolo1 | Linux (Ubuntu 24.04.3 LTS) | x86_64 | R Under development (unstable) (2025-10-20 r88955) -- "Unsuffered Consequences" | 4829 |
| lconway | macOS 12.7.6 Monterey | x86_64 | R Under development (unstable) (2025-10-21 r88958) -- "Unsuffered Consequences" | 4603 |
| kjohnson3 | macOS 13.7.7 Ventura | arm64 | R Under development (unstable) (2025-11-04 r88984) -- "Unsuffered Consequences" | 4567 |
| Click on any hostname to see more info about the system (e.g. compilers) (*) as reported by 'uname -p', except on Windows and Mac OS X | ||||
| Package 967/2327 | Hostname | OS / Arch | INSTALL | BUILD | CHECK | BUILD BIN | ||||||||
| HiCBricks 1.29.0 (landing page) Koustav Pal
| nebbiolo1 | Linux (Ubuntu 24.04.3 LTS) / x86_64 | OK | OK | OK | |||||||||
| lconway | macOS 12.7.6 Monterey / x86_64 | OK | OK | OK | OK | |||||||||
| kjohnson3 | macOS 13.7.7 Ventura / arm64 | OK | OK | OK | OK | |||||||||
|
To the developers/maintainers of the HiCBricks package: - Allow up to 24 hours (and sometimes 48 hours) for your latest push to git@git.bioconductor.org:packages/HiCBricks.git to reflect on this report. See Troubleshooting Build Report for more information. - Use the following Renviron settings to reproduce errors and warnings. - If 'R CMD check' started to fail recently on the Linux builder(s) over a missing dependency, add the missing dependency to 'Suggests:' in your DESCRIPTION file. See Renviron.bioc for more information. |
| Package: HiCBricks |
| Version: 1.29.0 |
| Command: /Library/Frameworks/R.framework/Resources/bin/R CMD check --install=check:HiCBricks.install-out.txt --library=/Library/Frameworks/R.framework/Resources/library --no-vignettes --timings HiCBricks_1.29.0.tar.gz |
| StartedAt: 2025-11-21 20:21:04 -0500 (Fri, 21 Nov 2025) |
| EndedAt: 2025-11-21 20:22:08 -0500 (Fri, 21 Nov 2025) |
| EllapsedTime: 64.7 seconds |
| RetCode: 0 |
| Status: OK |
| CheckDir: HiCBricks.Rcheck |
| Warnings: 0 |
##############################################################################
##############################################################################
###
### Running command:
###
### /Library/Frameworks/R.framework/Resources/bin/R CMD check --install=check:HiCBricks.install-out.txt --library=/Library/Frameworks/R.framework/Resources/library --no-vignettes --timings HiCBricks_1.29.0.tar.gz
###
##############################################################################
##############################################################################
* using log directory ‘/Users/biocbuild/bbs-3.23-bioc/meat/HiCBricks.Rcheck’
* using R Under development (unstable) (2025-11-04 r88984)
* using platform: aarch64-apple-darwin20
* R was compiled by
Apple clang version 16.0.0 (clang-1600.0.26.6)
GNU Fortran (GCC) 14.2.0
* running under: macOS Ventura 13.7.8
* using session charset: UTF-8
* using option ‘--no-vignettes’
* checking for file ‘HiCBricks/DESCRIPTION’ ... OK
* checking extension type ... Package
* this is package ‘HiCBricks’ version ‘1.29.0’
* package encoding: UTF-8
* checking package namespace information ... OK
* checking package dependencies ... OK
* checking if this is a source package ... OK
* checking if there is a namespace ... OK
* checking for hidden files and directories ... OK
* checking for portable file names ... OK
* checking for sufficient/correct file permissions ... OK
* checking whether package ‘HiCBricks’ can be installed ... OK
* checking installed package size ... OK
* checking package directory ... OK
* checking ‘build’ directory ... OK
* checking DESCRIPTION meta-information ... OK
* checking top-level files ... OK
* checking for left-over files ... OK
* checking index information ... OK
* checking package subdirectories ... OK
* checking code files for non-ASCII characters ... OK
* checking R files for syntax errors ... OK
* checking whether the package can be loaded ... OK
* checking whether the package can be loaded with stated dependencies ... OK
* checking whether the package can be unloaded cleanly ... OK
* checking whether the namespace can be loaded with stated dependencies ... OK
* checking whether the namespace can be unloaded cleanly ... OK
* checking dependencies in R code ... OK
* checking S3 generic/method consistency ... OK
* checking replacement functions ... OK
* checking foreign function calls ... OK
* checking R code for possible problems ... OK
* checking Rd files ... OK
* checking Rd metadata ... OK
* checking Rd cross-references ... OK
* checking for missing documentation entries ... OK
* checking for code/documentation mismatches ... OK
* checking Rd \usage sections ... OK
* checking Rd contents ... OK
* checking for unstated dependencies in examples ... OK
* checking files in ‘vignettes’ ... OK
* checking examples ... OK
* checking for unstated dependencies in vignettes ... OK
* checking package vignettes ... OK
* checking running R code from vignettes ... SKIPPED
* checking re-building of vignette outputs ... SKIPPED
* checking PDF version of manual ... OK
* DONE
Status: OK
HiCBricks.Rcheck/00install.out
############################################################################## ############################################################################## ### ### Running command: ### ### /Library/Frameworks/R.framework/Resources/bin/R CMD INSTALL HiCBricks ### ############################################################################## ############################################################################## * installing to library ‘/Library/Frameworks/R.framework/Versions/4.6-arm64/Resources/library’ * installing *source* package ‘HiCBricks’ ... ** this is package ‘HiCBricks’ version ‘1.29.0’ ** using staged installation ** R ** inst ** byte-compile and prepare package for lazy loading ** help *** installing help indices ** building package indices ** installing vignettes ** testing if installed package can be loaded from temporary location ** testing if installed package can be loaded from final location ** testing if installed package keeps a record of temporary installation path * DONE (HiCBricks)
HiCBricks.Rcheck/HiCBricks-Ex.timings
| name | user | system | elapsed | |
| BrickContainer_change_experiment_name | 0.353 | 0.043 | 0.422 | |
| BrickContainer_change_output_directory | 0.242 | 0.037 | 0.301 | |
| BrickContainer_get_path_to_file | 0.224 | 0.031 | 0.261 | |
| BrickContainer_list_chromosomes | 0.225 | 0.033 | 0.273 | |
| BrickContainer_list_experiment_name | 0.221 | 0.033 | 0.289 | |
| BrickContainer_list_files | 0.226 | 0.032 | 0.273 | |
| BrickContainer_list_output_directory | 0.226 | 0.040 | 0.283 | |
| BrickContainer_list_resolutions | 0.215 | 0.033 | 0.262 | |
| BrickContainer_unlink_resolution | 0.478 | 0.078 | 0.620 | |
| Brick_add_ranges | 0.559 | 0.048 | 0.646 | |
| Brick_call_compartments | 0.407 | 0.106 | 0.559 | |
| Brick_export_to_sparse | 0.733 | 0.107 | 0.887 | |
| Brick_fetch_range_index | 0.433 | 0.043 | 0.520 | |
| Brick_fetch_row_vector | 0.449 | 0.090 | 0.613 | |
| Brick_get_bintable | 0.226 | 0.034 | 0.280 | |
| Brick_get_chrominfo | 0.201 | 0.034 | 0.241 | |
| Brick_get_entire_matrix | 0.366 | 0.063 | 0.461 | |
| Brick_get_matrix | 0.352 | 0.054 | 0.418 | |
| Brick_get_matrix_mcols | 0.340 | 0.068 | 0.457 | |
| Brick_get_matrix_within_coords | 0.490 | 0.090 | 0.616 | |
| Brick_get_ranges | 0.232 | 0.039 | 0.282 | |
| Brick_get_values_by_distance | 0.389 | 0.087 | 0.508 | |
| Brick_get_vector_values | 0.355 | 0.065 | 0.465 | |
| Brick_list_matrices | 0.206 | 0.035 | 0.266 | |
| Brick_list_matrix_mcols | 0.210 | 0.033 | 0.273 | |
| Brick_list_mcool_normalisations | 0 | 0 | 0 | |
| Brick_list_mcool_resolutions | 0 | 0 | 0 | |
| Brick_list_rangekeys | 0.214 | 0.030 | 0.251 | |
| Brick_list_ranges_mcols | 0.220 | 0.033 | 0.269 | |
| Brick_load_cis_matrix_till_distance | 0.312 | 0.050 | 0.415 | |
| Brick_load_data_from_mcool | 0.000 | 0.000 | 0.001 | |
| Brick_load_data_from_sparse | 0.000 | 0.001 | 0.001 | |
| Brick_load_matrix | 0.341 | 0.071 | 0.450 | |
| Brick_local_score_differentiator | 0.551 | 0.150 | 0.764 | |
| Brick_make_ranges | 0.002 | 0.000 | 0.002 | |
| Brick_matrix_dimensions | 0.343 | 0.074 | 0.446 | |
| Brick_matrix_exists | 0.334 | 0.077 | 0.422 | |
| Brick_matrix_filename | 0.337 | 0.055 | 0.416 | |
| Brick_matrix_isdone | 0.343 | 0.066 | 0.443 | |
| Brick_matrix_issparse | 0.344 | 0.056 | 0.424 | |
| Brick_matrix_maxdist | 0.346 | 0.057 | 0.424 | |
| Brick_matrix_minmax | 0.345 | 0.078 | 0.458 | |
| Brick_mcool_normalisation_exists | 0.000 | 0.000 | 0.001 | |
| Brick_rangekey_exists | 0.213 | 0.033 | 0.274 | |
| Brick_return_region_position | 0.264 | 0.042 | 0.326 | |
| Brick_vizart_plot_heatmap | 0.715 | 0.083 | 0.830 | |
| Create_many_Bricks | 0.216 | 0.034 | 0.263 | |
| Create_many_Bricks_from_mcool | 0.000 | 0.000 | 0.001 | |
| load_BrickContainer | 0.227 | 0.030 | 0.285 | |