| Back to Multiple platform build/check report for BioC 3.23: simplified long |
|
This page was generated on 2025-11-21 11:38 -0500 (Fri, 21 Nov 2025).
| Hostname | OS | Arch (*) | R version | Installed pkgs |
|---|---|---|---|---|
| nebbiolo1 | Linux (Ubuntu 24.04.3 LTS) | x86_64 | R Under development (unstable) (2025-10-20 r88955) -- "Unsuffered Consequences" | 4829 |
| lconway | macOS 12.7.6 Monterey | x86_64 | R Under development (unstable) (2025-10-21 r88958) -- "Unsuffered Consequences" | 4602 |
| kjohnson3 | macOS 13.7.7 Ventura | arm64 | R Under development (unstable) (2025-11-04 r88984) -- "Unsuffered Consequences" | 4566 |
| Click on any hostname to see more info about the system (e.g. compilers) (*) as reported by 'uname -p', except on Windows and Mac OS X | ||||
| Package 967/2327 | Hostname | OS / Arch | INSTALL | BUILD | CHECK | BUILD BIN | ||||||||
| HiCBricks 1.29.0 (landing page) Koustav Pal
| nebbiolo1 | Linux (Ubuntu 24.04.3 LTS) / x86_64 | OK | OK | OK | |||||||||
| lconway | macOS 12.7.6 Monterey / x86_64 | OK | OK | OK | OK | |||||||||
| kjohnson3 | macOS 13.7.7 Ventura / arm64 | OK | OK | OK | OK | |||||||||
|
To the developers/maintainers of the HiCBricks package: - Allow up to 24 hours (and sometimes 48 hours) for your latest push to git@git.bioconductor.org:packages/HiCBricks.git to reflect on this report. See Troubleshooting Build Report for more information. - Use the following Renviron settings to reproduce errors and warnings. - If 'R CMD check' started to fail recently on the Linux builder(s) over a missing dependency, add the missing dependency to 'Suggests:' in your DESCRIPTION file. See Renviron.bioc for more information. |
| Package: HiCBricks |
| Version: 1.29.0 |
| Command: /Library/Frameworks/R.framework/Resources/bin/R CMD check --install=check:HiCBricks.install-out.txt --library=/Library/Frameworks/R.framework/Resources/library --no-vignettes --timings HiCBricks_1.29.0.tar.gz |
| StartedAt: 2025-11-20 21:41:36 -0500 (Thu, 20 Nov 2025) |
| EndedAt: 2025-11-20 21:44:41 -0500 (Thu, 20 Nov 2025) |
| EllapsedTime: 184.4 seconds |
| RetCode: 0 |
| Status: OK |
| CheckDir: HiCBricks.Rcheck |
| Warnings: 0 |
##############################################################################
##############################################################################
###
### Running command:
###
### /Library/Frameworks/R.framework/Resources/bin/R CMD check --install=check:HiCBricks.install-out.txt --library=/Library/Frameworks/R.framework/Resources/library --no-vignettes --timings HiCBricks_1.29.0.tar.gz
###
##############################################################################
##############################################################################
* using log directory ‘/Users/biocbuild/bbs-3.23-bioc/meat/HiCBricks.Rcheck’
* using R Under development (unstable) (2025-10-21 r88958)
* using platform: x86_64-apple-darwin20
* R was compiled by
Apple clang version 14.0.0 (clang-1400.0.29.202)
GNU Fortran (GCC) 14.2.0
* running under: macOS Ventura 13.7.8
* using session charset: UTF-8
* using option ‘--no-vignettes’
* checking for file ‘HiCBricks/DESCRIPTION’ ... OK
* checking extension type ... Package
* this is package ‘HiCBricks’ version ‘1.29.0’
* package encoding: UTF-8
* checking package namespace information ... OK
* checking package dependencies ... OK
* checking if this is a source package ... OK
* checking if there is a namespace ... OK
* checking for hidden files and directories ... OK
* checking for portable file names ... OK
* checking for sufficient/correct file permissions ... OK
* checking whether package ‘HiCBricks’ can be installed ... OK
* checking installed package size ... OK
* checking package directory ... OK
* checking ‘build’ directory ... OK
* checking DESCRIPTION meta-information ... OK
* checking top-level files ... OK
* checking for left-over files ... OK
* checking index information ... OK
* checking package subdirectories ... OK
* checking code files for non-ASCII characters ... OK
* checking R files for syntax errors ... OK
* checking whether the package can be loaded ... OK
* checking whether the package can be loaded with stated dependencies ... OK
* checking whether the package can be unloaded cleanly ... OK
* checking whether the namespace can be loaded with stated dependencies ... OK
* checking whether the namespace can be unloaded cleanly ... OK
* checking dependencies in R code ... OK
* checking S3 generic/method consistency ... OK
* checking replacement functions ... OK
* checking foreign function calls ... OK
* checking R code for possible problems ... OK
* checking Rd files ... OK
* checking Rd metadata ... OK
* checking Rd cross-references ... OK
* checking for missing documentation entries ... OK
* checking for code/documentation mismatches ... OK
* checking Rd \usage sections ... OK
* checking Rd contents ... OK
* checking for unstated dependencies in examples ... OK
* checking files in ‘vignettes’ ... OK
* checking examples ... OK
* checking for unstated dependencies in vignettes ... OK
* checking package vignettes ... OK
* checking running R code from vignettes ... SKIPPED
* checking re-building of vignette outputs ... SKIPPED
* checking PDF version of manual ... OK
* DONE
Status: OK
HiCBricks.Rcheck/00install.out
############################################################################## ############################################################################## ### ### Running command: ### ### /Library/Frameworks/R.framework/Resources/bin/R CMD INSTALL HiCBricks ### ############################################################################## ############################################################################## * installing to library ‘/Library/Frameworks/R.framework/Versions/4.6-x86_64/Resources/library’ * installing *source* package ‘HiCBricks’ ... ** this is package ‘HiCBricks’ version ‘1.29.0’ ** using staged installation ** R ** inst ** byte-compile and prepare package for lazy loading ** help *** installing help indices ** building package indices ** installing vignettes ** testing if installed package can be loaded from temporary location ** testing if installed package can be loaded from final location ** testing if installed package keeps a record of temporary installation path * DONE (HiCBricks)
HiCBricks.Rcheck/HiCBricks-Ex.timings
| name | user | system | elapsed | |
| BrickContainer_change_experiment_name | 1.224 | 0.134 | 1.379 | |
| BrickContainer_change_output_directory | 0.872 | 0.086 | 0.963 | |
| BrickContainer_get_path_to_file | 0.861 | 0.084 | 0.953 | |
| BrickContainer_list_chromosomes | 0.890 | 0.092 | 0.992 | |
| BrickContainer_list_experiment_name | 0.886 | 0.087 | 0.982 | |
| BrickContainer_list_files | 0.890 | 0.084 | 0.984 | |
| BrickContainer_list_output_directory | 0.880 | 0.081 | 0.965 | |
| BrickContainer_list_resolutions | 0.877 | 0.088 | 0.972 | |
| BrickContainer_unlink_resolution | 1.941 | 0.185 | 2.134 | |
| Brick_add_ranges | 2.034 | 0.125 | 2.171 | |
| Brick_call_compartments | 1.500 | 0.239 | 1.755 | |
| Brick_export_to_sparse | 2.855 | 0.325 | 3.205 | |
| Brick_fetch_range_index | 1.419 | 0.107 | 1.535 | |
| Brick_fetch_row_vector | 1.730 | 0.343 | 2.086 | |
| Brick_get_bintable | 0.981 | 0.101 | 1.094 | |
| Brick_get_chrominfo | 0.909 | 0.090 | 1.034 | |
| Brick_get_entire_matrix | 1.336 | 0.250 | 1.597 | |
| Brick_get_matrix | 1.327 | 0.229 | 1.565 | |
| Brick_get_matrix_mcols | 1.278 | 0.235 | 1.535 | |
| Brick_get_matrix_within_coords | 1.918 | 0.300 | 2.230 | |
| Brick_get_ranges | 0.952 | 0.096 | 1.057 | |
| Brick_get_values_by_distance | 1.383 | 0.336 | 1.733 | |
| Brick_get_vector_values | 1.312 | 0.361 | 1.689 | |
| Brick_list_matrices | 0.817 | 0.083 | 0.910 | |
| Brick_list_matrix_mcols | 0.837 | 0.089 | 0.939 | |
| Brick_list_mcool_normalisations | 0.001 | 0.000 | 0.001 | |
| Brick_list_mcool_resolutions | 0 | 0 | 0 | |
| Brick_list_rangekeys | 0.877 | 0.093 | 0.982 | |
| Brick_list_ranges_mcols | 0.893 | 0.093 | 0.994 | |
| Brick_load_cis_matrix_till_distance | 1.088 | 0.292 | 1.394 | |
| Brick_load_data_from_mcool | 0 | 0 | 0 | |
| Brick_load_data_from_sparse | 0.000 | 0.001 | 0.001 | |
| Brick_load_matrix | 1.175 | 0.295 | 1.491 | |
| Brick_local_score_differentiator | 1.880 | 0.369 | 2.274 | |
| Brick_make_ranges | 0.009 | 0.000 | 0.010 | |
| Brick_matrix_dimensions | 1.104 | 0.269 | 1.390 | |
| Brick_matrix_exists | 1.124 | 0.246 | 1.382 | |
| Brick_matrix_filename | 1.122 | 0.281 | 1.417 | |
| Brick_matrix_isdone | 1.140 | 0.285 | 1.439 | |
| Brick_matrix_issparse | 1.172 | 0.278 | 1.465 | |
| Brick_matrix_maxdist | 1.138 | 0.265 | 1.414 | |
| Brick_matrix_minmax | 1.141 | 0.236 | 1.417 | |
| Brick_mcool_normalisation_exists | 0.001 | 0.001 | 0.001 | |
| Brick_rangekey_exists | 0.819 | 0.086 | 0.910 | |
| Brick_return_region_position | 0.981 | 0.110 | 1.099 | |
| Brick_vizart_plot_heatmap | 2.528 | 0.413 | 2.968 | |
| Create_many_Bricks | 0.871 | 0.091 | 0.979 | |
| Create_many_Bricks_from_mcool | 0.000 | 0.000 | 0.001 | |
| load_BrickContainer | 0.870 | 0.091 | 0.968 | |