| Back to Multiple platform build/check report for BioC 3.23: simplified long |
|
This page was generated on 2025-11-25 11:37 -0500 (Tue, 25 Nov 2025).
| Hostname | OS | Arch (*) | R version | Installed pkgs |
|---|---|---|---|---|
| nebbiolo1 | Linux (Ubuntu 24.04.3 LTS) | x86_64 | R Under development (unstable) (2025-10-20 r88955) -- "Unsuffered Consequences" | 4830 |
| lconway | macOS 12.7.6 Monterey | x86_64 | R Under development (unstable) (2025-10-21 r88958) -- "Unsuffered Consequences" | 4606 |
| kjohnson3 | macOS 13.7.7 Ventura | arm64 | R Under development (unstable) (2025-11-04 r88984) -- "Unsuffered Consequences" | 4569 |
| Click on any hostname to see more info about the system (e.g. compilers) (*) as reported by 'uname -p', except on Windows and Mac OS X | ||||
| Package 967/2328 | Hostname | OS / Arch | INSTALL | BUILD | CHECK | BUILD BIN | ||||||||
| HiCBricks 1.29.0 (landing page) Koustav Pal
| nebbiolo1 | Linux (Ubuntu 24.04.3 LTS) / x86_64 | OK | OK | OK | |||||||||
| lconway | macOS 12.7.6 Monterey / x86_64 | OK | OK | OK | OK | |||||||||
| kjohnson3 | macOS 13.7.7 Ventura / arm64 | OK | OK | OK | OK | |||||||||
|
To the developers/maintainers of the HiCBricks package: - Allow up to 24 hours (and sometimes 48 hours) for your latest push to git@git.bioconductor.org:packages/HiCBricks.git to reflect on this report. See Troubleshooting Build Report for more information. - Use the following Renviron settings to reproduce errors and warnings. - If 'R CMD check' started to fail recently on the Linux builder(s) over a missing dependency, add the missing dependency to 'Suggests:' in your DESCRIPTION file. See Renviron.bioc for more information. |
| Package: HiCBricks |
| Version: 1.29.0 |
| Command: /home/biocbuild/bbs-3.23-bioc/R/bin/R CMD check --install=check:HiCBricks.install-out.txt --library=/home/biocbuild/bbs-3.23-bioc/R/site-library --timings HiCBricks_1.29.0.tar.gz |
| StartedAt: 2025-11-25 00:21:50 -0500 (Tue, 25 Nov 2025) |
| EndedAt: 2025-11-25 00:25:14 -0500 (Tue, 25 Nov 2025) |
| EllapsedTime: 204.3 seconds |
| RetCode: 0 |
| Status: OK |
| CheckDir: HiCBricks.Rcheck |
| Warnings: 0 |
##############################################################################
##############################################################################
###
### Running command:
###
### /home/biocbuild/bbs-3.23-bioc/R/bin/R CMD check --install=check:HiCBricks.install-out.txt --library=/home/biocbuild/bbs-3.23-bioc/R/site-library --timings HiCBricks_1.29.0.tar.gz
###
##############################################################################
##############################################################################
* using log directory ‘/home/biocbuild/bbs-3.23-bioc/meat/HiCBricks.Rcheck’
* using R Under development (unstable) (2025-10-20 r88955)
* using platform: x86_64-pc-linux-gnu
* R was compiled by
gcc (Ubuntu 13.3.0-6ubuntu2~24.04) 13.3.0
GNU Fortran (Ubuntu 13.3.0-6ubuntu2~24.04) 13.3.0
* running under: Ubuntu 24.04.3 LTS
* using session charset: UTF-8
* checking for file ‘HiCBricks/DESCRIPTION’ ... OK
* checking extension type ... Package
* this is package ‘HiCBricks’ version ‘1.29.0’
* package encoding: UTF-8
* checking package namespace information ... OK
* checking package dependencies ... OK
* checking if this is a source package ... OK
* checking if there is a namespace ... OK
* checking for hidden files and directories ... OK
* checking for portable file names ... OK
* checking for sufficient/correct file permissions ... OK
* checking whether package ‘HiCBricks’ can be installed ... OK
* checking installed package size ... OK
* checking package directory ... OK
* checking ‘build’ directory ... OK
* checking DESCRIPTION meta-information ... OK
* checking top-level files ... OK
* checking for left-over files ... OK
* checking index information ... OK
* checking package subdirectories ... OK
* checking code files for non-ASCII characters ... OK
* checking R files for syntax errors ... OK
* checking whether the package can be loaded ... OK
* checking whether the package can be loaded with stated dependencies ... OK
* checking whether the package can be unloaded cleanly ... OK
* checking whether the namespace can be loaded with stated dependencies ... OK
* checking whether the namespace can be unloaded cleanly ... OK
* checking loading without being on the library search path ... OK
* checking dependencies in R code ... OK
* checking S3 generic/method consistency ... OK
* checking replacement functions ... OK
* checking foreign function calls ... OK
* checking R code for possible problems ... OK
* checking Rd files ... OK
* checking Rd metadata ... OK
* checking Rd cross-references ... OK
* checking for missing documentation entries ... OK
* checking for code/documentation mismatches ... OK
* checking Rd \usage sections ... OK
* checking Rd contents ... OK
* checking for unstated dependencies in examples ... OK
* checking files in ‘vignettes’ ... OK
* checking examples ... OK
* checking for unstated dependencies in vignettes ... OK
* checking package vignettes ... OK
* checking re-building of vignette outputs ... OK
* checking PDF version of manual ... OK
* DONE
Status: OK
HiCBricks.Rcheck/00install.out
############################################################################## ############################################################################## ### ### Running command: ### ### /home/biocbuild/bbs-3.23-bioc/R/bin/R CMD INSTALL HiCBricks ### ############################################################################## ############################################################################## * installing to library ‘/home/biocbuild/bbs-3.23-bioc/R/site-library’ * installing *source* package ‘HiCBricks’ ... ** this is package ‘HiCBricks’ version ‘1.29.0’ ** using staged installation ** R ** inst ** byte-compile and prepare package for lazy loading ** help *** installing help indices ** building package indices ** installing vignettes ** testing if installed package can be loaded from temporary location ** testing if installed package can be loaded from final location ** testing if installed package keeps a record of temporary installation path * DONE (HiCBricks)
HiCBricks.Rcheck/HiCBricks-Ex.timings
| name | user | system | elapsed | |
| BrickContainer_change_experiment_name | 1.143 | 0.023 | 1.166 | |
| BrickContainer_change_output_directory | 0.785 | 0.013 | 0.798 | |
| BrickContainer_get_path_to_file | 0.740 | 0.009 | 0.749 | |
| BrickContainer_list_chromosomes | 0.741 | 0.009 | 0.750 | |
| BrickContainer_list_experiment_name | 0.762 | 0.043 | 0.805 | |
| BrickContainer_list_files | 0.789 | 0.021 | 0.811 | |
| BrickContainer_list_output_directory | 0.758 | 0.004 | 0.762 | |
| BrickContainer_list_resolutions | 0.840 | 0.027 | 0.867 | |
| BrickContainer_unlink_resolution | 1.866 | 0.028 | 1.894 | |
| Brick_add_ranges | 2.190 | 0.082 | 2.272 | |
| Brick_call_compartments | 1.339 | 0.084 | 1.424 | |
| Brick_export_to_sparse | 2.343 | 0.050 | 2.394 | |
| Brick_fetch_range_index | 1.230 | 0.018 | 1.251 | |
| Brick_fetch_row_vector | 1.487 | 0.089 | 1.579 | |
| Brick_get_bintable | 0.872 | 0.035 | 0.914 | |
| Brick_get_chrominfo | 0.813 | 0.010 | 0.826 | |
| Brick_get_entire_matrix | 1.182 | 0.031 | 1.213 | |
| Brick_get_matrix | 1.134 | 0.076 | 1.210 | |
| Brick_get_matrix_mcols | 1.090 | 0.025 | 1.114 | |
| Brick_get_matrix_within_coords | 1.658 | 0.019 | 1.677 | |
| Brick_get_ranges | 0.760 | 0.006 | 0.766 | |
| Brick_get_values_by_distance | 1.332 | 0.025 | 1.356 | |
| Brick_get_vector_values | 1.221 | 0.024 | 1.246 | |
| Brick_list_matrices | 0.773 | 0.009 | 0.782 | |
| Brick_list_matrix_mcols | 0.820 | 0.004 | 0.824 | |
| Brick_list_mcool_normalisations | 0.001 | 0.000 | 0.001 | |
| Brick_list_mcool_resolutions | 0.001 | 0.000 | 0.001 | |
| Brick_list_rangekeys | 0.769 | 0.004 | 0.774 | |
| Brick_list_ranges_mcols | 0.818 | 0.015 | 0.833 | |
| Brick_load_cis_matrix_till_distance | 1.033 | 0.016 | 1.049 | |
| Brick_load_data_from_mcool | 0.000 | 0.001 | 0.000 | |
| Brick_load_data_from_sparse | 0.000 | 0.000 | 0.001 | |
| Brick_load_matrix | 1.047 | 0.022 | 1.070 | |
| Brick_local_score_differentiator | 1.624 | 0.031 | 1.656 | |
| Brick_make_ranges | 0.009 | 0.000 | 0.009 | |
| Brick_matrix_dimensions | 1.083 | 0.074 | 1.157 | |
| Brick_matrix_exists | 1.050 | 0.019 | 1.069 | |
| Brick_matrix_filename | 1.066 | 0.017 | 1.084 | |
| Brick_matrix_isdone | 1.095 | 0.022 | 1.117 | |
| Brick_matrix_issparse | 1.157 | 0.083 | 1.240 | |
| Brick_matrix_maxdist | 1.187 | 0.020 | 1.207 | |
| Brick_matrix_minmax | 1.128 | 0.018 | 1.145 | |
| Brick_mcool_normalisation_exists | 0.000 | 0.001 | 0.000 | |
| Brick_rangekey_exists | 0.960 | 0.008 | 0.967 | |
| Brick_return_region_position | 0.919 | 0.015 | 0.934 | |
| Brick_vizart_plot_heatmap | 2.307 | 0.035 | 2.343 | |
| Create_many_Bricks | 0.804 | 0.012 | 0.816 | |
| Create_many_Bricks_from_mcool | 0.000 | 0.001 | 0.000 | |
| load_BrickContainer | 0.800 | 0.011 | 0.811 | |