Back to Build/check report for BioC 3.23:   simplified   long
ABCDEF[G]HIJKLMNOPQRSTUVWXYZ

This page was generated on 2025-11-08 11:32 -0500 (Sat, 08 Nov 2025).

HostnameOSArch (*)R versionInstalled pkgs
nebbiolo1Linux (Ubuntu 24.04.3 LTS)x86_64R Under development (unstable) (2025-10-20 r88955) -- "Unsuffered Consequences" 4821
Click on any hostname to see more info about the system (e.g. compilers)      (*) as reported by 'uname -p', except on Windows and Mac OS X

All results for package GenomeInfoDb


To the developers/maintainers of the GenomeInfoDb package:
- Allow up to 24 hours (and sometimes 48 hours) for your latest push to git@git.bioconductor.org:packages/GenomeInfoDb.git to reflect on this report. See Troubleshooting Build Report for more information.
- Use the following Renviron settings to reproduce errors and warnings.
- If 'R CMD check' started to fail recently on the Linux builder(s) over a missing dependency, add the missing dependency to 'Suggests:' in your DESCRIPTION file. See Renviron.bioc for more information.

raw results

Package 829/2323HostnameOS / ArchINSTALLBUILDCHECKBUILD BIN
GenomeInfoDb 1.47.0  (landing page)
Hervé Pagès
Snapshot Date: 2025-11-07 13:40 -0500 (Fri, 07 Nov 2025)
git_url: https://git.bioconductor.org/packages/GenomeInfoDb
git_branch: devel
git_last_commit: f31cf8b
git_last_commit_date: 2025-10-29 14:52:07 -0500 (Wed, 29 Oct 2025)
nebbiolo1Linux (Ubuntu 24.04.3 LTS) / x86_64  OK    OK    OK  UNNEEDED, same version is already published



Results for Bioconductor software packages that depend directly on package GenomeInfoDb

QUICK STATSOS / ArchINSTALLBUILDCHECKBUILD BIN
nebbiolo1Linux (Ubuntu 24.04.3 LTS) / x86_64
011135
015131
0621104
Package 1/146HostnameOS / ArchINSTALLBUILDCHECKBUILD BIN
AllelicImbalance 1.49.0  (landing page)
Jesper R Gadin
git_last_commit: d78bb64
git_last_commit_date: 2025-10-29 10:16:36 -0500
nebbiolo1Linux (Ubuntu 24.04.3 LTS) / x86_64  OK    OK    OK  UNNEEDED, same version is already published
Package 2/146HostnameOS / ArchINSTALLBUILDCHECKBUILD BIN
AnnotationHubData 1.41.0  (landing page)
Bioconductor Package Maintainer
git_last_commit: 932837e
git_last_commit_date: 2025-10-29 10:27:35 -0500
nebbiolo1Linux (Ubuntu 24.04.3 LTS) / x86_64  OK    OK    WARNINGS  NO, package depends on 'BiocCheck' which is not available
Package 3/146HostnameOS / ArchINSTALLBUILDCHECKBUILD BIN
ATACseqQC 1.35.0  (landing page)
Jianhong Ou
git_last_commit: 938226b
git_last_commit_date: 2025-10-29 10:38:34 -0500
nebbiolo1Linux (Ubuntu 24.04.3 LTS) / x86_64  ERROR    ERROR  skipped
Package 4/146HostnameOS / ArchINSTALLBUILDCHECKBUILD BIN
atena 1.17.0  (landing page)
Robert Castelo
git_last_commit: 2209be2
git_last_commit_date: 2025-10-29 11:12:14 -0500
nebbiolo1Linux (Ubuntu 24.04.3 LTS) / x86_64  OK    OK    OK  UNNEEDED, same version is already published
Package 5/146HostnameOS / ArchINSTALLBUILDCHECKBUILD BIN
BaalChIP 1.37.0  (landing page)
Ines de Santiago
git_last_commit: fd6bc03
git_last_commit_date: 2025-10-29 10:34:21 -0500
nebbiolo1Linux (Ubuntu 24.04.3 LTS) / x86_64  OK    OK    WARNINGS  UNNEEDED, same version is already published
Package 6/146HostnameOS / ArchINSTALLBUILDCHECKBUILD BIN
bambu 3.13.0  (landing page)
Ying Chen
git_last_commit: a438673
git_last_commit_date: 2025-10-29 11:03:46 -0500
nebbiolo1Linux (Ubuntu 24.04.3 LTS) / x86_64  OK    OK    OK  UNNEEDED, same version is already published
Package 7/146HostnameOS / ArchINSTALLBUILDCHECKBUILD BIN
Banksy 1.7.0  (landing page)
Joseph Lee
git_last_commit: 4bdc545
git_last_commit_date: 2025-10-29 11:27:15 -0500
nebbiolo1Linux (Ubuntu 24.04.3 LTS) / x86_64  OK    OK    OK  UNNEEDED, same version is already published
Package 8/146HostnameOS / ArchINSTALLBUILDCHECKBUILD BIN
bedbaser 1.3.0  (landing page)
Andres Wokaty
git_last_commit: c5c189a
git_last_commit_date: 2025-10-29 11:34:32 -0500
nebbiolo1Linux (Ubuntu 24.04.3 LTS) / x86_64  OK    OK    OK  UNNEEDED, same version is already published
Package 9/146HostnameOS / ArchINSTALLBUILDCHECKBUILD BIN
BindingSiteFinder 2.9.0  (landing page)
Mirko Brüggemann
git_last_commit: 885c4f6
git_last_commit_date: 2025-10-29 11:10:55 -0500
nebbiolo1Linux (Ubuntu 24.04.3 LTS) / x86_64  OK    OK    OK  UNNEEDED, same version is already published
Package 10/146HostnameOS / ArchINSTALLBUILDCHECKBUILD BIN
biovizBase 1.59.0  (landing page)
Michael Lawrence
git_last_commit: 7895cbf
git_last_commit_date: 2025-10-29 10:09:04 -0500
nebbiolo1Linux (Ubuntu 24.04.3 LTS) / x86_64  OK    OK    WARNINGS  UNNEEDED, same version is already published
Package 11/146HostnameOS / ArchINSTALLBUILDCHECKBUILD BIN
biscuiteer 1.25.0  (landing page)
Jacob Morrison
git_last_commit: c74f865
git_last_commit_date: 2025-10-29 10:55:16 -0500
nebbiolo1Linux (Ubuntu 24.04.3 LTS) / x86_64  OK    OK    WARNINGS  YES
Package 12/146HostnameOS / ArchINSTALLBUILDCHECKBUILD BIN
breakpointR 1.29.0  (landing page)
David Porubsky
git_last_commit: 5469268
git_last_commit_date: 2025-10-29 10:47:40 -0500
nebbiolo1Linux (Ubuntu 24.04.3 LTS) / x86_64  OK    OK    OK  UNNEEDED, same version is already published
Package 13/146HostnameOS / ArchINSTALLBUILDCHECKBUILD BIN
BSgenomeForge 1.11.0  (landing page)
Hervé Pagès
git_last_commit: c7d1729
git_last_commit_date: 2025-10-29 14:46:49 -0500
nebbiolo1Linux (Ubuntu 24.04.3 LTS) / x86_64  OK    OK    OK  UNNEEDED, same version is already published
Package 14/146HostnameOS / ArchINSTALLBUILDCHECKBUILD BIN
BUSpaRse 1.25.0  (landing page)
Lambda Moses
git_last_commit: 031e018
git_last_commit_date: 2025-10-29 10:53:52 -0500
nebbiolo1Linux (Ubuntu 24.04.3 LTS) / x86_64  OK    OK    OK  UNNEEDED, same version is already published
Package 15/146HostnameOS / ArchINSTALLBUILDCHECKBUILD BIN
cageminer 1.17.0  (landing page)
Fabrício Almeida-Silva
git_last_commit: b88d03b
git_last_commit_date: 2025-10-29 11:10:52 -0500
nebbiolo1Linux (Ubuntu 24.04.3 LTS) / x86_64  OK    OK    OK  UNNEEDED, same version is already published
Package 16/146HostnameOS / ArchINSTALLBUILDCHECKBUILD BIN
cardelino 1.13.0  (landing page)
Davis McCarthy
git_last_commit: d0e349d
git_last_commit_date: 2025-10-29 11:19:32 -0500
nebbiolo1Linux (Ubuntu 24.04.3 LTS) / x86_64  OK    OK    OK  UNNEEDED, same version is already published
Package 17/146HostnameOS / ArchINSTALLBUILDCHECKBUILD BIN
cfdnakit 1.9.0  (landing page)
Pitithat Puranachot
git_last_commit: 17e7520
git_last_commit_date: 2025-10-29 11:23:56 -0500
nebbiolo1Linux (Ubuntu 24.04.3 LTS) / x86_64  OK    OK    OK  UNNEEDED, same version is already published
Package 18/146HostnameOS / ArchINSTALLBUILDCHECKBUILD BIN
cfDNAPro 1.17.0  (landing page)
Haichao Wang
git_last_commit: fef4aa4
git_last_commit_date: 2025-10-29 11:11:06 -0500
nebbiolo1Linux (Ubuntu 24.04.3 LTS) / x86_64  ERROR    ERROR  skipped
Package 19/146HostnameOS / ArchINSTALLBUILDCHECKBUILD BIN
chimeraviz 1.37.0  (landing page)
Stian Lågstad
git_last_commit: 3490116
git_last_commit_date: 2025-10-29 10:35:50 -0500
nebbiolo1Linux (Ubuntu 24.04.3 LTS) / x86_64  OK    OK    OK  UNNEEDED, same version is already published
Package 20/146HostnameOS / ArchINSTALLBUILDCHECKBUILD BIN
ChIPanalyser 1.33.0  (landing page)
Patrick C.N. Martin
git_last_commit: 873269e
git_last_commit_date: 2025-10-29 10:40:34 -0500
nebbiolo1Linux (Ubuntu 24.04.3 LTS) / x86_64  OK    OK    OK  UNNEEDED, same version is already published
Package 21/146HostnameOS / ArchINSTALLBUILDCHECKBUILD BIN
ChIPpeakAnno 3.45.0  (landing page)
Jianhong Ou
git_last_commit: 2e00e23
git_last_commit_date: 2025-10-29 10:03:18 -0500
nebbiolo1Linux (Ubuntu 24.04.3 LTS) / x86_64  ERROR    ERROR  skipped
Package 22/146HostnameOS / ArchINSTALLBUILDCHECKBUILD BIN
ChIPseeker 1.47.1  (landing page)
Guangchuang Yu
git_last_commit: be79240
git_last_commit_date: 2025-11-04 09:26:51 -0500
nebbiolo1Linux (Ubuntu 24.04.3 LTS) / x86_64  OK    OK    OK  UNNEEDED, same version is already published
Package 23/146HostnameOS / ArchINSTALLBUILDCHECKBUILD BIN
circRNAprofiler 1.25.0  (landing page)
Simona Aufiero
git_last_commit: a9049f9
git_last_commit_date: 2025-10-29 10:53:06 -0500
nebbiolo1Linux (Ubuntu 24.04.3 LTS) / x86_64  OK    OK    OK  UNNEEDED, same version is already published
Package 24/146HostnameOS / ArchINSTALLBUILDCHECKBUILD BIN
CNEr 1.47.0  (landing page)
Boris Lenhard Damir Baranasic
git_last_commit: 4d7f8ce
git_last_commit_date: 2025-10-29 10:18:00 -0500
nebbiolo1Linux (Ubuntu 24.04.3 LTS) / x86_64  OK    OK    WARNINGS  UNNEEDED, same version is already published
Package 25/146HostnameOS / ArchINSTALLBUILDCHECKBUILD BIN
CNVfilteR 1.25.0  (landing page)
Jose Marcos Moreno-Cabrera
git_last_commit: e65bd7a
git_last_commit_date: 2025-10-29 10:54:50 -0500
nebbiolo1Linux (Ubuntu 24.04.3 LTS) / x86_64  OK    OK    OK  UNNEEDED, same version is already published
Package 26/146HostnameOS / ArchINSTALLBUILDCHECKBUILD BIN
CNVPanelizer 1.43.0  (landing page)
Thomas Wolf
git_last_commit: 6ed963e
git_last_commit_date: 2025-10-29 10:26:34 -0500
nebbiolo1Linux (Ubuntu 24.04.3 LTS) / x86_64  OK    OK    OK  UNNEEDED, same version is already published
Package 27/146HostnameOS / ArchINSTALLBUILDCHECKBUILD BIN
CNVRanger 1.27.0  (landing page)
Ludwig Geistlinger
git_last_commit: 16600ca
git_last_commit_date: 2025-10-29 10:49:57 -0500
nebbiolo1Linux (Ubuntu 24.04.3 LTS) / x86_64  OK    OK    OK  NO, package depends on 'GDSArray' which is not available
Package 28/146HostnameOS / ArchINSTALLBUILDCHECKBUILD BIN
CODEX 1.43.0  (landing page)
Yuchao Jiang
git_last_commit: 6fce599
git_last_commit_date: 2025-10-29 10:23:27 -0500
nebbiolo1Linux (Ubuntu 24.04.3 LTS) / x86_64  OK    OK    OK  UNNEEDED, same version is already published
Package 29/146HostnameOS / ArchINSTALLBUILDCHECKBUILD BIN
comapr 1.15.0  (landing page)
Ruqian Lyu
git_last_commit: 50b0041
git_last_commit_date: 2025-10-29 11:14:26 -0500
nebbiolo1Linux (Ubuntu 24.04.3 LTS) / x86_64  OK    OK    ERROR  
Package 30/146HostnameOS / ArchINSTALLBUILDCHECKBUILD BIN
CopyNumberPlots 1.27.0  (landing page)
Bernat Gel
git_last_commit: d68d13f
git_last_commit_date: 2025-10-29 10:51:43 -0500
nebbiolo1Linux (Ubuntu 24.04.3 LTS) / x86_64  OK    OK    OK  UNNEEDED, same version is already published
Package 31/146HostnameOS / ArchINSTALLBUILDCHECKBUILD BIN
crisprDesign 1.13.0  (landing page)
Jean-Philippe Fortin
git_last_commit: dd162c8
git_last_commit_date: 2025-10-29 11:17:54 -0500
nebbiolo1Linux (Ubuntu 24.04.3 LTS) / x86_64  OK    OK    OK  UNNEEDED, same version is already published
Package 32/146HostnameOS / ArchINSTALLBUILDCHECKBUILD BIN
CrispRVariants 1.39.0  (landing page)
Helen Lindsay
git_last_commit: 4dcc360
git_last_commit_date: 2025-10-29 10:29:17 -0500
nebbiolo1Linux (Ubuntu 24.04.3 LTS) / x86_64  OK    OK    WARNINGS  UNNEEDED, same version is already published
Package 33/146HostnameOS / ArchINSTALLBUILDCHECKBUILD BIN
customProDB 1.51.0  (landing page)
Xiaojing Wang
git_last_commit: 8317345
git_last_commit_date: 2025-10-29 10:15:09 -0500
nebbiolo1Linux (Ubuntu 24.04.3 LTS) / x86_64  OK    OK    ERROR  
Package 34/146HostnameOS / ArchINSTALLBUILDCHECKBUILD BIN
Damsel 1.7.0  (landing page)
Caitlin Page
git_last_commit: 4c35e04
git_last_commit_date: 2025-10-29 11:29:38 -0500
nebbiolo1Linux (Ubuntu 24.04.3 LTS) / x86_64  OK    OK    WARNINGS  UNNEEDED, same version is already published
Package 35/146HostnameOS / ArchINSTALLBUILDCHECKBUILD BIN
derfinder 1.45.0  (landing page)
Leonardo Collado-Torres
git_last_commit: 946e0b8
git_last_commit_date: 2025-10-29 10:21:48 -0500
nebbiolo1Linux (Ubuntu 24.04.3 LTS) / x86_64  OK    OK    OK  UNNEEDED, same version is already published
Package 36/146HostnameOS / ArchINSTALLBUILDCHECKBUILD BIN
derfinderPlot 1.45.0  (landing page)
Leonardo Collado-Torres
git_last_commit: a29c4b1
git_last_commit_date: 2025-10-29 10:21:51 -0500
nebbiolo1Linux (Ubuntu 24.04.3 LTS) / x86_64  OK    OK    OK  UNNEEDED, same version is already published
Package 37/146HostnameOS / ArchINSTALLBUILDCHECKBUILD BIN
DEScan2 1.31.0  (landing page)
Dario Righelli
git_last_commit: 788dce2
git_last_commit_date: 2025-10-29 10:43:48 -0500
nebbiolo1Linux (Ubuntu 24.04.3 LTS) / x86_64  ERROR    ERROR  skipped
Package 38/146HostnameOS / ArchINSTALLBUILDCHECKBUILD BIN
diffHic 1.43.0  (landing page)
Aaron Lun , Gordon Smyth , Hannah Coughlin
git_last_commit: c909cdb
git_last_commit_date: 2025-10-29 10:25:47 -0500
nebbiolo1Linux (Ubuntu 24.04.3 LTS) / x86_64  OK    OK    OK  UNNEEDED, same version is already published
Package 39/146HostnameOS / ArchINSTALLBUILDCHECKBUILD BIN
diffUTR 1.19.0  (landing page)
Pierre-Luc Germain
git_last_commit: 2f86b30
git_last_commit_date: 2025-10-29 11:09:14 -0500
nebbiolo1Linux (Ubuntu 24.04.3 LTS) / x86_64  OK    OK    OK  UNNEEDED, same version is already published
Package 40/146HostnameOS / ArchINSTALLBUILDCHECKBUILD BIN
DMRcaller 1.43.1  (landing page)
Nicolae Radu Zabet
git_last_commit: 5ec5d13
git_last_commit_date: 2025-11-04 13:15:34 -0500
nebbiolo1Linux (Ubuntu 24.04.3 LTS) / x86_64  OK    OK    OK  UNNEEDED, same version is already published
Package 41/146HostnameOS / ArchINSTALLBUILDCHECKBUILD BIN
easylift 1.9.0  (landing page)
Abdullah Al Nahid
git_last_commit: d7927b5
git_last_commit_date: 2025-10-29 11:25:08 -0500
nebbiolo1Linux (Ubuntu 24.04.3 LTS) / x86_64  OK    OK    OK  UNNEEDED, same version is already published
Package 42/146HostnameOS / ArchINSTALLBUILDCHECKBUILD BIN
ensembldb 2.35.0  (landing page)
Johannes Rainer
git_last_commit: a74ca18
git_last_commit_date: 2025-10-29 10:24:50 -0500
nebbiolo1Linux (Ubuntu 24.04.3 LTS) / x86_64  OK    OK    OK  UNNEEDED, same version is already published
Package 43/146HostnameOS / ArchINSTALLBUILDCHECKBUILD BIN
EpiCompare 1.15.0  (landing page)
Hiranyamaya Dash
git_last_commit: 0531069
git_last_commit_date: 2025-10-29 11:16:54 -0500
nebbiolo1Linux (Ubuntu 24.04.3 LTS) / x86_64  OK    OK    OK  UNNEEDED, same version is already published
Package 44/146HostnameOS / ArchINSTALLBUILDCHECKBUILD BIN
epigenomix 1.51.0  (landing page)
Hans-Ulrich Klein
git_last_commit: 5563ca4
git_last_commit_date: 2025-10-29 10:13:59 -0500
nebbiolo1Linux (Ubuntu 24.04.3 LTS) / x86_64  OK    OK    OK  NO, package depends on 'beadarray' which is not available
Package 45/146HostnameOS / ArchINSTALLBUILDCHECKBUILD BIN
epimutacions 1.15.0  (landing page)
Dolors Pelegri-Siso
git_last_commit: 9c5c202
git_last_commit_date: 2025-10-29 11:16:20 -0500
nebbiolo1Linux (Ubuntu 24.04.3 LTS) / x86_64  OK    OK    OK  UNNEEDED, same version is already published
Package 46/146HostnameOS / ArchINSTALLBUILDCHECKBUILD BIN
epiregulon 2.1.0  (landing page)
Xiaosai Yao
git_last_commit: eec881c
git_last_commit_date: 2025-10-29 11:30:12 -0500
nebbiolo1Linux (Ubuntu 24.04.3 LTS) / x86_64  OK    OK    OK  UNNEEDED, same version is already published
Package 47/146HostnameOS / ArchINSTALLBUILDCHECKBUILD BIN
epivizr 2.41.0  (landing page)
Hector Corrada Bravo
git_last_commit: ba79c0b
git_last_commit_date: 2025-10-29 10:16:45 -0500
nebbiolo1Linux (Ubuntu 24.04.3 LTS) / x86_64  OK    OK    OK  UNNEEDED, same version is already published
Package 48/146HostnameOS / ArchINSTALLBUILDCHECKBUILD BIN
EventPointer 3.19.0  (landing page)
Juan A. Ferrer-Bonsoms
git_last_commit: ab73f34
git_last_commit_date: 2025-10-29 10:37:08 -0500
nebbiolo1Linux (Ubuntu 24.04.3 LTS) / x86_64  ERROR    ERROR  skipped
Package 49/146HostnameOS / ArchINSTALLBUILDCHECKBUILD BIN
extraChIPs 1.15.0  (landing page)
Stevie Pederson
git_last_commit: 9ceda11
git_last_commit_date: 2025-10-29 11:16:32 -0500
nebbiolo1Linux (Ubuntu 24.04.3 LTS) / x86_64  OK    OK    OK  UNNEEDED, same version is already published
Package 50/146HostnameOS / ArchINSTALLBUILDCHECKBUILD BIN
factR 1.13.0  (landing page)
Fursham Hamid
git_last_commit: 20ced47
git_last_commit_date: 2025-10-29 11:17:33 -0500
nebbiolo1Linux (Ubuntu 24.04.3 LTS) / x86_64  OK    OK    OK  NO, package depends on 'drawProteins' which is not available
Package 51/146HostnameOS / ArchINSTALLBUILDCHECKBUILD BIN
FRASER 2.7.0  (landing page)
Christian Mertes
git_last_commit: ecd421c
git_last_commit_date: 2025-10-29 10:58:54 -0500
nebbiolo1Linux (Ubuntu 24.04.3 LTS) / x86_64  ERROR    ERROR  skipped
Package 52/146HostnameOS / ArchINSTALLBUILDCHECKBUILD BIN
funtooNorm 1.35.0  (landing page)
Kathleen Klein
git_last_commit: d940549
git_last_commit_date: 2025-10-29 10:36:21 -0500
nebbiolo1Linux (Ubuntu 24.04.3 LTS) / x86_64  OK    OK    WARNINGS  UNNEEDED, same version is already published
Package 53/146HostnameOS / ArchINSTALLBUILDCHECKBUILD BIN
GA4GHshiny 1.33.0  (landing page)
Welliton Souza
git_last_commit: ae5f20b
git_last_commit_date: 2025-10-29 10:38:45 -0500
nebbiolo1Linux (Ubuntu 24.04.3 LTS) / x86_64  OK    OK    OK  UNNEEDED, same version is already published
Package 54/146HostnameOS / ArchINSTALLBUILDCHECKBUILD BIN
gDNAx 1.9.0  (landing page)
Robert Castelo
git_last_commit: 64d243e
git_last_commit_date: 2025-10-29 11:24:57 -0500
nebbiolo1Linux (Ubuntu 24.04.3 LTS) / x86_64  OK    OK    OK  UNNEEDED, same version is already published
Package 55/146HostnameOS / ArchINSTALLBUILDCHECKBUILD BIN
GenomicDistributions 1.19.0  (landing page)
Kristyna Kupkova
git_last_commit: eca5b00
git_last_commit_date: 2025-10-29 11:05:22 -0500
nebbiolo1Linux (Ubuntu 24.04.3 LTS) / x86_64  OK    OK    OK  UNNEEDED, same version is already published
Package 56/146HostnameOS / ArchINSTALLBUILDCHECKBUILD BIN
GenomicFiles 1.47.0  (landing page)
Bioconductor Package Maintainer
git_last_commit: 76a7462
git_last_commit_date: 2025-10-29 10:19:18 -0500
nebbiolo1Linux (Ubuntu 24.04.3 LTS) / x86_64  OK    OK    OK  UNNEEDED, same version is already published
Package 57/146HostnameOS / ArchINSTALLBUILDCHECKBUILD BIN
GenomicScores 2.23.0  (landing page)
Robert Castelo
git_last_commit: fce182e
git_last_commit_date: 2025-10-29 10:38:07 -0500
nebbiolo1Linux (Ubuntu 24.04.3 LTS) / x86_64  OK    OK    OK  UNNEEDED, same version is already published
Package 58/146HostnameOS / ArchINSTALLBUILDCHECKBUILD BIN
ggbio 1.59.0  (landing page)
Michael Lawrence
git_last_commit: 6c3efb9
git_last_commit_date: 2025-10-29 10:09:27 -0500
nebbiolo1Linux (Ubuntu 24.04.3 LTS) / x86_64  OK    OK    WARNINGS  UNNEEDED, same version is already published
Package 59/146HostnameOS / ArchINSTALLBUILDCHECKBUILD BIN
GRaNIE 1.15.0  (landing page)
Christian Arnold
git_last_commit: 43246b6
git_last_commit_date: 2025-10-29 11:16:56 -0500
nebbiolo1Linux (Ubuntu 24.04.3 LTS) / x86_64  OK    OK    OK  YES
Package 60/146HostnameOS / ArchINSTALLBUILDCHECKBUILD BIN
GUIDEseq 1.41.0  (landing page)
Lihua Julie Zhu
git_last_commit: 4a812cc
git_last_commit_date: 2025-10-29 10:28:16 -0500
nebbiolo1Linux (Ubuntu 24.04.3 LTS) / x86_64  ERROR    ERROR  skipped
Package 61/146HostnameOS / ArchINSTALLBUILDCHECKBUILD BIN
Gviz 1.55.0  (landing page)
Robert Ivanek
git_last_commit: 6339846
git_last_commit_date: 2025-10-29 10:10:17 -0500
nebbiolo1Linux (Ubuntu 24.04.3 LTS) / x86_64  OK    OK    OK  UNNEEDED, same version is already published
Package 62/146HostnameOS / ArchINSTALLBUILDCHECKBUILD BIN
gwascat 2.43.0  (landing page)
VJ Carey
git_last_commit: ec24f27
git_last_commit_date: 2025-10-29 10:10:23 -0500
nebbiolo1Linux (Ubuntu 24.04.3 LTS) / x86_64  OK    OK    OK  UNNEEDED, same version is already published
Package 63/146HostnameOS / ArchINSTALLBUILDCHECKBUILD BIN
h5vc 2.45.0  (landing page)
Paul Theodor Pyl
git_last_commit: 39f8a8c
git_last_commit_date: 2025-10-29 10:17:13 -0500
nebbiolo1Linux (Ubuntu 24.04.3 LTS) / x86_64  OK    OK    OK  UNNEEDED, same version is already published
Package 64/146HostnameOS / ArchINSTALLBUILDCHECKBUILD BIN
HiCaptuRe 1.1.0  (landing page)
Laureano Tomas-Daza
git_last_commit: 342bae3
git_last_commit_date: 2025-10-29 11:37:26 -0500
nebbiolo1Linux (Ubuntu 24.04.3 LTS) / x86_64  OK    OK    OK  UNNEEDED, same version is already published
Package 65/146HostnameOS / ArchINSTALLBUILDCHECKBUILD BIN
HiCDCPlus 1.19.0  (landing page)
Merve Sahin
git_last_commit: 720bb53
git_last_commit_date: 2025-10-29 11:06:20 -0500
nebbiolo1Linux (Ubuntu 24.04.3 LTS) / x86_64  OK    OK    OK  UNNEEDED, same version is already published
Package 66/146HostnameOS / ArchINSTALLBUILDCHECKBUILD BIN
HiContacts 1.13.0  (landing page)
Jacques Serizay
git_last_commit: 0b86ddb
git_last_commit_date: 2025-10-29 11:18:51 -0500
nebbiolo1Linux (Ubuntu 24.04.3 LTS) / x86_64  OK    OK    OK  UNNEEDED, same version is already published
Package 67/146HostnameOS / ArchINSTALLBUILDCHECKBUILD BIN
IdeoViz 1.47.0  (landing page)
Shraddha Pai
git_last_commit: 847e77c
git_last_commit_date: 2025-10-29 10:21:58 -0500
nebbiolo1Linux (Ubuntu 24.04.3 LTS) / x86_64  OK    OK    WARNINGS  UNNEEDED, same version is already published
Package 68/146HostnameOS / ArchINSTALLBUILDCHECKBUILD BIN
idr2d 1.25.0  (landing page)
Konstantin Krismer
git_last_commit: 3edc0a1
git_last_commit_date: 2025-10-29 10:54:10 -0500
nebbiolo1Linux (Ubuntu 24.04.3 LTS) / x86_64  OK    OK    OK  UNNEEDED, same version is already published
Package 69/146HostnameOS / ArchINSTALLBUILDCHECKBUILD BIN
igblastr 1.1.0  (landing page)
Hervé Pagès
git_last_commit: 2880899
git_last_commit_date: 2025-10-29 23:02:06 -0500
nebbiolo1Linux (Ubuntu 24.04.3 LTS) / x86_64  OK    OK    OK  UNNEEDED, same version is already published
Package 70/146HostnameOS / ArchINSTALLBUILDCHECKBUILD BIN
InPAS 2.19.0  (landing page)
Jianhong Ou
git_last_commit: 5b899e7
git_last_commit_date: 2025-10-29 10:24:45 -0500
nebbiolo1Linux (Ubuntu 24.04.3 LTS) / x86_64  ERROR    ERROR  skipped
Package 71/146HostnameOS / ArchINSTALLBUILDCHECKBUILD BIN
karyoploteR 1.37.0  (landing page)
Bernat Gel
git_last_commit: fd32b1e
git_last_commit_date: 2025-10-29 10:36:38 -0500
nebbiolo1Linux (Ubuntu 24.04.3 LTS) / x86_64  OK    OK    OK  UNNEEDED, same version is already published
Package 72/146HostnameOS / ArchINSTALLBUILDCHECKBUILD BIN
katdetectr 1.13.0  (landing page)
Daan Hazelaar
git_last_commit: 01624d8
git_last_commit_date: 2025-10-29 11:17:25 -0500
nebbiolo1Linux (Ubuntu 24.04.3 LTS) / x86_64  OK    OK    OK  UNNEEDED, same version is already published
Package 73/146HostnameOS / ArchINSTALLBUILDCHECKBUILD BIN
linkSet 1.1.0  (landing page)
Gilbert Han
git_last_commit: bdadbdd
git_last_commit_date: 2025-10-29 11:37:12 -0500
nebbiolo1Linux (Ubuntu 24.04.3 LTS) / x86_64  OK    OK    WARNINGS  NO, package depends on 'Organism.dplyr' which is not available
Package 74/146HostnameOS / ArchINSTALLBUILDCHECKBUILD BIN
mariner 1.11.0  (landing page)
Eric Davis
git_last_commit: bc186bb
git_last_commit_date: 2025-10-29 11:23:11 -0500
nebbiolo1Linux (Ubuntu 24.04.3 LTS) / x86_64  ERROR    ERROR  skipped
Package 75/146HostnameOS / ArchINSTALLBUILDCHECKBUILD BIN
metagene2 1.27.0  (landing page)
Eric Fournier
git_last_commit: a49814f
git_last_commit_date: 2025-10-29 10:52:02 -0500
nebbiolo1Linux (Ubuntu 24.04.3 LTS) / x86_64  OK    OK    WARNINGS  UNNEEDED, same version is already published
Package 76/146HostnameOS / ArchINSTALLBUILDCHECKBUILD BIN
metaseqR2 1.23.0  (landing page)
Panagiotis Moulos
git_last_commit: 25b9df1
git_last_commit_date: 2025-10-29 10:59:18 -0500
nebbiolo1Linux (Ubuntu 24.04.3 LTS) / x86_64  OK    OK    OK  UNNEEDED, same version is already published
Package 77/146HostnameOS / ArchINSTALLBUILDCHECKBUILD BIN
methimpute 1.33.0  (landing page)
Aaron Taudt
git_last_commit: ad2d2ed
git_last_commit_date: 2025-10-29 10:41:18 -0500
nebbiolo1Linux (Ubuntu 24.04.3 LTS) / x86_64  OK    OK    WARNINGS  UNNEEDED, same version is already published
Package 78/146HostnameOS / ArchINSTALLBUILDCHECKBUILD BIN
methodical 1.7.0  (landing page)
Richard Heery
git_last_commit: ca1b149
git_last_commit_date: 2025-10-29 11:27:18 -0500
nebbiolo1Linux (Ubuntu 24.04.3 LTS) / x86_64  OK    OK    WARNINGS  NO, package depends on 'BiocCheck' which is not available
Package 79/146HostnameOS / ArchINSTALLBUILDCHECKBUILD BIN
MethylSeekR 1.51.0  (landing page)
Lukas Burger
git_last_commit: 045c8f7
git_last_commit_date: 2025-10-29 10:13:29 -0500
nebbiolo1Linux (Ubuntu 24.04.3 LTS) / x86_64  OK    OK    OK  UNNEEDED, same version is already published
Package 80/146HostnameOS / ArchINSTALLBUILDCHECKBUILD BIN
methylumi 2.57.0  (landing page)
Sean Davis
git_last_commit: dcf4f3c
git_last_commit_date: 2025-10-29 10:02:53 -0500
nebbiolo1Linux (Ubuntu 24.04.3 LTS) / x86_64  OK    OK    OK  UNNEEDED, same version is already published
Package 81/146HostnameOS / ArchINSTALLBUILDCHECKBUILD BIN
missMethyl 1.45.0  (landing page)
Belinda Phipson
git_last_commit: 886b656
git_last_commit_date: 2025-10-29 10:20:32 -0500
nebbiolo1Linux (Ubuntu 24.04.3 LTS) / x86_64  OK    OK    WARNINGS  UNNEEDED, same version is already published
Package 82/146HostnameOS / ArchINSTALLBUILDCHECKBUILD BIN
mobileRNA 1.7.1  (landing page)
Katie Jeynes-Cupper
git_last_commit: b58cca2
git_last_commit_date: 2025-11-03 12:51:23 -0500
nebbiolo1Linux (Ubuntu 24.04.3 LTS) / x86_64  OK    OK    OK  UNNEEDED, same version is already published
Package 83/146HostnameOS / ArchINSTALLBUILDCHECKBUILD BIN
Motif2Site 1.15.0  (landing page)
Peyman Zarrineh
git_last_commit: c1fd6d7
git_last_commit_date: 2025-10-29 11:15:00 -0500
nebbiolo1Linux (Ubuntu 24.04.3 LTS) / x86_64  OK    OK    OK  UNNEEDED, same version is already published
Package 84/146HostnameOS / ArchINSTALLBUILDCHECKBUILD BIN
motifbreakR 2.25.0  (landing page)
Simon Gert Coetzee
git_last_commit: 21e6965
git_last_commit_date: 2025-10-29 10:27:43 -0500
nebbiolo1Linux (Ubuntu 24.04.3 LTS) / x86_64  OK    ERROR  skipped
Package 85/146HostnameOS / ArchINSTALLBUILDCHECKBUILD BIN
multiHiCcompare 1.29.0  (landing page)
Mikhail Dozmorov
git_last_commit: 31f6781
git_last_commit_date: 2025-10-29 10:46:53 -0500
nebbiolo1Linux (Ubuntu 24.04.3 LTS) / x86_64  OK    OK    OK  UNNEEDED, same version is already published
Package 86/146HostnameOS / ArchINSTALLBUILDCHECKBUILD BIN
MungeSumstats 1.19.1  (landing page)
Alan Murphy
git_last_commit: d2204ce
git_last_commit_date: 2025-11-06 13:53:48 -0500
nebbiolo1Linux (Ubuntu 24.04.3 LTS) / x86_64  OK    OK    OK  YES
Package 87/146HostnameOS / ArchINSTALLBUILDCHECKBUILD BIN
musicatk 2.5.0  (landing page)
Joshua D. Campbell
git_last_commit: ec6bf01
git_last_commit_date: 2025-10-29 11:03:52 -0500
nebbiolo1Linux (Ubuntu 24.04.3 LTS) / x86_64  OK    OK    OK  UNNEEDED, same version is already published
Package 88/146HostnameOS / ArchINSTALLBUILDCHECKBUILD BIN
MutationalPatterns 3.21.0  (landing page)
Mark van Roosmalen
git_last_commit: b3f3115
git_last_commit_date: 2025-10-29 10:35:07 -0500
nebbiolo1Linux (Ubuntu 24.04.3 LTS) / x86_64  OK    OK    ERROR  
Package 89/146HostnameOS / ArchINSTALLBUILDCHECKBUILD BIN
myvariant 1.41.0  (landing page)
Adam Mark, Chunlei Wu
git_last_commit: a081fd4
git_last_commit_date: 2025-10-29 10:27:24 -0500
nebbiolo1Linux (Ubuntu 24.04.3 LTS) / x86_64  OK    OK    OK  UNNEEDED, same version is already published
Package 90/146HostnameOS / ArchINSTALLBUILDCHECKBUILD BIN
NADfinder 1.35.0  (landing page)
Jianhong Ou
git_last_commit: 7e7a887
git_last_commit_date: 2025-10-29 10:37:48 -0500
nebbiolo1Linux (Ubuntu 24.04.3 LTS) / x86_64  ERROR    ERROR  skipped
Package 91/146HostnameOS / ArchINSTALLBUILDCHECKBUILD BIN
normr 1.37.0  (landing page)
Johannes Helmuth
git_last_commit: 76e2183
git_last_commit_date: 2025-10-29 10:32:51 -0500
nebbiolo1Linux (Ubuntu 24.04.3 LTS) / x86_64  OK    OK    WARNINGS  UNNEEDED, same version is already published
Package 92/146HostnameOS / ArchINSTALLBUILDCHECKBUILD BIN
OGRE 1.15.0  (landing page)
Sven Berres
git_last_commit: eb5e234
git_last_commit_date: 2025-10-29 11:14:29 -0500
nebbiolo1Linux (Ubuntu 24.04.3 LTS) / x86_64  OK    OK    OK  UNNEEDED, same version is already published
Package 93/146HostnameOS / ArchINSTALLBUILDCHECKBUILD BIN
ORFik 1.31.0  (landing page)
Haakon Tjeldnes
git_last_commit: 1c0375d
git_last_commit_date: 2025-10-29 10:45:22 -0500
nebbiolo1Linux (Ubuntu 24.04.3 LTS) / x86_64  OK    OK    OK  UNNEEDED, same version is already published
Package 94/146HostnameOS / ArchINSTALLBUILDCHECKBUILD BIN
plotgardener 1.17.0  (landing page)
Nicole Kramer
git_last_commit: eaa9c96
git_last_commit_date: 2025-10-29 11:11:39 -0500
nebbiolo1Linux (Ubuntu 24.04.3 LTS) / x86_64  OK    OK    OK  UNNEEDED, same version is already published
Package 95/146HostnameOS / ArchINSTALLBUILDCHECKBUILD BIN
proActiv 1.21.0  (landing page)
Joseph Lee
git_last_commit: 8067867
git_last_commit_date: 2025-10-29 11:02:09 -0500
nebbiolo1Linux (Ubuntu 24.04.3 LTS) / x86_64  OK    OK    OK  UNNEEDED, same version is already published
Package 96/146HostnameOS / ArchINSTALLBUILDCHECKBUILD BIN
ProteoDisco 1.17.0  (landing page)
Job van Riet
git_last_commit: 583baa5
git_last_commit_date: 2025-10-29 11:11:51 -0500
nebbiolo1Linux (Ubuntu 24.04.3 LTS) / x86_64  OK    OK    WARNINGS  UNNEEDED, same version is already published
Package 97/146HostnameOS / ArchINSTALLBUILDCHECKBUILD BIN
PureCN 2.17.0  (landing page)
Markus Riester
git_last_commit: 3330cff
git_last_commit_date: 2025-10-29 10:31:57 -0500
nebbiolo1Linux (Ubuntu 24.04.3 LTS) / x86_64  OK    OK    OK  UNNEEDED, same version is already published
Package 98/146HostnameOS / ArchINSTALLBUILDCHECKBUILD BIN
R3CPET 1.43.0  (landing page)
Mohamed Nadhir Djekidel
git_last_commit: 07a90d9
git_last_commit_date: 2025-10-29 10:25:45 -0500
nebbiolo1Linux (Ubuntu 24.04.3 LTS) / x86_64  OK    OK    WARNINGS  UNNEEDED, same version is already published
Package 99/146HostnameOS / ArchINSTALLBUILDCHECKBUILD BIN
raer 1.9.0  (landing page)
Kent Riemondy
git_last_commit: 94ed43d
git_last_commit_date: 2025-10-29 11:26:05 -0500
nebbiolo1Linux (Ubuntu 24.04.3 LTS) / x86_64  OK    OK    OK  UNNEEDED, same version is already published
Package 100/146HostnameOS / ArchINSTALLBUILDCHECKBUILD BIN
RareVariantVis 2.39.0  (landing page)
Tomasz Stokowy
git_last_commit: 8b234dc
git_last_commit_date: 2025-10-29 10:26:20 -0500
nebbiolo1Linux (Ubuntu 24.04.3 LTS) / x86_64  OK    OK    OK  UNNEEDED, same version is already published
Package 101/146HostnameOS / ArchINSTALLBUILDCHECKBUILD BIN
RCAS 1.37.0  (landing page)
Bora Uyar
git_last_commit: 1a77884
git_last_commit_date: 2025-10-29 10:33:22 -0500
nebbiolo1Linux (Ubuntu 24.04.3 LTS) / x86_64  OK    OK    OK  UNNEEDED, same version is already published
Package 102/146HostnameOS / ArchINSTALLBUILDCHECKBUILD BIN
RcisTarget 1.31.0  (landing page)
Gert Hulselmans
git_last_commit: 06bec5f
git_last_commit_date: 2025-10-29 10:42:56 -0500
nebbiolo1Linux (Ubuntu 24.04.3 LTS) / x86_64  OK    OK    ERROR  
Package 103/146HostnameOS / ArchINSTALLBUILDCHECKBUILD BIN
recount 1.37.0  (landing page)
Leonardo Collado-Torres
git_last_commit: 0f75cbd
git_last_commit_date: 2025-10-29 10:33:35 -0500
nebbiolo1Linux (Ubuntu 24.04.3 LTS) / x86_64  OK    OK    OK  UNNEEDED, same version is already published
Package 104/146HostnameOS / ArchINSTALLBUILDCHECKBUILD BIN
regioneR 1.43.0  (landing page)
Bernat Gel
git_last_commit: a9f7f21
git_last_commit_date: 2025-10-29 10:25:09 -0500
nebbiolo1Linux (Ubuntu 24.04.3 LTS) / x86_64  OK    OK    OK  UNNEEDED, same version is already published
Package 105/146HostnameOS / ArchINSTALLBUILDCHECKBUILD BIN
regionReport 1.45.0  (landing page)
Leonardo Collado-Torres
git_last_commit: b61d8a3
git_last_commit_date: 2025-10-29 10:21:56 -0500
nebbiolo1Linux (Ubuntu 24.04.3 LTS) / x86_64  OK    OK    OK  UNNEEDED, same version is already published
Package 106/146HostnameOS / ArchINSTALLBUILDCHECKBUILD BIN
RESOLVE 1.13.0  (landing page)
Luca De Sano
git_last_commit: 60de66e
git_last_commit_date: 2025-10-29 11:19:27 -0500
nebbiolo1Linux (Ubuntu 24.04.3 LTS) / x86_64  OK    OK    OK  NO, package depends on 'MutationalPatterns' which is not available
Package 107/146HostnameOS / ArchINSTALLBUILDCHECKBUILD BIN
rGREAT 2.13.1  (landing page)
Zuguang Gu
git_last_commit: 36f069a
git_last_commit_date: 2025-11-05 05:00:30 -0500
nebbiolo1Linux (Ubuntu 24.04.3 LTS) / x86_64  OK    OK    OK  UNNEEDED, same version is already published
Package 108/146HostnameOS / ArchINSTALLBUILDCHECKBUILD BIN
ribosomeProfilingQC 1.23.0  (landing page)
Jianhong Ou
git_last_commit: bad02b9
git_last_commit_date: 2025-10-29 10:57:03 -0500
nebbiolo1Linux (Ubuntu 24.04.3 LTS) / x86_64  OK    OK    OK  UNNEEDED, same version is already published
Package 109/146HostnameOS / ArchINSTALLBUILDCHECKBUILD BIN
roar 1.47.0  (landing page)
Elena Grassi
git_last_commit: a867789
git_last_commit_date: 2025-10-29 10:17:36 -0500
nebbiolo1Linux (Ubuntu 24.04.3 LTS) / x86_64  OK    OK    OK  UNNEEDED, same version is already published
Package 110/146HostnameOS / ArchINSTALLBUILDCHECKBUILD BIN
scanMiRApp 1.17.0  (landing page)
Pierre-Luc Germain
git_last_commit: a38fae0
git_last_commit_date: 2025-10-29 11:11:11 -0500
nebbiolo1Linux (Ubuntu 24.04.3 LTS) / x86_64  OK    OK    OK  UNNEEDED, same version is already published
Package 111/146HostnameOS / ArchINSTALLBUILDCHECKBUILD BIN
scDblFinder 1.25.0  (landing page)
Pierre-Luc Germain
git_last_commit: dffe1fe
git_last_commit_date: 2025-10-29 10:55:23 -0500
nebbiolo1Linux (Ubuntu 24.04.3 LTS) / x86_64  OK    OK    OK  UNNEEDED, same version is already published
Package 112/146HostnameOS / ArchINSTALLBUILDCHECKBUILD BIN
scmeth 1.31.0  (landing page)
Divy Kangeyan
git_last_commit: 96dcd92
git_last_commit_date: 2025-10-29 10:43:21 -0500
nebbiolo1Linux (Ubuntu 24.04.3 LTS) / x86_64  OK    OK    OK  YES
Package 113/146HostnameOS / ArchINSTALLBUILDCHECKBUILD BIN
SCOPE 1.23.0  (landing page)
Rujin Wang
git_last_commit: ba69d58
git_last_commit_date: 2025-10-29 10:56:53 -0500
nebbiolo1Linux (Ubuntu 24.04.3 LTS) / x86_64  OK    OK    OK  UNNEEDED, same version is already published
Package 114/146HostnameOS / ArchINSTALLBUILDCHECKBUILD BIN
scRNAseqApp 1.11.0  (landing page)
Jianhong Ou
git_last_commit: 781d06f
git_last_commit_date: 2025-10-29 11:20:39 -0500
nebbiolo1Linux (Ubuntu 24.04.3 LTS) / x86_64  OK    OK    OK  UNNEEDED, same version is already published
Package 115/146HostnameOS / ArchINSTALLBUILDCHECKBUILD BIN
scruff 1.29.0  (landing page)
Zhe Wang
git_last_commit: e5f29bf
git_last_commit_date: 2025-10-29 10:46:27 -0500
nebbiolo1Linux (Ubuntu 24.04.3 LTS) / x86_64  OK    OK    OK  UNNEEDED, same version is already published
Package 116/146HostnameOS / ArchINSTALLBUILDCHECKBUILD BIN
seqCAT 1.33.0  (landing page)
Erik Fasterius
git_last_commit: 52e812d
git_last_commit_date: 2025-10-29 10:40:54 -0500
nebbiolo1Linux (Ubuntu 24.04.3 LTS) / x86_64  OK    OK    OK  UNNEEDED, same version is already published
Package 117/146HostnameOS / ArchINSTALLBUILDCHECKBUILD BIN
SGSeq 1.45.0  (landing page)
Leonard Goldstein
git_last_commit: fef2917
git_last_commit_date: 2025-10-29 10:22:27 -0500
nebbiolo1Linux (Ubuntu 24.04.3 LTS) / x86_64  OK    OK    OK  UNNEEDED, same version is already published
Package 118/146HostnameOS / ArchINSTALLBUILDCHECKBUILD BIN
signeR 2.13.0  (landing page)
Renan Valieris
git_last_commit: 54b8b4d
git_last_commit_date: 2025-10-29 10:34:16 -0500
nebbiolo1Linux (Ubuntu 24.04.3 LTS) / x86_64  OK    OK    OK  UNNEEDED, same version is already published
Package 119/146HostnameOS / ArchINSTALLBUILDCHECKBUILD BIN
SigsPack 1.25.0  (landing page)
Franziska Schumann
git_last_commit: 76511e2
git_last_commit_date: 2025-10-29 10:53:42 -0500
nebbiolo1Linux (Ubuntu 24.04.3 LTS) / x86_64  OK    OK    OK  UNNEEDED, same version is already published
Package 120/146HostnameOS / ArchINSTALLBUILDCHECKBUILD BIN
Site2Target 1.3.0  (landing page)
Peyman Zarrineh
git_last_commit: a1401da
git_last_commit_date: 2025-10-29 11:35:26 -0500
nebbiolo1Linux (Ubuntu 24.04.3 LTS) / x86_64  OK    OK    OK  UNNEEDED, same version is already published
Package 121/146HostnameOS / ArchINSTALLBUILDCHECKBUILD BIN
SNPhood 1.41.0  (landing page)
Christian Arnold
git_last_commit: 4de7497
git_last_commit_date: 2025-10-29 10:28:24 -0500
nebbiolo1Linux (Ubuntu 24.04.3 LTS) / x86_64  OK    OK    OK  UNNEEDED, same version is already published
Package 122/146HostnameOS / ArchINSTALLBUILDCHECKBUILD BIN
SOMNiBUS 1.19.0  (landing page)
Kathleen Klein
git_last_commit: 62fb14c
git_last_commit_date: 2025-10-29 11:05:55 -0500
nebbiolo1Linux (Ubuntu 24.04.3 LTS) / x86_64  OK    OK    OK  YES
Package 123/146HostnameOS / ArchINSTALLBUILDCHECKBUILD BIN
SparseSignatures 2.21.0  (landing page)
Luca De Sano
git_last_commit: 4635876
git_last_commit_date: 2025-10-29 10:44:43 -0500
nebbiolo1Linux (Ubuntu 24.04.3 LTS) / x86_64  OK    OK    OK  UNNEEDED, same version is already published
Package 124/146HostnameOS / ArchINSTALLBUILDCHECKBUILD BIN
SPICEY 1.1.0  (landing page)
Georgina Fuentes-Páez
git_last_commit: a5c4c20
git_last_commit_date: 2025-10-29 11:37:52 -0500
nebbiolo1Linux (Ubuntu 24.04.3 LTS) / x86_64  OK    OK    OK  UNNEEDED, same version is already published
Package 125/146HostnameOS / ArchINSTALLBUILDCHECKBUILD BIN
spiky 1.17.0  (landing page)
Tim Triche
git_last_commit: 5e5bb23
git_last_commit_date: 2025-10-29 11:10:11 -0500
nebbiolo1Linux (Ubuntu 24.04.3 LTS) / x86_64  OK    OK    OK  UNNEEDED, same version is already published
Package 126/146HostnameOS / ArchINSTALLBUILDCHECKBUILD BIN
SpliceWiz 1.13.0  (landing page)
Alex Chit Hei Wong
git_last_commit: 73b017a
git_last_commit_date: 2025-10-29 11:17:35 -0500
nebbiolo1Linux (Ubuntu 24.04.3 LTS) / x86_64  OK    OK    WARNINGS  UNNEEDED, same version is already published
Package 127/146HostnameOS / ArchINSTALLBUILDCHECKBUILD BIN
STADyUM 1.1.0  (landing page)
Rebecca Hassett
git_last_commit: 6b6c41d
git_last_commit_date: 2025-10-29 11:38:40 -0500
nebbiolo1Linux (Ubuntu 24.04.3 LTS) / x86_64  ERROR    ERROR  skipped
Package 128/146HostnameOS / ArchINSTALLBUILDCHECKBUILD BIN
StructuralVariantAnnotation 1.27.0  (landing page)
Daniel Cameron
git_last_commit: 72cd374
git_last_commit_date: 2025-10-29 10:52:25 -0500
nebbiolo1Linux (Ubuntu 24.04.3 LTS) / x86_64  OK    OK    OK  UNNEEDED, same version is already published
Package 129/146HostnameOS / ArchINSTALLBUILDCHECKBUILD BIN
svaNUMT 1.17.0  (landing page)
Ruining Dong
git_last_commit: 798135e
git_last_commit_date: 2025-10-29 11:10:38 -0500
nebbiolo1Linux (Ubuntu 24.04.3 LTS) / x86_64  OK    OK    OK  UNNEEDED, same version is already published
Package 130/146HostnameOS / ArchINSTALLBUILDCHECKBUILD BIN
svaRetro 1.17.0  (landing page)
Ruining Dong
git_last_commit: be18f25
git_last_commit_date: 2025-10-29 11:11:45 -0500
nebbiolo1Linux (Ubuntu 24.04.3 LTS) / x86_64  OK    ERROR  skipped
Package 131/146HostnameOS / ArchINSTALLBUILDCHECKBUILD BIN
TAPseq 1.23.0  (landing page)
Andreas R. Gschwind
git_last_commit: 8fcac6c
git_last_commit_date: 2025-10-29 10:57:19 -0500
nebbiolo1Linux (Ubuntu 24.04.3 LTS) / x86_64  OK    OK    WARNINGS  UNNEEDED, same version is already published
Package 132/146HostnameOS / ArchINSTALLBUILDCHECKBUILD BIN
TCGAutils 1.31.1  (landing page)
Marcel Ramos
git_last_commit: 014a2cf
git_last_commit_date: 2025-11-06 17:11:08 -0500
nebbiolo1Linux (Ubuntu 24.04.3 LTS) / x86_64  OK    OK    ERROR  
Package 133/146HostnameOS / ArchINSTALLBUILDCHECKBUILD BIN
tidyCoverage 1.7.0  (landing page)
Jacques Serizay
git_last_commit: 283f96f
git_last_commit_date: 2025-10-29 11:27:26 -0500
nebbiolo1Linux (Ubuntu 24.04.3 LTS) / x86_64  OK    OK    OK  UNNEEDED, same version is already published
Package 134/146HostnameOS / ArchINSTALLBUILDCHECKBUILD BIN
TnT 1.33.0  (landing page)
Jialin Ma
git_last_commit: a8c1dc4
git_last_commit_date: 2025-10-29 11:31:37 -0500
nebbiolo1Linux (Ubuntu 24.04.3 LTS) / x86_64  OK    OK    OK  UNNEEDED, same version is already published
Package 135/146HostnameOS / ArchINSTALLBUILDCHECKBUILD BIN
trackViewer 1.47.0  (landing page)
Jianhong Ou
git_last_commit: c2b7d9b
git_last_commit_date: 2025-10-29 10:17:52 -0500
nebbiolo1Linux (Ubuntu 24.04.3 LTS) / x86_64  OK    OK    OK  UNNEEDED, same version is already published
Package 136/146HostnameOS / ArchINSTALLBUILDCHECKBUILD BIN
transcriptR 1.39.0  (landing page)
Armen R. Karapetyan
git_last_commit: 24cea71
git_last_commit_date: 2025-10-29 10:29:09 -0500
nebbiolo1Linux (Ubuntu 24.04.3 LTS) / x86_64  OK    OK    ERROR  
Package 137/146HostnameOS / ArchINSTALLBUILDCHECKBUILD BIN
txdbmaker 1.7.1  (landing page)
H. Pagès
git_last_commit: 5069001
git_last_commit_date: 2025-10-30 20:12:43 -0500
nebbiolo1Linux (Ubuntu 24.04.3 LTS) / x86_64  OK    OK    OK  UNNEEDED, same version is already published
Package 138/146HostnameOS / ArchINSTALLBUILDCHECKBUILD BIN
Ularcirc 1.29.0  (landing page)
David Humphreys
git_last_commit: ff1d0ee
git_last_commit_date: 2025-10-29 10:45:47 -0500
nebbiolo1Linux (Ubuntu 24.04.3 LTS) / x86_64  OK    OK    WARNINGS  NO, package depends on 'Organism.dplyr' which is not available
Package 139/146HostnameOS / ArchINSTALLBUILDCHECKBUILD BIN
UMI4Cats 1.21.0  (landing page)
Mireia Ramos-Rodriguez
git_last_commit: f049a0a
git_last_commit_date: 2025-10-29 11:01:19 -0500
nebbiolo1Linux (Ubuntu 24.04.3 LTS) / x86_64  OK    OK    OK  UNNEEDED, same version is already published
Package 140/146HostnameOS / ArchINSTALLBUILDCHECKBUILD BIN
UPDhmm 1.7.0  (landing page)
Marta Sevilla
git_last_commit: 031c3fa
git_last_commit_date: 2025-10-29 11:29:26 -0500
nebbiolo1Linux (Ubuntu 24.04.3 LTS) / x86_64  OK    OK    OK  UNNEEDED, same version is already published
Package 141/146HostnameOS / ArchINSTALLBUILDCHECKBUILD BIN
VanillaICE 1.73.0  (landing page)
Robert Scharpf
git_last_commit: 22bb99f
git_last_commit_date: 2025-10-29 09:59:52 -0500
nebbiolo1Linux (Ubuntu 24.04.3 LTS) / x86_64  OK    OK    OK  UNNEEDED, same version is already published
Package 142/146HostnameOS / ArchINSTALLBUILDCHECKBUILD BIN
VariantFiltering 1.47.0  (landing page)
Robert Castelo
git_last_commit: 270d88d
git_last_commit_date: 2025-10-29 10:19:08 -0500
nebbiolo1Linux (Ubuntu 24.04.3 LTS) / x86_64  OK    OK    OK  UNNEEDED, same version is already published
Package 143/146HostnameOS / ArchINSTALLBUILDCHECKBUILD BIN
VariantTools 1.53.0  (landing page)
Michael Lawrence
git_last_commit: 4083347
git_last_commit_date: 2025-10-29 10:12:36 -0500
nebbiolo1Linux (Ubuntu 24.04.3 LTS) / x86_64  OK    ERROR  skipped
Package 144/146HostnameOS / ArchINSTALLBUILDCHECKBUILD BIN
VaSP 1.23.0  (landing page)
Huihui Yu
git_last_commit: 2b50758
git_last_commit_date: 2025-10-29 10:57:01 -0500
nebbiolo1Linux (Ubuntu 24.04.3 LTS) / x86_64  OK    OK    OK  UNNEEDED, same version is already published
Package 145/146HostnameOS / ArchINSTALLBUILDCHECKBUILD BIN
VplotR 1.21.0  (landing page)
Jacques Serizay
git_last_commit: c54c82d
git_last_commit_date: 2025-10-29 11:01:33 -0500
nebbiolo1Linux (Ubuntu 24.04.3 LTS) / x86_64  OK    ERROR  skipped
Package 146/146HostnameOS / ArchINSTALLBUILDCHECKBUILD BIN
wiggleplotr 1.35.0  (landing page)
Kaur Alasoo
git_last_commit: 39b648a
git_last_commit_date: 2025-10-29 10:37:42 -0500
nebbiolo1Linux (Ubuntu 24.04.3 LTS) / x86_64  OK    OK    OK  UNNEEDED, same version is already published