Back to Multiple platform build/check report for BioC 3.22:   simplified   long
ABCDEFGHIJKLMNOPQ[R]STUVWXYZ

This page was generated on 2025-10-07 12:04 -0400 (Tue, 07 Oct 2025).

HostnameOSArch (*)R versionInstalled pkgs
nebbiolo2Linux (Ubuntu 24.04.3 LTS)x86_644.5.1 Patched (2025-08-23 r88802) -- "Great Square Root" 4853
lconwaymacOS 12.7.1 Montereyx86_644.5.1 Patched (2025-09-10 r88807) -- "Great Square Root" 4640
kjohnson3macOS 13.7.7 Venturaarm644.5.1 Patched (2025-09-10 r88807) -- "Great Square Root" 4585
taishanLinux (openEuler 24.03 LTS)aarch644.5.0 (2025-04-11) -- "How About a Twenty-Six" 4584
Click on any hostname to see more info about the system (e.g. compilers)      (*) as reported by 'uname -p', except on Windows and Mac OS X

Package 1755/2341HostnameOS / ArchINSTALLBUILDCHECKBUILD BIN
RESOLVE 1.11.2  (landing page)
Luca De Sano
Snapshot Date: 2025-10-06 13:45 -0400 (Mon, 06 Oct 2025)
git_url: https://git.bioconductor.org/packages/RESOLVE
git_branch: devel
git_last_commit: 8ccfb79
git_last_commit_date: 2025-10-03 13:04:20 -0400 (Fri, 03 Oct 2025)
nebbiolo2Linux (Ubuntu 24.04.3 LTS) / x86_64  OK    OK    OK  UNNEEDED, same version is already published
lconwaymacOS 12.7.1 Monterey / x86_64  OK    OK    OK    OK  UNNEEDED, same version is already published
kjohnson3macOS 13.7.7 Ventura / arm64  OK    OK    OK    OK  UNNEEDED, same version is already published
taishanLinux (openEuler 24.03 LTS) / aarch64  ERROR    ERROR  skipped


CHECK results for RESOLVE on nebbiolo2

To the developers/maintainers of the RESOLVE package:
- Allow up to 24 hours (and sometimes 48 hours) for your latest push to git@git.bioconductor.org:packages/RESOLVE.git to reflect on this report. See Troubleshooting Build Report for more information.
- Use the following Renviron settings to reproduce errors and warnings.
- If 'R CMD check' started to fail recently on the Linux builder(s) over a missing dependency, add the missing dependency to 'Suggests:' in your DESCRIPTION file. See Renviron.bioc for more information.

raw results


Summary

Package: RESOLVE
Version: 1.11.2
Command: /home/biocbuild/bbs-3.22-bioc/R/bin/R CMD check --install=check:RESOLVE.install-out.txt --library=/home/biocbuild/bbs-3.22-bioc/R/site-library --timings RESOLVE_1.11.2.tar.gz
StartedAt: 2025-10-07 03:30:00 -0400 (Tue, 07 Oct 2025)
EndedAt: 2025-10-07 03:45:11 -0400 (Tue, 07 Oct 2025)
EllapsedTime: 911.1 seconds
RetCode: 0
Status:   OK  
CheckDir: RESOLVE.Rcheck
Warnings: 0

Command output

##############################################################################
##############################################################################
###
### Running command:
###
###   /home/biocbuild/bbs-3.22-bioc/R/bin/R CMD check --install=check:RESOLVE.install-out.txt --library=/home/biocbuild/bbs-3.22-bioc/R/site-library --timings RESOLVE_1.11.2.tar.gz
###
##############################################################################
##############################################################################


* using log directory ‘/home/biocbuild/bbs-3.22-bioc/meat/RESOLVE.Rcheck’
* using R version 4.5.1 Patched (2025-08-23 r88802)
* using platform: x86_64-pc-linux-gnu
* R was compiled by
    gcc (Ubuntu 13.3.0-6ubuntu2~24.04) 13.3.0
    GNU Fortran (Ubuntu 13.3.0-6ubuntu2~24.04) 13.3.0
* running under: Ubuntu 24.04.3 LTS
* using session charset: UTF-8
* checking for file ‘RESOLVE/DESCRIPTION’ ... OK
* this is package ‘RESOLVE’ version ‘1.11.2’
* package encoding: UTF-8
* checking package namespace information ... OK
* checking package dependencies ... OK
* checking if this is a source package ... OK
* checking if there is a namespace ... OK
* checking for hidden files and directories ... OK
* checking for portable file names ... OK
* checking for sufficient/correct file permissions ... OK
* checking whether package ‘RESOLVE’ can be installed ... OK
* checking installed package size ... OK
* checking package directory ... OK
* checking ‘build’ directory ... OK
* checking DESCRIPTION meta-information ... OK
* checking top-level files ... OK
* checking for left-over files ... OK
* checking index information ... OK
* checking package subdirectories ... OK
* checking code files for non-ASCII characters ... OK
* checking R files for syntax errors ... OK
* checking whether the package can be loaded ... OK
* checking whether the package can be loaded with stated dependencies ... OK
* checking whether the package can be unloaded cleanly ... OK
* checking whether the namespace can be loaded with stated dependencies ... OK
* checking whether the namespace can be unloaded cleanly ... OK
* checking loading without being on the library search path ... OK
* checking dependencies in R code ... OK
* checking S3 generic/method consistency ... OK
* checking replacement functions ... OK
* checking foreign function calls ... OK
* checking R code for possible problems ... OK
* checking Rd files ... OK
* checking Rd metadata ... OK
* checking Rd cross-references ... OK
* checking for missing documentation entries ... OK
* checking for code/documentation mismatches ... OK
* checking Rd \usage sections ... OK
* checking Rd contents ... OK
* checking for unstated dependencies in examples ... OK
* checking contents of ‘data’ directory ... OK
* checking data for non-ASCII characters ... OK
* checking data for ASCII and uncompressed saves ... OK
* checking files in ‘vignettes’ ... OK
* checking examples ... OK
Examples with CPU (user + system) or elapsed time > 5s
                           user system elapsed
signaturesSignificance  139.905  0.256 140.160
signaturesCV            102.251  0.491 102.743
signaturesDecomposition  74.008  0.234  74.242
signaturesAssignment     41.023  0.314  41.339
getMNVCounts             11.805  0.130  11.935
signaturesClustering     10.044  0.145  10.189
getIDCounts               5.186  0.140   5.395
groupsMNVPlot             5.038  0.260   5.298
groupsIDPlot              5.042  0.038   5.080
* checking for unstated dependencies in ‘tests’ ... OK
* checking tests ...
  Running ‘testthat.R’
 OK
* checking for unstated dependencies in vignettes ... OK
* checking package vignettes ... OK
* checking re-building of vignette outputs ... OK
* checking PDF version of manual ... OK
* DONE

Status: OK


Installation output

RESOLVE.Rcheck/00install.out

##############################################################################
##############################################################################
###
### Running command:
###
###   /home/biocbuild/bbs-3.22-bioc/R/bin/R CMD INSTALL RESOLVE
###
##############################################################################
##############################################################################


* installing to library ‘/home/biocbuild/bbs-3.22-bioc/R/site-library’
* installing *source* package ‘RESOLVE’ ...
** this is package ‘RESOLVE’ version ‘1.11.2’
** using staged installation
** R
** data
** inst
** byte-compile and prepare package for lazy loading
** help
*** installing help indices
** building package indices
** installing vignettes
** testing if installed package can be loaded from temporary location
** testing if installed package can be loaded from final location
** testing if installed package keeps a record of temporary installation path
* DONE (RESOLVE)

Tests output

RESOLVE.Rcheck/tests/testthat.Rout


R version 4.5.1 Patched (2025-08-23 r88802) -- "Great Square Root"
Copyright (C) 2025 The R Foundation for Statistical Computing
Platform: x86_64-pc-linux-gnu

R is free software and comes with ABSOLUTELY NO WARRANTY.
You are welcome to redistribute it under certain conditions.
Type 'license()' or 'licence()' for distribution details.

R is a collaborative project with many contributors.
Type 'contributors()' for more information and
'citation()' on how to cite R or R packages in publications.

Type 'demo()' for some demos, 'help()' for on-line help, or
'help.start()' for an HTML browser interface to help.
Type 'q()' to quit R.

> Sys.setenv("R_TESTS" = "")
> 
> library("testthat")
> library("RESOLVE")
> 
> test_check("RESOLVE")
[ FAIL 0 | WARN 203 | SKIP 0 | PASS 6 ]

[ FAIL 0 | WARN 203 | SKIP 0 | PASS 6 ]
> 
> proc.time()
   user  system elapsed 
201.602   2.481 203.114 

Example timings

RESOLVE.Rcheck/RESOLVE-Ex.timings

nameusersystemelapsed
associationAlterations0.7950.0090.803
associationPrognosis0.1710.0010.173
associationSignatures1.8810.0201.900
getCNCounts0.0130.0010.014
getIDCounts5.1860.1405.395
getMNVCounts11.805 0.13011.935
getSBSCounts2.4760.2664.055
groupsCNPlot3.5150.0553.569
groupsCXPlot2.0650.0032.068
groupsIDPlot5.0420.0385.080
groupsMNVPlot5.0380.2605.298
groupsSBSPlot3.6890.0263.715
patientsCNPlot1.7780.0171.795
patientsCXPlot0.8330.0040.837
patientsIDPlot2.6690.0022.671
patientsMNVPlot1.8180.0181.837
patientsSBSPlot1.1710.0211.193
signaturesAssignment41.023 0.31441.339
signaturesCNPlot2.5580.0572.615
signaturesCV102.251 0.491102.743
signaturesCXPlot1.2380.0481.287
signaturesClustering10.044 0.14510.189
signaturesDecomposition74.008 0.23474.242
signaturesIDPlot3.8730.0503.924
signaturesMNVPlot2.5970.0022.599
signaturesSBSPlot1.7090.0001.709
signaturesSignificance139.905 0.256140.160