| Back to Multiple platform build/check report for BioC 3.23: simplified long |
|
This page was generated on 2025-11-19 10:13 -0500 (Wed, 19 Nov 2025).
| Hostname | OS | Arch (*) | R version | Installed pkgs |
|---|---|---|---|---|
| nebbiolo1 | Linux (Ubuntu 24.04.3 LTS) | x86_64 | R Under development (unstable) (2025-10-20 r88955) -- "Unsuffered Consequences" | 4827 |
| lconway | macOS 12.7.6 Monterey | x86_64 | R Under development (unstable) (2025-10-21 r88958) -- "Unsuffered Consequences" | 4600 |
| kjohnson3 | macOS 13.7.7 Ventura | arm64 | R Under development (unstable) (2025-11-04 r88984) -- "Unsuffered Consequences" | 4564 |
| Click on any hostname to see more info about the system (e.g. compilers) (*) as reported by 'uname -p', except on Windows and Mac OS X | ||||
| Package 821/2325 | Hostname | OS / Arch | INSTALL | BUILD | CHECK | BUILD BIN | ||||||||
| GeneStructureTools 1.31.0 (landing page) Beth Signal
| nebbiolo1 | Linux (Ubuntu 24.04.3 LTS) / x86_64 | OK | OK | OK | |||||||||
| lconway | macOS 12.7.6 Monterey / x86_64 | OK | OK | OK | OK | |||||||||
| kjohnson3 | macOS 13.7.7 Ventura / arm64 | OK | OK | OK | OK | |||||||||
|
To the developers/maintainers of the GeneStructureTools package: - Allow up to 24 hours (and sometimes 48 hours) for your latest push to git@git.bioconductor.org:packages/GeneStructureTools.git to reflect on this report. See Troubleshooting Build Report for more information. - Use the following Renviron settings to reproduce errors and warnings. - If 'R CMD check' started to fail recently on the Linux builder(s) over a missing dependency, add the missing dependency to 'Suggests:' in your DESCRIPTION file. See Renviron.bioc for more information. |
| Package: GeneStructureTools |
| Version: 1.31.0 |
| Command: /Library/Frameworks/R.framework/Resources/bin/R CMD check --install=check:GeneStructureTools.install-out.txt --library=/Library/Frameworks/R.framework/Resources/library --no-vignettes --timings GeneStructureTools_1.31.0.tar.gz |
| StartedAt: 2025-11-18 21:14:57 -0500 (Tue, 18 Nov 2025) |
| EndedAt: 2025-11-18 21:22:52 -0500 (Tue, 18 Nov 2025) |
| EllapsedTime: 475.0 seconds |
| RetCode: 0 |
| Status: OK |
| CheckDir: GeneStructureTools.Rcheck |
| Warnings: 0 |
##############################################################################
##############################################################################
###
### Running command:
###
### /Library/Frameworks/R.framework/Resources/bin/R CMD check --install=check:GeneStructureTools.install-out.txt --library=/Library/Frameworks/R.framework/Resources/library --no-vignettes --timings GeneStructureTools_1.31.0.tar.gz
###
##############################################################################
##############################################################################
* using log directory ‘/Users/biocbuild/bbs-3.23-bioc/meat/GeneStructureTools.Rcheck’
* using R Under development (unstable) (2025-10-21 r88958)
* using platform: x86_64-apple-darwin20
* R was compiled by
Apple clang version 14.0.0 (clang-1400.0.29.202)
GNU Fortran (GCC) 14.2.0
* running under: macOS Ventura 13.7.8
* using session charset: UTF-8
* using option ‘--no-vignettes’
* checking for file ‘GeneStructureTools/DESCRIPTION’ ... OK
* checking extension type ... Package
* this is package ‘GeneStructureTools’ version ‘1.31.0’
* package encoding: UTF-8
* checking package namespace information ... OK
* checking package dependencies ... OK
* checking if this is a source package ... OK
* checking if there is a namespace ... OK
* checking for hidden files and directories ... OK
* checking for portable file names ... OK
* checking for sufficient/correct file permissions ... OK
* checking whether package ‘GeneStructureTools’ can be installed ... OK
* checking installed package size ... OK
* checking package directory ... OK
* checking ‘build’ directory ... OK
* checking DESCRIPTION meta-information ... OK
* checking top-level files ... OK
* checking for left-over files ... OK
* checking index information ... OK
* checking package subdirectories ... OK
* checking code files for non-ASCII characters ... OK
* checking R files for syntax errors ... OK
* checking whether the package can be loaded ... OK
* checking whether the package can be loaded with stated dependencies ... OK
* checking whether the package can be unloaded cleanly ... OK
* checking whether the namespace can be loaded with stated dependencies ... OK
* checking whether the namespace can be unloaded cleanly ... OK
* checking dependencies in R code ... OK
* checking S3 generic/method consistency ... OK
* checking replacement functions ... OK
* checking foreign function calls ... OK
* checking R code for possible problems ... OK
* checking Rd files ... OK
* checking Rd metadata ... OK
* checking Rd cross-references ... OK
* checking for missing documentation entries ... OK
* checking for code/documentation mismatches ... OK
* checking Rd \usage sections ... OK
* checking Rd contents ... OK
* checking for unstated dependencies in examples ... OK
* checking files in ‘vignettes’ ... OK
* checking examples ... OK
Examples with CPU (user + system) or elapsed time > 5s
user system elapsed
leafcutterTranscriptChangeSummary 26.719 1.316 28.280
whippetTranscriptChangeSummary 14.422 0.270 14.917
* checking for unstated dependencies in vignettes ... OK
* checking package vignettes ... OK
* checking running R code from vignettes ... SKIPPED
* checking re-building of vignette outputs ... SKIPPED
* checking PDF version of manual ... OK
* DONE
Status: OK
GeneStructureTools.Rcheck/00install.out
############################################################################## ############################################################################## ### ### Running command: ### ### /Library/Frameworks/R.framework/Resources/bin/R CMD INSTALL GeneStructureTools ### ############################################################################## ############################################################################## * installing to library ‘/Library/Frameworks/R.framework/Versions/4.6-x86_64/Resources/library’ * installing *source* package ‘GeneStructureTools’ ... ** this is package ‘GeneStructureTools’ version ‘1.31.0’ ** using staged installation ** R ** inst ** byte-compile and prepare package for lazy loading ** help *** installing help indices ** building package indices ** installing vignettes ** testing if installed package can be loaded from temporary location ** testing if installed package can be loaded from final location ** testing if installed package keeps a record of temporary installation path * DONE (GeneStructureTools)
GeneStructureTools.Rcheck/GeneStructureTools-Ex.timings
| name | user | system | elapsed | |
| DEXSeqIdsToGeneIds | 0.004 | 0.001 | 0.005 | |
| UTR2UTR53 | 2.767 | 0.140 | 2.929 | |
| addBroadTypes | 0.188 | 0.004 | 0.193 | |
| addIntronInTranscript | 3.000 | 0.149 | 3.283 | |
| alternativeIntronUsage | 4.814 | 0.039 | 4.886 | |
| annotateGeneModel | 0.905 | 0.014 | 0.923 | |
| attrChangeAltSpliced | 1.304 | 0.118 | 1.542 | |
| coordinates-methods | 0.077 | 0.096 | 0.285 | |
| diffSplicingResults-methods | 0.080 | 0.098 | 0.297 | |
| exonsToTranscripts | 0.279 | 0.007 | 0.287 | |
| filterGtfOverlap | 0.280 | 0.007 | 0.292 | |
| filterWhippetEvents | 0.089 | 0.101 | 0.294 | |
| findDEXexonType | 2.734 | 0.024 | 2.785 | |
| findExonContainingTranscripts | 0.496 | 0.108 | 0.715 | |
| findIntronContainingTranscripts | 0.762 | 0.122 | 1.006 | |
| findJunctionPairs | 1.550 | 0.110 | 1.804 | |
| formatWhippetEvents | 0.018 | 0.012 | 0.042 | |
| getOrfs | 0.819 | 0.020 | 0.847 | |
| getUOrfs | 0.654 | 0.015 | 0.674 | |
| junctions-methods | 0.080 | 0.105 | 0.305 | |
| leafcutterTranscriptChangeSummary | 26.719 | 1.316 | 28.280 | |
| makeGeneModel | 0.191 | 0.007 | 0.201 | |
| maxLocation | 0.003 | 0.000 | 0.004 | |
| orfDiff | 2.966 | 0.156 | 3.279 | |
| orfSimilarity | 0.001 | 0.000 | 0.000 | |
| overlapTypes | 2.568 | 0.033 | 2.613 | |
| readCounts-methods | 0.084 | 0.112 | 0.331 | |
| readWhippetDIFFfiles | 0.008 | 0.012 | 0.031 | |
| readWhippetDataSet | 0.079 | 0.111 | 0.303 | |
| readWhippetJNCfiles | 0.043 | 0.049 | 0.156 | |
| readWhippetPSIfiles | 0.022 | 0.047 | 0.126 | |
| removeDuplicateTranscripts | 0.297 | 0.009 | 0.310 | |
| removeSameExon | 0.246 | 0.006 | 0.257 | |
| removeVersion | 0.001 | 0.000 | 0.001 | |
| reorderExonNumbers | 0.196 | 0.006 | 0.203 | |
| replaceJunction | 4.589 | 0.141 | 4.879 | |
| skipExonInTranscript | 1.503 | 0.115 | 1.735 | |
| summariseExonTypes | 2.726 | 0.022 | 2.765 | |
| transcriptChangeSummary | 1.677 | 0.130 | 1.935 | |
| whippetTranscriptChangeSummary | 14.422 | 0.270 | 14.917 | |