| Back to Build/check report for BioC 3.23: simplified long |
|
This page was generated on 2025-11-08 11:32 -0500 (Sat, 08 Nov 2025).
| Hostname | OS | Arch (*) | R version | Installed pkgs |
|---|---|---|---|---|
| nebbiolo1 | Linux (Ubuntu 24.04.3 LTS) | x86_64 | R Under development (unstable) (2025-10-20 r88955) -- "Unsuffered Consequences" | 4821 |
| Click on any hostname to see more info about the system (e.g. compilers) (*) as reported by 'uname -p', except on Windows and Mac OS X | ||||
| Package 821/2323 | Hostname | OS / Arch | INSTALL | BUILD | CHECK | BUILD BIN | ||||||||
| GeneStructureTools 1.31.0 (landing page) Beth Signal
| nebbiolo1 | Linux (Ubuntu 24.04.3 LTS) / x86_64 | OK | OK | OK | |||||||||
|
To the developers/maintainers of the GeneStructureTools package: - Allow up to 24 hours (and sometimes 48 hours) for your latest push to git@git.bioconductor.org:packages/GeneStructureTools.git to reflect on this report. See Troubleshooting Build Report for more information. - Use the following Renviron settings to reproduce errors and warnings. - If 'R CMD check' started to fail recently on the Linux builder(s) over a missing dependency, add the missing dependency to 'Suggests:' in your DESCRIPTION file. See Renviron.bioc for more information. |
| Package: GeneStructureTools |
| Version: 1.31.0 |
| Command: /home/biocbuild/bbs-3.23-bioc/R/bin/R CMD check --install=check:GeneStructureTools.install-out.txt --library=/home/biocbuild/bbs-3.23-bioc/R/site-library --timings GeneStructureTools_1.31.0.tar.gz |
| StartedAt: 2025-11-07 23:51:11 -0500 (Fri, 07 Nov 2025) |
| EndedAt: 2025-11-07 23:59:27 -0500 (Fri, 07 Nov 2025) |
| EllapsedTime: 495.6 seconds |
| RetCode: 0 |
| Status: OK |
| CheckDir: GeneStructureTools.Rcheck |
| Warnings: 0 |
##############################################################################
##############################################################################
###
### Running command:
###
### /home/biocbuild/bbs-3.23-bioc/R/bin/R CMD check --install=check:GeneStructureTools.install-out.txt --library=/home/biocbuild/bbs-3.23-bioc/R/site-library --timings GeneStructureTools_1.31.0.tar.gz
###
##############################################################################
##############################################################################
* using log directory ‘/home/biocbuild/bbs-3.23-bioc/meat/GeneStructureTools.Rcheck’
* using R Under development (unstable) (2025-10-20 r88955)
* using platform: x86_64-pc-linux-gnu
* R was compiled by
gcc (Ubuntu 13.3.0-6ubuntu2~24.04) 13.3.0
GNU Fortran (Ubuntu 13.3.0-6ubuntu2~24.04) 13.3.0
* running under: Ubuntu 24.04.3 LTS
* using session charset: UTF-8
* checking for file ‘GeneStructureTools/DESCRIPTION’ ... OK
* checking extension type ... Package
* this is package ‘GeneStructureTools’ version ‘1.31.0’
* package encoding: UTF-8
* checking package namespace information ... OK
* checking package dependencies ... OK
* checking if this is a source package ... OK
* checking if there is a namespace ... OK
* checking for hidden files and directories ... OK
* checking for portable file names ... OK
* checking for sufficient/correct file permissions ... OK
* checking whether package ‘GeneStructureTools’ can be installed ... OK
* checking installed package size ... OK
* checking package directory ... OK
* checking ‘build’ directory ... OK
* checking DESCRIPTION meta-information ... OK
* checking top-level files ... OK
* checking for left-over files ... OK
* checking index information ... OK
* checking package subdirectories ... OK
* checking code files for non-ASCII characters ... OK
* checking R files for syntax errors ... OK
* checking whether the package can be loaded ... OK
* checking whether the package can be loaded with stated dependencies ... OK
* checking whether the package can be unloaded cleanly ... OK
* checking whether the namespace can be loaded with stated dependencies ... OK
* checking whether the namespace can be unloaded cleanly ... OK
* checking loading without being on the library search path ... OK
* checking dependencies in R code ... OK
* checking S3 generic/method consistency ... OK
* checking replacement functions ... OK
* checking foreign function calls ... OK
* checking R code for possible problems ... OK
* checking Rd files ... OK
* checking Rd metadata ... OK
* checking Rd cross-references ... OK
* checking for missing documentation entries ... OK
* checking for code/documentation mismatches ... OK
* checking Rd \usage sections ... OK
* checking Rd contents ... OK
* checking for unstated dependencies in examples ... OK
* checking files in ‘vignettes’ ... OK
* checking examples ... OK
Examples with CPU (user + system) or elapsed time > 5s
user system elapsed
leafcutterTranscriptChangeSummary 21.498 0.364 21.864
whippetTranscriptChangeSummary 11.627 0.269 11.895
* checking for unstated dependencies in vignettes ... OK
* checking package vignettes ... OK
* checking re-building of vignette outputs ... OK
* checking PDF version of manual ... OK
* DONE
Status: OK
GeneStructureTools.Rcheck/00install.out
############################################################################## ############################################################################## ### ### Running command: ### ### /home/biocbuild/bbs-3.23-bioc/R/bin/R CMD INSTALL GeneStructureTools ### ############################################################################## ############################################################################## * installing to library ‘/home/biocbuild/bbs-3.23-bioc/R/site-library’ * installing *source* package ‘GeneStructureTools’ ... ** this is package ‘GeneStructureTools’ version ‘1.31.0’ ** using staged installation ** R ** inst ** byte-compile and prepare package for lazy loading ** help *** installing help indices ** building package indices ** installing vignettes ** testing if installed package can be loaded from temporary location ** testing if installed package can be loaded from final location ** testing if installed package keeps a record of temporary installation path * DONE (GeneStructureTools)
GeneStructureTools.Rcheck/GeneStructureTools-Ex.timings
| name | user | system | elapsed | |
| DEXSeqIdsToGeneIds | 0.003 | 0.000 | 0.003 | |
| UTR2UTR53 | 2.295 | 0.230 | 2.528 | |
| addBroadTypes | 0.155 | 0.012 | 0.167 | |
| addIntronInTranscript | 2.667 | 0.098 | 2.766 | |
| alternativeIntronUsage | 3.929 | 0.039 | 3.968 | |
| annotateGeneModel | 0.762 | 0.016 | 0.778 | |
| attrChangeAltSpliced | 1.140 | 0.035 | 1.175 | |
| coordinates-methods | 0.047 | 0.015 | 0.096 | |
| diffSplicingResults-methods | 0.050 | 0.012 | 0.062 | |
| exonsToTranscripts | 0.248 | 0.018 | 0.266 | |
| filterGtfOverlap | 0.234 | 0.009 | 0.244 | |
| filterWhippetEvents | 0.062 | 0.017 | 0.079 | |
| findDEXexonType | 2.352 | 0.036 | 2.389 | |
| findExonContainingTranscripts | 0.376 | 0.034 | 0.409 | |
| findIntronContainingTranscripts | 0.597 | 0.044 | 0.641 | |
| findJunctionPairs | 1.278 | 0.063 | 1.341 | |
| formatWhippetEvents | 0.011 | 0.007 | 0.018 | |
| getOrfs | 0.672 | 0.025 | 0.697 | |
| getUOrfs | 0.524 | 0.035 | 0.559 | |
| junctions-methods | 0.069 | 0.019 | 0.088 | |
| leafcutterTranscriptChangeSummary | 21.498 | 0.364 | 21.864 | |
| makeGeneModel | 0.134 | 0.008 | 0.142 | |
| maxLocation | 0.002 | 0.000 | 0.003 | |
| orfDiff | 1.447 | 0.043 | 1.491 | |
| orfSimilarity | 0.000 | 0.001 | 0.001 | |
| overlapTypes | 3.288 | 0.154 | 3.442 | |
| readCounts-methods | 0.044 | 0.026 | 0.069 | |
| readWhippetDIFFfiles | 0.005 | 0.001 | 0.006 | |
| readWhippetDataSet | 0.038 | 0.024 | 0.062 | |
| readWhippetJNCfiles | 0.032 | 0.012 | 0.043 | |
| readWhippetPSIfiles | 0.01 | 0.01 | 0.02 | |
| removeDuplicateTranscripts | 0.264 | 0.004 | 0.268 | |
| removeSameExon | 0.193 | 0.010 | 0.203 | |
| removeVersion | 0.001 | 0.000 | 0.001 | |
| reorderExonNumbers | 0.147 | 0.003 | 0.150 | |
| replaceJunction | 3.679 | 0.044 | 3.723 | |
| skipExonInTranscript | 1.339 | 0.030 | 1.369 | |
| summariseExonTypes | 2.278 | 0.032 | 2.310 | |
| transcriptChangeSummary | 1.358 | 0.037 | 1.395 | |
| whippetTranscriptChangeSummary | 11.627 | 0.269 | 11.895 | |