| Back to Multiple platform build/check report for BioC 3.22: simplified long |
|
This page was generated on 2025-10-25 12:06 -0400 (Sat, 25 Oct 2025).
| Hostname | OS | Arch (*) | R version | Installed pkgs |
|---|---|---|---|---|
| nebbiolo2 | Linux (Ubuntu 24.04.3 LTS) | x86_64 | 4.5.1 Patched (2025-08-23 r88802) -- "Great Square Root" | 4901 |
| lconway | macOS 12.7.6 Monterey | x86_64 | 4.5.1 Patched (2025-09-10 r88807) -- "Great Square Root" | 4691 |
| kjohnson3 | macOS 13.7.7 Ventura | arm64 | 4.5.1 Patched (2025-09-10 r88807) -- "Great Square Root" | 4637 |
| taishan | Linux (openEuler 24.03 LTS) | aarch64 | 4.5.0 (2025-04-11) -- "How About a Twenty-Six" | 4658 |
| Click on any hostname to see more info about the system (e.g. compilers) (*) as reported by 'uname -p', except on Windows and Mac OS X | ||||
| Package 831/2361 | Hostname | OS / Arch | INSTALL | BUILD | CHECK | BUILD BIN | ||||||||
| GeneStructureTools 1.29.0 (landing page) Beth Signal
| nebbiolo2 | Linux (Ubuntu 24.04.3 LTS) / x86_64 | OK | OK | OK | |||||||||
| lconway | macOS 12.7.6 Monterey / x86_64 | OK | OK | OK | OK | |||||||||
| kjohnson3 | macOS 13.7.7 Ventura / arm64 | OK | OK | OK | OK | |||||||||
| taishan | Linux (openEuler 24.03 LTS) / aarch64 | ERROR | NA | NA | ||||||||||
|
To the developers/maintainers of the GeneStructureTools package: - Allow up to 24 hours (and sometimes 48 hours) for your latest push to git@git.bioconductor.org:packages/GeneStructureTools.git to reflect on this report. See Troubleshooting Build Report for more information. - Use the following Renviron settings to reproduce errors and warnings. - If 'R CMD check' started to fail recently on the Linux builder(s) over a missing dependency, add the missing dependency to 'Suggests:' in your DESCRIPTION file. See Renviron.bioc for more information. |
| Package: GeneStructureTools |
| Version: 1.29.0 |
| Command: /Library/Frameworks/R.framework/Resources/bin/R CMD check --install=check:GeneStructureTools.install-out.txt --library=/Library/Frameworks/R.framework/Resources/library --no-vignettes --timings GeneStructureTools_1.29.0.tar.gz |
| StartedAt: 2025-10-24 19:54:12 -0400 (Fri, 24 Oct 2025) |
| EndedAt: 2025-10-24 19:56:40 -0400 (Fri, 24 Oct 2025) |
| EllapsedTime: 147.7 seconds |
| RetCode: 0 |
| Status: OK |
| CheckDir: GeneStructureTools.Rcheck |
| Warnings: 0 |
##############################################################################
##############################################################################
###
### Running command:
###
### /Library/Frameworks/R.framework/Resources/bin/R CMD check --install=check:GeneStructureTools.install-out.txt --library=/Library/Frameworks/R.framework/Resources/library --no-vignettes --timings GeneStructureTools_1.29.0.tar.gz
###
##############################################################################
##############################################################################
* using log directory ‘/Users/biocbuild/bbs-3.22-bioc/meat/GeneStructureTools.Rcheck’
* using R version 4.5.1 Patched (2025-09-10 r88807)
* using platform: aarch64-apple-darwin20
* R was compiled by
Apple clang version 16.0.0 (clang-1600.0.26.6)
GNU Fortran (GCC) 14.2.0
* running under: macOS Ventura 13.7.7
* using session charset: UTF-8
* using option ‘--no-vignettes’
* checking for file ‘GeneStructureTools/DESCRIPTION’ ... OK
* checking extension type ... Package
* this is package ‘GeneStructureTools’ version ‘1.29.0’
* package encoding: UTF-8
* checking package namespace information ... OK
* checking package dependencies ... OK
* checking if this is a source package ... OK
* checking if there is a namespace ... OK
* checking for hidden files and directories ... OK
* checking for portable file names ... OK
* checking for sufficient/correct file permissions ... OK
* checking whether package ‘GeneStructureTools’ can be installed ... OK
* checking installed package size ... OK
* checking package directory ... OK
* checking ‘build’ directory ... OK
* checking DESCRIPTION meta-information ... OK
* checking top-level files ... OK
* checking for left-over files ... OK
* checking index information ... OK
* checking package subdirectories ... OK
* checking code files for non-ASCII characters ... OK
* checking R files for syntax errors ... OK
* checking whether the package can be loaded ... OK
* checking whether the package can be loaded with stated dependencies ... OK
* checking whether the package can be unloaded cleanly ... OK
* checking whether the namespace can be loaded with stated dependencies ... OK
* checking whether the namespace can be unloaded cleanly ... OK
* checking dependencies in R code ... OK
* checking S3 generic/method consistency ... OK
* checking replacement functions ... OK
* checking foreign function calls ... OK
* checking R code for possible problems ... OK
* checking Rd files ... OK
* checking Rd metadata ... OK
* checking Rd cross-references ... OK
* checking for missing documentation entries ... OK
* checking for code/documentation mismatches ... OK
* checking Rd \usage sections ... OK
* checking Rd contents ... OK
* checking for unstated dependencies in examples ... OK
* checking files in ‘vignettes’ ... OK
* checking examples ... OK
Examples with CPU (user + system) or elapsed time > 5s
user system elapsed
leafcutterTranscriptChangeSummary 6.461 0.257 6.74
* checking for unstated dependencies in vignettes ... OK
* checking package vignettes ... OK
* checking running R code from vignettes ... SKIPPED
* checking re-building of vignette outputs ... SKIPPED
* checking PDF version of manual ... OK
* DONE
Status: OK
GeneStructureTools.Rcheck/00install.out
############################################################################## ############################################################################## ### ### Running command: ### ### /Library/Frameworks/R.framework/Resources/bin/R CMD INSTALL GeneStructureTools ### ############################################################################## ############################################################################## * installing to library ‘/Library/Frameworks/R.framework/Versions/4.5-arm64/Resources/library’ * installing *source* package ‘GeneStructureTools’ ... ** this is package ‘GeneStructureTools’ version ‘1.29.0’ ** using staged installation ** R ** inst ** byte-compile and prepare package for lazy loading ** help *** installing help indices ** building package indices ** installing vignettes ** testing if installed package can be loaded from temporary location ** testing if installed package can be loaded from final location ** testing if installed package keeps a record of temporary installation path * DONE (GeneStructureTools)
GeneStructureTools.Rcheck/GeneStructureTools-Ex.timings
| name | user | system | elapsed | |
| DEXSeqIdsToGeneIds | 0.001 | 0.000 | 0.001 | |
| UTR2UTR53 | 0.676 | 0.020 | 0.702 | |
| addBroadTypes | 0.071 | 0.002 | 0.074 | |
| addIntronInTranscript | 0.595 | 0.035 | 0.640 | |
| alternativeIntronUsage | 1.226 | 0.010 | 1.236 | |
| annotateGeneModel | 0.250 | 0.005 | 0.254 | |
| attrChangeAltSpliced | 0.852 | 0.043 | 0.909 | |
| coordinates-methods | 0.024 | 0.035 | 0.068 | |
| diffSplicingResults-methods | 0.024 | 0.032 | 0.064 | |
| exonsToTranscripts | 0.095 | 0.010 | 0.105 | |
| filterGtfOverlap | 0.096 | 0.007 | 0.102 | |
| filterWhippetEvents | 0.026 | 0.035 | 0.071 | |
| findDEXexonType | 0.683 | 0.005 | 0.690 | |
| findExonContainingTranscripts | 0.145 | 0.032 | 0.189 | |
| findIntronContainingTranscripts | 0.212 | 0.029 | 0.256 | |
| findJunctionPairs | 0.364 | 0.029 | 0.409 | |
| formatWhippetEvents | 0.007 | 0.003 | 0.010 | |
| getOrfs | 0.220 | 0.005 | 0.229 | |
| getUOrfs | 0.169 | 0.004 | 0.174 | |
| junctions-methods | 0.022 | 0.028 | 0.064 | |
| leafcutterTranscriptChangeSummary | 6.461 | 0.257 | 6.740 | |
| makeGeneModel | 0.064 | 0.002 | 0.068 | |
| maxLocation | 0.001 | 0.000 | 0.001 | |
| orfDiff | 0.470 | 0.035 | 0.521 | |
| orfSimilarity | 0 | 0 | 0 | |
| overlapTypes | 0.633 | 0.003 | 0.637 | |
| readCounts-methods | 0.021 | 0.023 | 0.051 | |
| readWhippetDIFFfiles | 0.003 | 0.004 | 0.006 | |
| readWhippetDataSet | 0.022 | 0.028 | 0.057 | |
| readWhippetJNCfiles | 0.011 | 0.012 | 0.027 | |
| readWhippetPSIfiles | 0.006 | 0.011 | 0.020 | |
| removeDuplicateTranscripts | 0.096 | 0.003 | 0.099 | |
| removeSameExon | 0.080 | 0.003 | 0.083 | |
| removeVersion | 0 | 0 | 0 | |
| reorderExonNumbers | 0.069 | 0.002 | 0.072 | |
| replaceJunction | 1.105 | 0.031 | 1.152 | |
| skipExonInTranscript | 0.415 | 0.032 | 0.459 | |
| summariseExonTypes | 0.697 | 0.004 | 0.701 | |
| transcriptChangeSummary | 0.482 | 0.034 | 0.522 | |
| whippetTranscriptChangeSummary | 3.567 | 0.069 | 3.648 | |