Back to Multiple platform build/check report for BioC 3.23:   simplified   long
A[B]CDEFGHIJKLMNOPQRSTUVWXYZ

This page was generated on 2025-11-18 11:38 -0500 (Tue, 18 Nov 2025).

HostnameOSArch (*)R versionInstalled pkgs
nebbiolo1Linux (Ubuntu 24.04.3 LTS)x86_64R Under development (unstable) (2025-10-20 r88955) -- "Unsuffered Consequences" 4826
lconwaymacOS 12.7.6 Montereyx86_64R Under development (unstable) (2025-10-21 r88958) -- "Unsuffered Consequences" 4561
kjohnson3macOS 13.7.7 Venturaarm64R Under development (unstable) (2025-11-04 r88984) -- "Unsuffered Consequences" 4562
Click on any hostname to see more info about the system (e.g. compilers)      (*) as reported by 'uname -p', except on Windows and Mac OS X

Package 215/2325HostnameOS / ArchINSTALLBUILDCHECKBUILD BIN
BioNAR 1.13.0  (landing page)
Anatoly Sorokin
Snapshot Date: 2025-11-17 13:40 -0500 (Mon, 17 Nov 2025)
git_url: https://git.bioconductor.org/packages/BioNAR
git_branch: devel
git_last_commit: 77425df
git_last_commit_date: 2025-10-29 11:19:29 -0500 (Wed, 29 Oct 2025)
nebbiolo1Linux (Ubuntu 24.04.3 LTS) / x86_64  OK    OK    ERROR  
lconwaymacOS 12.7.6 Monterey / x86_64  OK    OK    ERROR    OK  
kjohnson3macOS 13.7.7 Ventura / arm64  OK    OK    ERROR    OK  


CHECK results for BioNAR on lconway

To the developers/maintainers of the BioNAR package:
- Allow up to 24 hours (and sometimes 48 hours) for your latest push to git@git.bioconductor.org:packages/BioNAR.git to reflect on this report. See Troubleshooting Build Report for more information.
- Use the following Renviron settings to reproduce errors and warnings.
- If 'R CMD check' started to fail recently on the Linux builder(s) over a missing dependency, add the missing dependency to 'Suggests:' in your DESCRIPTION file. See Renviron.bioc for more information.

raw results


Summary

Package: BioNAR
Version: 1.13.0
Command: /Library/Frameworks/R.framework/Resources/bin/R CMD check --install=check:BioNAR.install-out.txt --library=/Library/Frameworks/R.framework/Resources/library --no-vignettes --timings BioNAR_1.13.0.tar.gz
StartedAt: 2025-11-17 20:36:05 -0500 (Mon, 17 Nov 2025)
EndedAt: 2025-11-17 20:52:39 -0500 (Mon, 17 Nov 2025)
EllapsedTime: 993.4 seconds
RetCode: 1
Status:   ERROR  
CheckDir: BioNAR.Rcheck
Warnings: NA

Command output

##############################################################################
##############################################################################
###
### Running command:
###
###   /Library/Frameworks/R.framework/Resources/bin/R CMD check --install=check:BioNAR.install-out.txt --library=/Library/Frameworks/R.framework/Resources/library --no-vignettes --timings BioNAR_1.13.0.tar.gz
###
##############################################################################
##############################################################################


* using log directory ‘/Users/biocbuild/bbs-3.23-bioc/meat/BioNAR.Rcheck’
* using R Under development (unstable) (2025-10-21 r88958)
* using platform: x86_64-apple-darwin20
* R was compiled by
    Apple clang version 14.0.0 (clang-1400.0.29.202)
    GNU Fortran (GCC) 14.2.0
* running under: macOS Ventura 13.7.8
* using session charset: UTF-8
* using option ‘--no-vignettes’
* checking for file ‘BioNAR/DESCRIPTION’ ... OK
* this is package ‘BioNAR’ version ‘1.13.0’
* package encoding: UTF-8
* checking package namespace information ... OK
* checking package dependencies ... OK
* checking if this is a source package ... OK
* checking if there is a namespace ... OK
* checking for hidden files and directories ... OK
* checking for portable file names ... OK
* checking for sufficient/correct file permissions ... OK
* checking whether package ‘BioNAR’ can be installed ... OK
* checking installed package size ... INFO
  installed size is  6.8Mb
  sub-directories of 1Mb or more:
    extdata   6.1Mb
* checking package directory ... OK
* checking ‘build’ directory ... OK
* checking DESCRIPTION meta-information ... OK
* checking top-level files ... OK
* checking for left-over files ... OK
* checking index information ... OK
* checking package subdirectories ... OK
* checking code files for non-ASCII characters ... OK
* checking R files for syntax errors ... OK
* checking whether the package can be loaded ... OK
* checking whether the package can be loaded with stated dependencies ... OK
* checking whether the package can be unloaded cleanly ... OK
* checking whether the namespace can be loaded with stated dependencies ... OK
* checking whether the namespace can be unloaded cleanly ... OK
* checking dependencies in R code ... NOTE
Package in Depends field not imported from: ‘Rdpack’
  These packages need to be imported from (in the NAMESPACE file)
  for when this namespace is loaded but not attached.
There are ::: calls to the package's namespace in its code. A package
  almost never needs to use ::: for its own objects:
  ‘addNoise’ ‘gofs’ ‘highlightRate’ ‘plotSigmoid’
* checking S3 generic/method consistency ... OK
* checking replacement functions ... OK
* checking foreign function calls ... OK
* checking R code for possible problems ... OK
* checking Rd files ... OK
* checking Rd metadata ... OK
* checking Rd cross-references ... NOTE
Unknown package ‘clusterCons’ in Rd xrefs
* checking for missing documentation entries ... OK
* checking for code/documentation mismatches ... OK
* checking Rd \usage sections ... OK
* checking Rd contents ... OK
* checking for unstated dependencies in examples ... OK
* checking contents of ‘data’ directory ... OK
* checking data for non-ASCII characters ... OK
* checking LazyData ... OK
* checking data for ASCII and uncompressed saves ... OK
* checking files in ‘vignettes’ ... OK
* checking examples ... OK
Examples with CPU (user + system) or elapsed time > 5s
                           user system elapsed
calcEntropy               9.828  9.845  87.339
getCentralityMatrix       9.734  4.401  52.717
plotEntropy               9.836  4.240  59.558
addEdgeAtts              11.166  2.667  33.937
getGraphCentralityECDF    8.590  4.024  52.505
getEntropy                8.677  1.337  19.646
clusteringSummary         9.262  0.100   9.836
annotateTopOntoOVG        7.476  0.597  10.004
annotateGOont             5.263  1.281  14.135
runPermDisease            4.998  1.301  33.439
annotateSCHanno           5.333  0.506   9.742
annotateGoBP              4.643  0.614  13.014
normModularity            4.078  1.166  16.494
calcSparsness             4.562  0.674   6.719
annotateGoCC              3.505  0.399   7.401
annotateGoMF              3.264  0.441   7.606
getRandomGraphCentrality  1.205  1.741  50.133
getRobustness             0.974  1.346  25.000
plotBridgeness            0.777  0.675  12.116
FitDegree                 1.186  0.059   9.997
sampleDegBinnedGDA        0.403  0.361   6.449
* checking for unstated dependencies in ‘tests’ ... OK
* checking tests ...
  Running ‘testthat.R’
 ERROR
Running the tests in ‘tests/testthat.R’ failed.
Last 13 lines of output:
  ══ Skipped tests (2) ═══════════════════════════════════════════════════════════
  • On CRAN (2): 'test_bridgeness.R:12:1', 'test_bridgeness.R:66:1'
  
  ══ Failed tests ════════════════════════════════════════════════════════════════
  ── Failure ('test_bridgeness.R:101:5'): Norm Modularity ────────────────────────
  Expected `nm` to equal 0.009390085.
  Differences:
    `actual`: 0.0070
  `expected`: 0.0094
  
  
  [ FAIL 1 | WARN 0 | SKIP 2 | PASS 124 ]
  Error:
  ! Test failures.
  Execution halted
* checking for unstated dependencies in vignettes ... OK
* checking package vignettes ... OK
* checking running R code from vignettes ... SKIPPED
* checking re-building of vignette outputs ... SKIPPED
* checking PDF version of manual ... OK
* DONE

Status: 1 ERROR, 2 NOTEs
See
  ‘/Users/biocbuild/bbs-3.23-bioc/meat/BioNAR.Rcheck/00check.log’
for details.


Installation output

BioNAR.Rcheck/00install.out

##############################################################################
##############################################################################
###
### Running command:
###
###   /Library/Frameworks/R.framework/Resources/bin/R CMD INSTALL BioNAR
###
##############################################################################
##############################################################################


* installing to library ‘/Library/Frameworks/R.framework/Versions/4.6-x86_64/Resources/library’
* installing *source* package ‘BioNAR’ ...
** this is package ‘BioNAR’ version ‘1.13.0’
** using staged installation
** R
** data
*** moving datasets to lazyload DB
** inst
** byte-compile and prepare package for lazy loading
** help
*** installing help indices
** building package indices
** installing vignettes
** testing if installed package can be loaded from temporary location
** testing if installed package can be loaded from final location
** testing if installed package keeps a record of temporary installation path
* DONE (BioNAR)

Tests output

BioNAR.Rcheck/tests/testthat.Rout.fail


R Under development (unstable) (2025-10-21 r88958) -- "Unsuffered Consequences"
Copyright (C) 2025 The R Foundation for Statistical Computing
Platform: x86_64-apple-darwin20

R is free software and comes with ABSOLUTELY NO WARRANTY.
You are welcome to redistribute it under certain conditions.
Type 'license()' or 'licence()' for distribution details.

R is a collaborative project with many contributors.
Type 'contributors()' for more information and
'citation()' on how to cite R or R packages in publications.

Type 'demo()' for some demos, 'help()' for on-line help, or
'help.start()' for an HTML browser interface to help.
Type 'q()' to quit R.

> library(testthat)
> library(BioNAR)
Loading required package: igraph

Attaching package: 'igraph'

The following object is masked from 'package:testthat':

    compare

The following objects are masked from 'package:stats':

    decompose, spectrum

The following object is masked from 'package:base':

    union

Loading required package: poweRlaw
Loading required package: latex2exp
Loading required package: RSpectra
Loading required package: Rdpack



Attaching package: 'BioNAR'

The following object is masked from 'package:igraph':

    permute

> 
> test_check("BioNAR")
Saving _problems/test_bridgeness-101.R
[ FAIL 1 | WARN 0 | SKIP 2 | PASS 124 ]

══ Skipped tests (2) ═══════════════════════════════════════════════════════════
• On CRAN (2): 'test_bridgeness.R:12:1', 'test_bridgeness.R:66:1'

══ Failed tests ════════════════════════════════════════════════════════════════
── Failure ('test_bridgeness.R:101:5'): Norm Modularity ────────────────────────
Expected `nm` to equal 0.009390085.
Differences:
  `actual`: 0.0070
`expected`: 0.0094


[ FAIL 1 | WARN 0 | SKIP 2 | PASS 124 ]
Error:
! Test failures.
Execution halted

Example timings

BioNAR.Rcheck/BioNAR-Ex.timings

nameusersystemelapsed
FitDegree1.1860.0599.997
addEdgeAtts11.166 2.66733.937
annotateGOont 5.263 1.28114.135
annotateGeneNames0.4160.0430.988
annotateGoBP 4.643 0.61413.014
annotateGoCC3.5050.3997.401
annotateGoMF3.2640.4417.606
annotatePresynaptic1.6900.2003.945
annotateSCHanno5.3330.5069.742
annotateTopOntoOVG 7.476 0.59710.004
annotateVertex0.0030.0010.005
applpMatrixToGraph0.0010.0000.012
buildNetwork0.0020.0000.003
calcAllClustering3.4770.0453.915
calcBridgeness0.1200.0150.333
calcCentrality0.0980.0140.668
calcCentralityExternalDistances0.4430.0161.462
calcCentralityInternalDistances0.4370.0120.786
calcClustering0.0040.0010.016
calcDiseasePairs0.5310.0784.968
calcEntropy 9.828 9.84587.339
calcMembership0.0080.0060.075
calcReclusterMatrix0.0590.0450.523
calcSparsness4.5620.6746.719
clusterORA0.5110.2540.987
clusteringSummary9.2620.1009.836
degreeBinnedGDAs0.3360.1691.839
escapeAnnotation0.0000.0000.001
evalCentralitySignificance0.7420.2541.093
findLCC0.0050.0020.007
getAnnotationList0.0600.0050.068
getAnnotationVertexList0.0760.0150.093
getBridgeness0.0690.0080.122
getCentralityMatrix 9.734 4.40152.717
getClusterSubgraphByID0.0270.0030.032
getClustering0.0270.0020.029
getCommunityGraph0.0300.0030.034
getDType000
getDYNAMO0.0440.0060.049
getDiseases0.0000.0010.001
getEntropy 8.677 1.33719.646
getEntropyRate0.0060.0030.421
getGNP0.0260.0210.764
getGraphCentralityECDF 8.590 4.02452.505
getPA0.0230.0110.552
getRandomGraphCentrality 1.205 1.74150.133
getRobustness 0.974 1.34625.000
layoutByCluster0.1120.0811.958
layoutByRecluster0.1390.0661.804
makeConsensusMatrix0.4630.0842.018
makeMembership0.0020.0010.003
metlMatrix0.0110.0080.064
normModularity 4.078 1.16616.494
permute0.0010.0010.001
plotBridgeness 0.777 0.67512.116
plotEntropy 9.836 4.24059.558
prepareGDA0.3220.1410.550
recluster0.0400.0070.050
removeVertexTerm0.0040.0020.006
runPermDisease 4.998 1.30133.439
sampleDegBinnedGDA0.4030.3616.449
sampleGraphClust0.0430.0534.432
unescapeAnnotation0.0010.0010.012
zeroNA0.0000.0000.021