| Back to Multiple platform build/check report for BioC 3.23: simplified long |
|
This page was generated on 2025-11-21 11:39 -0500 (Fri, 21 Nov 2025).
| Hostname | OS | Arch (*) | R version | Installed pkgs |
|---|---|---|---|---|
| nebbiolo1 | Linux (Ubuntu 24.04.3 LTS) | x86_64 | R Under development (unstable) (2025-10-20 r88955) -- "Unsuffered Consequences" | 4829 |
| lconway | macOS 12.7.6 Monterey | x86_64 | R Under development (unstable) (2025-10-21 r88958) -- "Unsuffered Consequences" | 4602 |
| kjohnson3 | macOS 13.7.7 Ventura | arm64 | R Under development (unstable) (2025-11-04 r88984) -- "Unsuffered Consequences" | 4566 |
| Click on any hostname to see more info about the system (e.g. compilers) (*) as reported by 'uname -p', except on Windows and Mac OS X | ||||
| Package 216/2327 | Hostname | OS / Arch | INSTALL | BUILD | CHECK | BUILD BIN | ||||||||
| BioNAR 1.13.2 (landing page) Anatoly Sorokin
| nebbiolo1 | Linux (Ubuntu 24.04.3 LTS) / x86_64 | OK | OK | OK | |||||||||
| lconway | macOS 12.7.6 Monterey / x86_64 | OK | OK | OK | OK | |||||||||
| kjohnson3 | macOS 13.7.7 Ventura / arm64 | OK | OK | OK | OK | |||||||||
|
To the developers/maintainers of the BioNAR package: - Allow up to 24 hours (and sometimes 48 hours) for your latest push to git@git.bioconductor.org:packages/BioNAR.git to reflect on this report. See Troubleshooting Build Report for more information. - Use the following Renviron settings to reproduce errors and warnings. - If 'R CMD check' started to fail recently on the Linux builder(s) over a missing dependency, add the missing dependency to 'Suggests:' in your DESCRIPTION file. See Renviron.bioc for more information. |
| Package: BioNAR |
| Version: 1.13.2 |
| Command: /Library/Frameworks/R.framework/Resources/bin/R CMD check --install=check:BioNAR.install-out.txt --library=/Library/Frameworks/R.framework/Resources/library --no-vignettes --timings BioNAR_1.13.2.tar.gz |
| StartedAt: 2025-11-20 18:45:22 -0500 (Thu, 20 Nov 2025) |
| EndedAt: 2025-11-20 18:48:04 -0500 (Thu, 20 Nov 2025) |
| EllapsedTime: 161.9 seconds |
| RetCode: 0 |
| Status: OK |
| CheckDir: BioNAR.Rcheck |
| Warnings: 0 |
##############################################################################
##############################################################################
###
### Running command:
###
### /Library/Frameworks/R.framework/Resources/bin/R CMD check --install=check:BioNAR.install-out.txt --library=/Library/Frameworks/R.framework/Resources/library --no-vignettes --timings BioNAR_1.13.2.tar.gz
###
##############################################################################
##############################################################################
* using log directory ‘/Users/biocbuild/bbs-3.23-bioc/meat/BioNAR.Rcheck’
* using R Under development (unstable) (2025-11-04 r88984)
* using platform: aarch64-apple-darwin20
* R was compiled by
Apple clang version 16.0.0 (clang-1600.0.26.6)
GNU Fortran (GCC) 14.2.0
* running under: macOS Ventura 13.7.8
* using session charset: UTF-8
* using option ‘--no-vignettes’
* checking for file ‘BioNAR/DESCRIPTION’ ... OK
* this is package ‘BioNAR’ version ‘1.13.2’
* package encoding: UTF-8
* checking package namespace information ... OK
* checking package dependencies ... OK
* checking if this is a source package ... OK
* checking if there is a namespace ... OK
* checking for hidden files and directories ... OK
* checking for portable file names ... OK
* checking for sufficient/correct file permissions ... OK
* checking whether package ‘BioNAR’ can be installed ... OK
* checking installed package size ... INFO
installed size is 6.8Mb
sub-directories of 1Mb or more:
extdata 6.1Mb
* checking package directory ... OK
* checking ‘build’ directory ... OK
* checking DESCRIPTION meta-information ... OK
* checking top-level files ... OK
* checking for left-over files ... OK
* checking index information ... OK
* checking package subdirectories ... OK
* checking code files for non-ASCII characters ... OK
* checking R files for syntax errors ... OK
* checking whether the package can be loaded ... OK
* checking whether the package can be loaded with stated dependencies ... OK
* checking whether the package can be unloaded cleanly ... OK
* checking whether the namespace can be loaded with stated dependencies ... OK
* checking whether the namespace can be unloaded cleanly ... OK
* checking dependencies in R code ... NOTE
Package in Depends field not imported from: ‘Rdpack’
These packages need to be imported from (in the NAMESPACE file)
for when this namespace is loaded but not attached.
There are ::: calls to the package's namespace in its code. A package
almost never needs to use ::: for its own objects:
‘addNoise’ ‘gofs’ ‘highlightRate’ ‘plotSigmoid’
* checking S3 generic/method consistency ... OK
* checking replacement functions ... OK
* checking foreign function calls ... OK
* checking R code for possible problems ... OK
* checking Rd files ... OK
* checking Rd metadata ... OK
* checking Rd cross-references ... NOTE
Unknown package ‘clusterCons’ in Rd xrefs
* checking for missing documentation entries ... OK
* checking for code/documentation mismatches ... OK
* checking Rd \usage sections ... OK
* checking Rd contents ... OK
* checking for unstated dependencies in examples ... OK
* checking contents of ‘data’ directory ... OK
* checking data for non-ASCII characters ... OK
* checking LazyData ... OK
* checking data for ASCII and uncompressed saves ... OK
* checking files in ‘vignettes’ ... OK
* checking examples ... OK
Examples with CPU (user + system) or elapsed time > 5s
user system elapsed
addEdgeAtts 3.991 1.113 5.273
calcEntropy 4.193 0.834 5.286
* checking for unstated dependencies in ‘tests’ ... OK
* checking tests ...
Running ‘testthat.R’
OK
* checking for unstated dependencies in vignettes ... OK
* checking package vignettes ... OK
* checking running R code from vignettes ... SKIPPED
* checking re-building of vignette outputs ... SKIPPED
* checking PDF version of manual ... OK
* DONE
Status: 2 NOTEs
See
‘/Users/biocbuild/bbs-3.23-bioc/meat/BioNAR.Rcheck/00check.log’
for details.
BioNAR.Rcheck/00install.out
############################################################################## ############################################################################## ### ### Running command: ### ### /Library/Frameworks/R.framework/Resources/bin/R CMD INSTALL BioNAR ### ############################################################################## ############################################################################## * installing to library ‘/Library/Frameworks/R.framework/Versions/4.6-arm64/Resources/library’ * installing *source* package ‘BioNAR’ ... ** this is package ‘BioNAR’ version ‘1.13.2’ ** using staged installation ** R ** data *** moving datasets to lazyload DB ** inst ** byte-compile and prepare package for lazy loading ** help *** installing help indices ** building package indices ** installing vignettes ** testing if installed package can be loaded from temporary location ** testing if installed package can be loaded from final location ** testing if installed package keeps a record of temporary installation path * DONE (BioNAR)
BioNAR.Rcheck/tests/testthat.Rout
R Under development (unstable) (2025-11-04 r88984) -- "Unsuffered Consequences"
Copyright (C) 2025 The R Foundation for Statistical Computing
Platform: aarch64-apple-darwin20
R is free software and comes with ABSOLUTELY NO WARRANTY.
You are welcome to redistribute it under certain conditions.
Type 'license()' or 'licence()' for distribution details.
R is a collaborative project with many contributors.
Type 'contributors()' for more information and
'citation()' on how to cite R or R packages in publications.
Type 'demo()' for some demos, 'help()' for on-line help, or
'help.start()' for an HTML browser interface to help.
Type 'q()' to quit R.
> library(testthat)
> library(BioNAR)
Loading required package: igraph
Attaching package: 'igraph'
The following object is masked from 'package:testthat':
compare
The following objects are masked from 'package:stats':
decompose, spectrum
The following object is masked from 'package:base':
union
Loading required package: poweRlaw
Loading required package: latex2exp
Loading required package: RSpectra
Loading required package: Rdpack
Attaching package: 'BioNAR'
The following object is masked from 'package:igraph':
permute
>
> test_check("BioNAR")
[ FAIL 0 | WARN 0 | SKIP 2 | PASS 125 ]
══ Skipped tests (2) ═══════════════════════════════════════════════════════════
• On CRAN (2): 'test_bridgeness.R:12:1', 'test_bridgeness.R:66:1'
[ FAIL 0 | WARN 0 | SKIP 2 | PASS 125 ]
>
> proc.time()
user system elapsed
14.962 1.134 21.290
BioNAR.Rcheck/BioNAR-Ex.timings
| name | user | system | elapsed | |
| FitDegree | 0.316 | 0.016 | 1.915 | |
| addEdgeAtts | 3.991 | 1.113 | 5.273 | |
| annotateGOont | 1.998 | 0.372 | 2.439 | |
| annotateGeneNames | 0.102 | 0.008 | 0.110 | |
| annotateGoBP | 1.596 | 0.298 | 1.962 | |
| annotateGoCC | 1.111 | 0.337 | 1.511 | |
| annotateGoMF | 1.297 | 0.293 | 1.658 | |
| annotatePresynaptic | 0.483 | 0.145 | 0.662 | |
| annotateSCHanno | 2.158 | 0.500 | 2.756 | |
| annotateTopOntoOVG | 3.179 | 0.567 | 3.857 | |
| annotateVertex | 0.001 | 0.001 | 0.001 | |
| applpMatrixToGraph | 0.000 | 0.000 | 0.001 | |
| buildNetwork | 0.001 | 0.000 | 0.001 | |
| calcAllClustering | 1.988 | 0.006 | 2.000 | |
| calcBridgeness | 0.041 | 0.004 | 0.047 | |
| calcCentrality | 0.036 | 0.001 | 0.039 | |
| calcCentralityExternalDistances | 0.192 | 0.007 | 0.200 | |
| calcCentralityInternalDistances | 0.168 | 0.002 | 0.173 | |
| calcClustering | 0.001 | 0.001 | 0.001 | |
| calcDiseasePairs | 0.214 | 0.007 | 0.235 | |
| calcEntropy | 4.193 | 0.834 | 5.286 | |
| calcMembership | 0.002 | 0.000 | 0.003 | |
| calcReclusterMatrix | 0.013 | 0.000 | 0.013 | |
| calcSparsness | 1.857 | 0.529 | 2.555 | |
| clusterORA | 0.112 | 0.008 | 0.135 | |
| clusteringSummary | 4.556 | 0.012 | 4.607 | |
| degreeBinnedGDAs | 0.128 | 0.015 | 0.147 | |
| escapeAnnotation | 0.001 | 0.000 | 0.001 | |
| evalCentralitySignificance | 0.193 | 0.006 | 0.199 | |
| findLCC | 0.002 | 0.000 | 0.001 | |
| getAnnotationList | 0.019 | 0.002 | 0.020 | |
| getAnnotationVertexList | 0.030 | 0.004 | 0.034 | |
| getBridgeness | 0.024 | 0.001 | 0.026 | |
| getCentralityMatrix | 2.934 | 0.629 | 3.720 | |
| getClusterSubgraphByID | 0.006 | 0.000 | 0.007 | |
| getClustering | 0.007 | 0.001 | 0.007 | |
| getCommunityGraph | 0.007 | 0.000 | 0.008 | |
| getDType | 0.000 | 0.001 | 0.000 | |
| getDYNAMO | 0.012 | 0.000 | 0.013 | |
| getDiseases | 0 | 0 | 0 | |
| getEntropy | 3.634 | 0.920 | 4.716 | |
| getEntropyRate | 0.002 | 0.001 | 0.002 | |
| getGNP | 0.006 | 0.000 | 0.007 | |
| getGraphCentralityECDF | 3.038 | 0.527 | 3.650 | |
| getPA | 0.006 | 0.001 | 0.007 | |
| getRandomGraphCentrality | 0.186 | 0.012 | 4.361 | |
| getRobustness | 0.149 | 0.008 | 0.161 | |
| layoutByCluster | 0.039 | 0.001 | 0.040 | |
| layoutByRecluster | 0.045 | 0.001 | 0.046 | |
| makeConsensusMatrix | 0.148 | 0.008 | 0.162 | |
| makeMembership | 0.000 | 0.001 | 0.001 | |
| metlMatrix | 0.003 | 0.000 | 0.003 | |
| normModularity | 1.969 | 0.552 | 2.648 | |
| permute | 0 | 0 | 0 | |
| plotBridgeness | 0.172 | 0.006 | 0.181 | |
| plotEntropy | 3.553 | 0.937 | 4.627 | |
| prepareGDA | 0.085 | 0.007 | 0.093 | |
| recluster | 0.025 | 0.003 | 0.028 | |
| removeVertexTerm | 0.001 | 0.000 | 0.002 | |
| runPermDisease | 3.148 | 0.081 | 3.366 | |
| sampleDegBinnedGDA | 0.118 | 0.009 | 0.139 | |
| sampleGraphClust | 0.009 | 0.002 | 0.014 | |
| unescapeAnnotation | 0.000 | 0.001 | 0.000 | |
| zeroNA | 0.001 | 0.000 | 0.000 | |