Back to Multiple platform build/check report for BioC 3.23:   simplified   long
A[B]CDEFGHIJKLMNOPQRSTUVWXYZ

This page was generated on 2025-11-19 10:12 -0500 (Wed, 19 Nov 2025).

HostnameOSArch (*)R versionInstalled pkgs
nebbiolo1Linux (Ubuntu 24.04.3 LTS)x86_64R Under development (unstable) (2025-10-20 r88955) -- "Unsuffered Consequences" 4827
lconwaymacOS 12.7.6 Montereyx86_64R Under development (unstable) (2025-10-21 r88958) -- "Unsuffered Consequences" 4600
kjohnson3macOS 13.7.7 Venturaarm64R Under development (unstable) (2025-11-04 r88984) -- "Unsuffered Consequences" 4564
Click on any hostname to see more info about the system (e.g. compilers)      (*) as reported by 'uname -p', except on Windows and Mac OS X

Package 215/2325HostnameOS / ArchINSTALLBUILDCHECKBUILD BIN
BioNAR 1.13.0  (landing page)
Anatoly Sorokin
Snapshot Date: 2025-11-18 13:40 -0500 (Tue, 18 Nov 2025)
git_url: https://git.bioconductor.org/packages/BioNAR
git_branch: devel
git_last_commit: 77425df
git_last_commit_date: 2025-10-29 11:19:29 -0500 (Wed, 29 Oct 2025)
nebbiolo1Linux (Ubuntu 24.04.3 LTS) / x86_64  OK    OK    ERROR  
lconwaymacOS 12.7.6 Monterey / x86_64  OK    OK    ERROR    OK  
kjohnson3macOS 13.7.7 Ventura / arm64  OK    OK    ERROR    OK  


CHECK results for BioNAR on nebbiolo1

To the developers/maintainers of the BioNAR package:
- Allow up to 24 hours (and sometimes 48 hours) for your latest push to git@git.bioconductor.org:packages/BioNAR.git to reflect on this report. See Troubleshooting Build Report for more information.
- Use the following Renviron settings to reproduce errors and warnings.
- If 'R CMD check' started to fail recently on the Linux builder(s) over a missing dependency, add the missing dependency to 'Suggests:' in your DESCRIPTION file. See Renviron.bioc for more information.

raw results


Summary

Package: BioNAR
Version: 1.13.0
Command: /home/biocbuild/bbs-3.23-bioc/R/bin/R CMD check --install=check:BioNAR.install-out.txt --library=/home/biocbuild/bbs-3.23-bioc/R/site-library --timings BioNAR_1.13.0.tar.gz
StartedAt: 2025-11-18 22:20:19 -0500 (Tue, 18 Nov 2025)
EndedAt: 2025-11-18 22:28:43 -0500 (Tue, 18 Nov 2025)
EllapsedTime: 503.7 seconds
RetCode: 1
Status:   ERROR  
CheckDir: BioNAR.Rcheck
Warnings: NA

Command output

##############################################################################
##############################################################################
###
### Running command:
###
###   /home/biocbuild/bbs-3.23-bioc/R/bin/R CMD check --install=check:BioNAR.install-out.txt --library=/home/biocbuild/bbs-3.23-bioc/R/site-library --timings BioNAR_1.13.0.tar.gz
###
##############################################################################
##############################################################################


* using log directory ‘/home/biocbuild/bbs-3.23-bioc/meat/BioNAR.Rcheck’
* using R Under development (unstable) (2025-10-20 r88955)
* using platform: x86_64-pc-linux-gnu
* R was compiled by
    gcc (Ubuntu 13.3.0-6ubuntu2~24.04) 13.3.0
    GNU Fortran (Ubuntu 13.3.0-6ubuntu2~24.04) 13.3.0
* running under: Ubuntu 24.04.3 LTS
* using session charset: UTF-8
* checking for file ‘BioNAR/DESCRIPTION’ ... OK
* this is package ‘BioNAR’ version ‘1.13.0’
* package encoding: UTF-8
* checking package namespace information ... OK
* checking package dependencies ... OK
* checking if this is a source package ... OK
* checking if there is a namespace ... OK
* checking for hidden files and directories ... OK
* checking for portable file names ... OK
* checking for sufficient/correct file permissions ... OK
* checking whether package ‘BioNAR’ can be installed ... OK
* checking installed package size ... OK
* checking package directory ... OK
* checking ‘build’ directory ... OK
* checking DESCRIPTION meta-information ... OK
* checking top-level files ... OK
* checking for left-over files ... OK
* checking index information ... OK
* checking package subdirectories ... OK
* checking code files for non-ASCII characters ... OK
* checking R files for syntax errors ... OK
* checking whether the package can be loaded ... OK
* checking whether the package can be loaded with stated dependencies ... OK
* checking whether the package can be unloaded cleanly ... OK
* checking whether the namespace can be loaded with stated dependencies ... OK
* checking whether the namespace can be unloaded cleanly ... OK
* checking loading without being on the library search path ... OK
* checking dependencies in R code ... NOTE
Package in Depends field not imported from: ‘Rdpack’
  These packages need to be imported from (in the NAMESPACE file)
  for when this namespace is loaded but not attached.
There are ::: calls to the package's namespace in its code. A package
  almost never needs to use ::: for its own objects:
  ‘addNoise’ ‘gofs’ ‘highlightRate’ ‘plotSigmoid’
* checking S3 generic/method consistency ... OK
* checking replacement functions ... OK
* checking foreign function calls ... OK
* checking R code for possible problems ... OK
* checking Rd files ... OK
* checking Rd metadata ... OK
* checking Rd cross-references ... NOTE
Unknown package ‘clusterCons’ in Rd xrefs
* checking for missing documentation entries ... OK
* checking for code/documentation mismatches ... OK
* checking Rd \usage sections ... OK
* checking Rd contents ... OK
* checking for unstated dependencies in examples ... OK
* checking contents of ‘data’ directory ... OK
* checking data for non-ASCII characters ... OK
* checking LazyData ... OK
* checking data for ASCII and uncompressed saves ... OK
* checking files in ‘vignettes’ ... OK
* checking examples ... OK
Examples with CPU (user + system) or elapsed time > 5s
                           user system elapsed
clusteringSummary        11.766  0.011  11.778
calcEntropy               9.326  0.067   9.395
addEdgeAtts               8.632  0.141   8.781
plotEntropy               8.579  0.023   8.602
getCentralityMatrix       8.069  0.076   8.145
getEntropy                7.858  0.050   7.907
getGraphCentralityECDF    7.602  0.024   7.626
annotateTopOntoOVG        7.383  0.092   7.490
runPermDisease            6.174  0.002   6.176
annotateGoBP              5.044  0.513   5.559
FitDegree                 0.909  0.018   5.055
getRandomGraphCentrality  0.695  0.005  10.347
* checking for unstated dependencies in ‘tests’ ... OK
* checking tests ...
  Running ‘testthat.R’
 ERROR
Running the tests in ‘tests/testthat.R’ failed.
Last 13 lines of output:
  ══ Skipped tests (2) ═══════════════════════════════════════════════════════════
  • On CRAN (2): 'test_bridgeness.R:12:1', 'test_bridgeness.R:66:1'
  
  ══ Failed tests ════════════════════════════════════════════════════════════════
  ── Failure ('test_bridgeness.R:101:5'): Norm Modularity ────────────────────────
  Expected `nm` to equal 0.009390085.
  Differences:
    `actual`: 0.0070
  `expected`: 0.0094
  
  
  [ FAIL 1 | WARN 0 | SKIP 2 | PASS 124 ]
  Error:
  ! Test failures.
  Execution halted
* checking for unstated dependencies in vignettes ... OK
* checking package vignettes ... OK
* checking re-building of vignette outputs ... OK
* checking PDF version of manual ... OK
* DONE

Status: 1 ERROR, 2 NOTEs
See
  ‘/home/biocbuild/bbs-3.23-bioc/meat/BioNAR.Rcheck/00check.log’
for details.


Installation output

BioNAR.Rcheck/00install.out

##############################################################################
##############################################################################
###
### Running command:
###
###   /home/biocbuild/bbs-3.23-bioc/R/bin/R CMD INSTALL BioNAR
###
##############################################################################
##############################################################################


* installing to library ‘/home/biocbuild/bbs-3.23-bioc/R/site-library’
* installing *source* package ‘BioNAR’ ...
** this is package ‘BioNAR’ version ‘1.13.0’
** using staged installation
** R
** data
*** moving datasets to lazyload DB
** inst
** byte-compile and prepare package for lazy loading
** help
*** installing help indices
** building package indices
** installing vignettes
** testing if installed package can be loaded from temporary location
** testing if installed package can be loaded from final location
** testing if installed package keeps a record of temporary installation path
* DONE (BioNAR)

Tests output

BioNAR.Rcheck/tests/testthat.Rout.fail


R Under development (unstable) (2025-10-20 r88955) -- "Unsuffered Consequences"
Copyright (C) 2025 The R Foundation for Statistical Computing
Platform: x86_64-pc-linux-gnu

R is free software and comes with ABSOLUTELY NO WARRANTY.
You are welcome to redistribute it under certain conditions.
Type 'license()' or 'licence()' for distribution details.

R is a collaborative project with many contributors.
Type 'contributors()' for more information and
'citation()' on how to cite R or R packages in publications.

Type 'demo()' for some demos, 'help()' for on-line help, or
'help.start()' for an HTML browser interface to help.
Type 'q()' to quit R.

> library(testthat)
> library(BioNAR)
Loading required package: igraph

Attaching package: 'igraph'

The following object is masked from 'package:testthat':

    compare

The following objects are masked from 'package:stats':

    decompose, spectrum

The following object is masked from 'package:base':

    union

Loading required package: poweRlaw
Loading required package: latex2exp
Loading required package: RSpectra
Loading required package: Rdpack



Attaching package: 'BioNAR'

The following object is masked from 'package:igraph':

    permute

> 
> test_check("BioNAR")
Saving _problems/test_bridgeness-101.R
[ FAIL 1 | WARN 0 | SKIP 2 | PASS 124 ]

══ Skipped tests (2) ═══════════════════════════════════════════════════════════
• On CRAN (2): 'test_bridgeness.R:12:1', 'test_bridgeness.R:66:1'

══ Failed tests ════════════════════════════════════════════════════════════════
── Failure ('test_bridgeness.R:101:5'): Norm Modularity ────────────────────────
Expected `nm` to equal 0.009390085.
Differences:
  `actual`: 0.0070
`expected`: 0.0094


[ FAIL 1 | WARN 0 | SKIP 2 | PASS 124 ]
Error:
! Test failures.
Execution halted

Example timings

BioNAR.Rcheck/BioNAR-Ex.timings

nameusersystemelapsed
FitDegree0.9090.0185.055
addEdgeAtts8.6320.1418.781
annotateGOont4.1820.1514.335
annotateGeneNames0.2460.0010.247
annotateGoBP5.0440.5135.559
annotateGoCC3.3530.0463.400
annotateGoMF3.7990.0283.949
annotatePresynaptic1.9830.1182.101
annotateSCHanno4.8450.0404.887
annotateTopOntoOVG7.3830.0927.490
annotateVertex0.0030.0010.004
applpMatrixToGraph0.0020.0000.002
buildNetwork0.0030.0000.003
calcAllClustering4.7170.0034.724
calcBridgeness0.0700.0000.072
calcCentrality0.1120.0010.113
calcCentralityExternalDistances0.5230.0140.537
calcCentralityInternalDistances0.5180.0300.549
calcClustering0.0030.0010.004
calcDiseasePairs0.4930.0350.528
calcEntropy9.3260.0679.395
calcMembership0.0060.0000.005
calcReclusterMatrix0.0340.0000.034
calcSparsness3.7230.0003.723
clusterORA0.3590.0170.376
clusteringSummary11.766 0.01111.778
degreeBinnedGDAs0.2270.0100.237
escapeAnnotation0.0000.0010.001
evalCentralitySignificance0.5640.0180.582
findLCC0.0040.0010.004
getAnnotationList0.0670.0010.069
getAnnotationVertexList0.0780.0090.087
getBridgeness0.0620.0000.062
getCentralityMatrix8.0690.0768.145
getClusterSubgraphByID0.0210.0000.020
getClustering0.0220.0000.021
getCommunityGraph0.0220.0000.022
getDType0.0000.0000.001
getDYNAMO0.0330.0000.034
getDiseases000
getEntropy7.8580.0507.907
getEntropyRate0.0040.0000.004
getGNP0.0170.0010.018
getGraphCentralityECDF7.6020.0247.626
getPA0.020.000.02
getRandomGraphCentrality 0.695 0.00510.347
getRobustness0.4420.0030.445
layoutByCluster0.1150.0000.116
layoutByRecluster0.1000.0010.101
makeConsensusMatrix0.4860.0060.492
makeMembership0.0020.0010.003
metlMatrix0.0080.0000.008
normModularity4.2650.0214.286
permute000
plotBridgeness0.4510.0030.453
plotEntropy8.5790.0238.602
prepareGDA0.2320.0010.233
recluster0.0330.0010.035
removeVertexTerm0.0040.0010.005
runPermDisease6.1740.0026.176
sampleDegBinnedGDA0.3340.0030.337
sampleGraphClust0.0240.0010.025
unescapeAnnotation0.0010.0010.001
zeroNA0.0000.0000.001