rcellminerData 1.2.1 Augustin Luna , Vinodh Rajapakse
 | Snapshot Date: 2015-10-24 10:15:05 -0400 (Sat, 24 Oct 2015) |  | URL: https://hedgehog.fhcrc.org/bioc-data/trunk/experiment/pkgs/rcellminerData |  | Last Changed Rev: 3471 / Revision: 3473 |  | Last Changed Date: 2015-10-22 15:15:54 -0400 (Thu, 22 Oct 2015) |  
  | linux2.bioconductor.org  | Linux (Ubuntu 14.04.2 LTS) / x86_64  |  OK  |  OK  |  WARNINGS  |  |   | 
| windows2.bioconductor.org  | Windows Server 2012 R2 Enterprise SP1 (64-bit) / x64  |  OK  |  OK  |  WARNINGS  | [ OK ] |  | 
| morelia  | Mac OS X Mavericks (10.9.5) / x86_64  |  OK  |  OK  |  WARNINGS  |  OK  |  | 
##############################################################################
##############################################################################
###
### Running command:
###
###   cd rcellminerData.buildbin-libdir/rcellminerData && zip -r ../../rcellminerData_1.2.1.zip . & cd ../..
###
##############################################################################
##############################################################################
  adding: CITATION (188 bytes security) (deflated 44%)
  adding: data/ (256 bytes security) (stored 0%)
  adding: data/datalist (188 bytes security) (deflated 12%)
  adding: data/Rdata.rdb (188 bytes security) (deflated 1%)
  adding: data/Rdata.rds (188 bytes security) (stored 0%)
  adding: data/Rdata.rdx (188 bytes security) (stored 0%)
  adding: data-raw/ (256 bytes security) (stored 0%)
  adding: DESCRIPTION (188 bytes security) (deflated 43%)
  adding: doc/ (256 bytes security) (stored 0%)
  adding: doc/index.html (188 bytes security) (deflated 59%)
  adding: doc/rcellminerDataUsage.html (188 bytes security) (deflated 72%)
  adding: doc/rcellminerDataUsage.Rmd (188 bytes security) (deflated 59%)
  adding: extdata/ (256 bytes security) (stored 0%)
  adding: extdata/CellLineToOncoTree.txt (188 bytes security) (deflated 87%)
  adding: extdata/cellminer_1_6/ (256 bytes security) (stored 0%)
  adding: extdata/cellminer_1_6/DTP_NCI60.txt (188 bytes security) (deflated 72%)
  adding: extdata/cellminer_1_6/exome_gene_probeIds_mapping.txt (188 bytes security) (deflated 58%)
  adding: extdata/cellminer_1_6/GENE_QA_AVERAGES.txt (188 bytes security) (deflated 69%)
  adding: extdata/cellminer_1_6/GENE_QA_AVERAGES.xls (188 bytes security) (deflated 72%)
  adding: extdata/cellminer_1_6/GENE_ZSCORES.txt (188 bytes security) (deflated 68%)
  adding: extdata/cellminer_1_6/GI50.public.int1_6.Rdata (188 bytes security) (deflated 0%)
  adding: extdata/cellminer_1_6/nci60_cellline_metadata.xls (188 bytes security) (deflated 76%)
  adding: extdata/cellminer_1_6/NCI60_DNA__Combined_aCGH_gene_summary.txt (188 bytes security) (deflated 69%)
  adding: extdata/cellminer_1_6/NCI60_DNA__Exome_Seq_none.txt (188 bytes security) (deflated 81%)
  adding: extdata/cellminer_1_6/nci60_Protein__Lysate_Array_log2.txt (188 bytes security) (deflated 71%)
  adding: extdata/cellminer_1_6/NCI60_RNA__Agilent_Human_microRNA_(V2)_GeneSpringGX.txt (188 bytes security) (deflated 74%)
  adding: extdata/make_rcellminerdata.R (188 bytes security) (deflated 80%)
  adding: help/ (256 bytes security) (stored 0%)
  adding: help/aliases.rds (188 bytes security) (stored 0%)
  adding: help/AnIndex (188 bytes security) (deflated 33%)
  adding: help/paths.rds (188 bytes security) (stored 0%)
  adding: help/rcellminerData.rdb (188 bytes security) (stored 0%)
  adding: help/rcellminerData.rdx (188 bytes security) (stored 0%)
  adding: html/ (256 bytes security) (stored 0%)
  adding: html/00Index.html (188 bytes security) (deflated 54%)
  adding: html/R.css (188 bytes security) (deflated 75%)
  adding: INDEX (188 bytes security) (deflated 45%)
  adding: MD5 (188 bytes security) (deflated 46%)
  adding: Meta/ (256 bytes security) (stored 0%)
  adding: Meta/data.rds (188 bytes security) (stored 0%)
  adding: Meta/hsearch.rds (188 bytes security) (stored 0%)
  adding: Meta/links.rds (188 bytes security) (stored 0%)
  adding: Meta/nsInfo.rds (188 bytes security) (stored 0%)
  adding: Meta/package.rds (188 bytes security) (stored 0%)
  adding: Meta/Rd.rds (188 bytes security) (stored 0%)
  adding: Meta/vignette.rds (188 bytes security) (stored 0%)
  adding: NAMESPACE (188 bytes security) (stored 0%)
  adding: NEWS (188 bytes security) (deflated 19%)
  adding: tests/ (256 bytes security) (stored 0%)
  adding: tests/test_rcellminerData.R (188 bytes security) (stored 0%)