rcellminerData 1.2.1 Augustin Luna , Vinodh Rajapakse
 | Snapshot Date: 2015-10-24 10:15:05 -0400 (Sat, 24 Oct 2015) |  | URL: https://hedgehog.fhcrc.org/bioc-data/trunk/experiment/pkgs/rcellminerData |  | Last Changed Rev: 3471 / Revision: 3473 |  | Last Changed Date: 2015-10-22 15:15:54 -0400 (Thu, 22 Oct 2015) |  
  | linux2.bioconductor.org  | Linux (Ubuntu 14.04.2 LTS) / x86_64  |  OK  | [ OK ] |  WARNINGS  |  |   | 
| windows2.bioconductor.org  | Windows Server 2012 R2 Enterprise SP1 (64-bit) / x64  |  OK  |  OK  |  WARNINGS  |  OK  |  | 
| morelia  | Mac OS X Mavericks (10.9.5) / x86_64  |  OK  |  OK  |  WARNINGS  |  OK  |  | 
##############################################################################
##############################################################################
###
### Running command:
###
###   /home/biocbuild/bbs-3.3-bioc/R/bin/R CMD build --keep-empty-dirs --no-resave-data rcellminerData
###
##############################################################################
##############################################################################
* checking for file ‘rcellminerData/DESCRIPTION’ ... OK
* preparing ‘rcellminerData’:
* checking DESCRIPTION meta-information ... OK
* installing the package to build vignettes
* creating vignettes ... OK
* checking for LF line-endings in source and make files
* checking for empty or unneeded directories
WARNING: directory ‘rcellminerData/inst/data-raw’ is empty
* looking to see if a ‘data/datalist’ file should be added
* building ‘rcellminerData_1.2.1.tar.gz’